BEGIN:VCALENDAR
VERSION:2.0
PRODID:-//ATI Vancouver - ECPv6.15.16//NONSGML v1.0//EN
CALSCALE:GREGORIAN
METHOD:PUBLISH
X-WR-CALNAME:ATI Vancouver
X-ORIGINAL-URL:https://ativancouver.ca
X-WR-CALDESC:Events for ATI Vancouver
REFRESH-INTERVAL;VALUE=DURATION:PT1H
X-Robots-Tag:noindex
X-PUBLISHED-TTL:PT1H
BEGIN:VTIMEZONE
TZID:America/Vancouver
BEGIN:DAYLIGHT
TZOFFSETFROM:-0800
TZOFFSETTO:-0700
TZNAME:PDT
DTSTART:20220313T100000
END:DAYLIGHT
BEGIN:STANDARD
TZOFFSETFROM:-0700
TZOFFSETTO:-0800
TZNAME:PST
DTSTART:20221106T090000
END:STANDARD
BEGIN:DAYLIGHT
TZOFFSETFROM:-0800
TZOFFSETTO:-0700
TZNAME:PDT
DTSTART:20230312T100000
END:DAYLIGHT
BEGIN:STANDARD
TZOFFSETFROM:-0700
TZOFFSETTO:-0800
TZNAME:PST
DTSTART:20231105T090000
END:STANDARD
BEGIN:DAYLIGHT
TZOFFSETFROM:-0800
TZOFFSETTO:-0700
TZNAME:PDT
DTSTART:20240310T100000
END:DAYLIGHT
BEGIN:STANDARD
TZOFFSETFROM:-0700
TZOFFSETTO:-0800
TZNAME:PST
DTSTART:20241103T090000
END:STANDARD
END:VTIMEZONE
BEGIN:VEVENT
DTSTART;TZID=America/Vancouver:20230210T190000
DTEND;TZID=America/Vancouver:20230210T235900
DTSTAMP:20260419T214127
CREATED:20230203T075624Z
LAST-MODIFIED:20230222T203005Z
UID:10000210-1676055600-1676073540@ativancouver.ca
SUMMARY:Bollywood Valentine's Night - 2023
DESCRIPTION:A social evening with Bollywood musical programmes. Special FIVE (5 Local Singers from Vancouver)\nBuffet Menu\, 1 Free Drink\, Raffle Prizes\, Free Parking.
URL:https://ativancouver.ca/event/bollywood-valentines-night-2023/
LOCATION:Ultimate Banquet Hall\, 8072 120 St #200\, Surrey\, BC\, V3W 3N3\, Canada
CATEGORIES:Community,Food & Drink,Music
ATTACH;FMTTYPE=image/jpeg:https://ativancouver.ca/wp-content/uploads/2023/02/valentines-day-party-ticket-2-1uhijn.jpg
ORGANIZER;CN="Doon Entertainment Group":MAILTO:doonentertainmentgroup@gmail.com
END:VEVENT
END:VCALENDAR