BEGIN:VCALENDAR
VERSION:2.0
PRODID:-//ATI Vancouver - ECPv6.15.16//NONSGML v1.0//EN
CALSCALE:GREGORIAN
METHOD:PUBLISH
X-WR-CALNAME:ATI Vancouver
X-ORIGINAL-URL:https://ativancouver.ca
X-WR-CALDESC:Events for ATI Vancouver
REFRESH-INTERVAL;VALUE=DURATION:PT1H
X-Robots-Tag:noindex
X-PUBLISHED-TTL:PT1H
BEGIN:VTIMEZONE
TZID:America/Vancouver
BEGIN:DAYLIGHT
TZOFFSETFROM:-0800
TZOFFSETTO:-0700
TZNAME:PDT
DTSTART:20220313T100000
END:DAYLIGHT
BEGIN:STANDARD
TZOFFSETFROM:-0700
TZOFFSETTO:-0800
TZNAME:PST
DTSTART:20221106T090000
END:STANDARD
BEGIN:DAYLIGHT
TZOFFSETFROM:-0800
TZOFFSETTO:-0700
TZNAME:PDT
DTSTART:20230312T100000
END:DAYLIGHT
BEGIN:STANDARD
TZOFFSETFROM:-0700
TZOFFSETTO:-0800
TZNAME:PST
DTSTART:20231105T090000
END:STANDARD
BEGIN:DAYLIGHT
TZOFFSETFROM:-0800
TZOFFSETTO:-0700
TZNAME:PDT
DTSTART:20240310T100000
END:DAYLIGHT
BEGIN:STANDARD
TZOFFSETFROM:-0700
TZOFFSETTO:-0800
TZNAME:PST
DTSTART:20241103T090000
END:STANDARD
END:VTIMEZONE
BEGIN:VEVENT
DTSTART;TZID=America/Vancouver:20231104T183000
DTEND;TZID=America/Vancouver:20231104T210000
DTSTAMP:20260419T145702
CREATED:20231101T004137Z
LAST-MODIFIED:20231101T004230Z
UID:10000270-1699122600-1699131600@ativancouver.ca
SUMMARY:Divine Echoes: A Kirtan Concert Presented by Arts of Living\, Vancouver
DESCRIPTION:In this auspicious season of Navaratri\, Dushera and Diwali\, we invite you to: Divine Echoes: A Kirtan Concert & Satsang put on by the Art of Living Foundation (a non-profit centered around yoga\, meditation and music) \nTreat yourself to a one-of-a-kind kirtan concert and live album recording of original music composed by an ensemble of Vancouver’s finest Art of Living kirtan artists. \nLocation: The Terry Fox Theatre in Port Coquitlam\, Saturday\, November 4th\, 6:30PM\nTickets now on sale at $12/person \nBook your tickets online\nSee you there for an enchanting night of soulful chants and mantra compositions that will leave you in utter bliss!
URL:https://ativancouver.ca/event/divine-echoes-a-kirtan-concert/
LOCATION:Terry Fox Theatre\, 1260 Riverwood Gate\, Port Coquitlam\, BC\, V3B 7Z5\, Canada
CATEGORIES:Community,Music,Performing & Visual Arts
ATTACH;FMTTYPE=image/jpeg:https://ativancouver.ca/wp-content/uploads/2023/10/whatsapp-image-2023-10-31-at-3.48.03-pm.jpeg
END:VEVENT
END:VCALENDAR