BEGIN:VCALENDAR
VERSION:2.0
PRODID:-//ATI Vancouver - ECPv6.15.16//NONSGML v1.0//EN
CALSCALE:GREGORIAN
METHOD:PUBLISH
X-ORIGINAL-URL:https://ativancouver.ca
X-WR-CALDESC:Events for ATI Vancouver
REFRESH-INTERVAL;VALUE=DURATION:PT1H
X-Robots-Tag:noindex
X-PUBLISHED-TTL:PT1H
BEGIN:VTIMEZONE
TZID:America/Vancouver
BEGIN:DAYLIGHT
TZOFFSETFROM:-0800
TZOFFSETTO:-0700
TZNAME:PDT
DTSTART:20220313T100000
END:DAYLIGHT
BEGIN:STANDARD
TZOFFSETFROM:-0700
TZOFFSETTO:-0800
TZNAME:PST
DTSTART:20221106T090000
END:STANDARD
BEGIN:DAYLIGHT
TZOFFSETFROM:-0800
TZOFFSETTO:-0700
TZNAME:PDT
DTSTART:20230312T100000
END:DAYLIGHT
BEGIN:STANDARD
TZOFFSETFROM:-0700
TZOFFSETTO:-0800
TZNAME:PST
DTSTART:20231105T090000
END:STANDARD
BEGIN:DAYLIGHT
TZOFFSETFROM:-0800
TZOFFSETTO:-0700
TZNAME:PDT
DTSTART:20240310T100000
END:DAYLIGHT
BEGIN:STANDARD
TZOFFSETFROM:-0700
TZOFFSETTO:-0800
TZNAME:PST
DTSTART:20241103T090000
END:STANDARD
BEGIN:DAYLIGHT
TZOFFSETFROM:-0800
TZOFFSETTO:-0700
TZNAME:PDT
DTSTART:20250309T100000
END:DAYLIGHT
BEGIN:STANDARD
TZOFFSETFROM:-0700
TZOFFSETTO:-0800
TZNAME:PST
DTSTART:20251102T090000
END:STANDARD
END:VTIMEZONE
BEGIN:VEVENT
DTSTART;TZID=America/Vancouver:20240113T173000
DTEND;TZID=America/Vancouver:20240113T233000
DTSTAMP:20260420T041735
CREATED:20231214T000548Z
LAST-MODIFIED:20231214T190401Z
UID:10000280-1705167000-1705188600@ativancouver.ca
SUMMARY:BEACON - Makar Sankranti 2024 - Indian Events in Surrey
DESCRIPTION:Some call it Pongal\, Some call it Sankranti\, Some call it Lohri and\, Some might call it Makar Sankranti. We might be divided by our languages\, but united by our cultural roots. \nJoin the Biggest Indian Celebration of the Makar Sankranti festival on 13th January 2024\, Saturday\, at Riverside Banquet Hall\, Surrey\, Canada. \nEnjoy this multicultural and multilingual event with family and friends! An evening filled with entertainment\, arts\, food\, music and fun.\nTake advantage of the Early bird Ticket sale online at TicketsPi
URL:https://ativancouver.ca/event/beacon-makar-sankranti-2024-indian-events-in-surrey/
LOCATION:Riverside Signature Banquet Hall\, 13030 76 Ave\, Surrey\, British Columbia\, V3W2V6\, Canada
CATEGORIES:Community,Food & Drink,Music,Performing & Visual Arts
ATTACH;FMTTYPE=image/jpeg:https://ativancouver.ca/wp-content/uploads/2023/12/beacon-tickets-announcement.jpeg
ORGANIZER;CN="BEACON - Bharatiya Entertainment%2C Arts%2C Culture%2C Outreach Network":MAILTO:query.beacon@gmail.com
END:VEVENT
BEGIN:VEVENT
DTSTART;TZID=America/Vancouver:20230331T183000
DTEND;TZID=America/Vancouver:20230331T183000
DTSTAMP:20260420T041735
CREATED:20230131T024318Z
LAST-MODIFIED:20230222T202922Z
UID:10000208-1680287400-1680287400@ativancouver.ca
SUMMARY:Sham-E-Mehfil with Jugpreet Bajwa
DESCRIPTION:Sun Le Music Productions Inc is coming up with one of its kind music concert of 2023 named ‘Sham-E-Mehfil’ of Jugpreet Bajwa. He was a runner up of Zee TV SaReGaMaPa 2016 and also won numerous singing competitions globally. \nIn this program Jugpreet is going to sing with a live band geet and ghazals of legendary singers like Ustaad Mehndi Hassan Sahib\, Ustaad Ghulam Ali Sahib\, Ustad Jagjit Singh Ji\, Anup Jalota Ji\, Chandan Das Ji\, Pankaj Udhas Ji along with other yesteryear iconic singers. \nThe sumptuous food is included in the ticket price and there will also be a cash bar. We are looking forward to having all of you to celebrate and enjoy this scintillating musical experience. \nFor Tickets\, please email jugpreetbajwaofficial@gmail.com or call 778-552-2009
URL:https://ativancouver.ca/event/sham-e-mehfil-with-jugpreet-bajwa/
LOCATION:Riverside Signature Banquet Hall\, 13030 76 Ave\, Surrey\, British Columbia\, V3W2V6\, Canada
CATEGORIES:Community,Music,Performing & Visual Arts
ATTACH;FMTTYPE=image/jpeg:https://ativancouver.ca/wp-content/uploads/2023/01/sham-e-mehfil-poster.001.jpeg
ORGANIZER;CN="Sun Le Music Productions Inc.":MAILTO:jagbaj999@gmail.com
END:VEVENT
END:VCALENDAR