BEGIN:VCALENDAR
VERSION:2.0
PRODID:-//ATI Vancouver - ECPv6.15.16//NONSGML v1.0//EN
CALSCALE:GREGORIAN
METHOD:PUBLISH
X-ORIGINAL-URL:https://ativancouver.ca
X-WR-CALDESC:Events for ATI Vancouver
REFRESH-INTERVAL;VALUE=DURATION:PT1H
X-Robots-Tag:noindex
X-PUBLISHED-TTL:PT1H
BEGIN:VTIMEZONE
TZID:America/Vancouver
BEGIN:DAYLIGHT
TZOFFSETFROM:-0800
TZOFFSETTO:-0700
TZNAME:PDT
DTSTART:20220313T100000
END:DAYLIGHT
BEGIN:STANDARD
TZOFFSETFROM:-0700
TZOFFSETTO:-0800
TZNAME:PST
DTSTART:20221106T090000
END:STANDARD
BEGIN:DAYLIGHT
TZOFFSETFROM:-0800
TZOFFSETTO:-0700
TZNAME:PDT
DTSTART:20230312T100000
END:DAYLIGHT
BEGIN:STANDARD
TZOFFSETFROM:-0700
TZOFFSETTO:-0800
TZNAME:PST
DTSTART:20231105T090000
END:STANDARD
BEGIN:DAYLIGHT
TZOFFSETFROM:-0800
TZOFFSETTO:-0700
TZNAME:PDT
DTSTART:20240310T100000
END:DAYLIGHT
BEGIN:STANDARD
TZOFFSETFROM:-0700
TZOFFSETTO:-0800
TZNAME:PST
DTSTART:20241103T090000
END:STANDARD
END:VTIMEZONE
BEGIN:VEVENT
DTSTART;TZID=America/Vancouver:20231014T190000
DTEND;TZID=America/Vancouver:20231014T235900
DTSTAMP:20260419T154337
CREATED:20230528T200550Z
LAST-MODIFIED:20230822T215846Z
UID:10000246-1697310000-1697327940@ativancouver.ca
SUMMARY:EVENTIVAL PRESENTS FOR THE VERY FIRST TIME IN TRI-CITIES: BOLLY-DANDIYA NIGHT
DESCRIPTION:Dholi taro dhol baaje\, dhol baaje\, dhol baaje re!\n Exciting News! @everyone\n\nGet ready for the ultimate fusion of Bollywood and Dandiya at the first-ever Bollydandiya Night in Tri-cities\, brought to you by Eventival!\n\n Date: 14th October\n Time: 7:00 PM onwards.\n\n  \nJoin us for a night filled with high-energy music\, captivating dance performances\, and lots of fun!  \nHurry and secure your spot by grabbing your tickets now! Click on this link to purchase before they are sold out. \nFor sponsorship enquiries please email eventivalholdings@gmail.com Or call us at 778-951-5172/ 778-789-2143 \nGet ready to dance the night away in true Bollywood style! See you all there!  \n\n 
URL:https://ativancouver.ca/event/bolly-dandiya-night-in-tri-cities/
LOCATION:Port Moody Recreation Complex\, British Columbia\, Canada
CATEGORIES:Community,Food & Drink,Music
ATTACH;FMTTYPE=image/jpeg:https://ativancouver.ca/wp-content/uploads/2023/05/dandiya-night-port-moody.jpeg
ORGANIZER;CN="Eventival":MAILTO:eventivalholdings@gmail.com
END:VEVENT
END:VCALENDAR