BEGIN:VCALENDAR
VERSION:2.0
PRODID:-//ATI Vancouver - ECPv6.15.16//NONSGML v1.0//EN
CALSCALE:GREGORIAN
METHOD:PUBLISH
X-WR-CALNAME:ATI Vancouver
X-ORIGINAL-URL:https://ativancouver.ca
X-WR-CALDESC:Events for ATI Vancouver
REFRESH-INTERVAL;VALUE=DURATION:PT1H
X-Robots-Tag:noindex
X-PUBLISHED-TTL:PT1H
BEGIN:VTIMEZONE
TZID:America/Vancouver
BEGIN:DAYLIGHT
TZOFFSETFROM:-0800
TZOFFSETTO:-0700
TZNAME:PDT
DTSTART:20220313T100000
END:DAYLIGHT
BEGIN:STANDARD
TZOFFSETFROM:-0700
TZOFFSETTO:-0800
TZNAME:PST
DTSTART:20221106T090000
END:STANDARD
BEGIN:DAYLIGHT
TZOFFSETFROM:-0800
TZOFFSETTO:-0700
TZNAME:PDT
DTSTART:20230312T100000
END:DAYLIGHT
BEGIN:STANDARD
TZOFFSETFROM:-0700
TZOFFSETTO:-0800
TZNAME:PST
DTSTART:20231105T090000
END:STANDARD
BEGIN:DAYLIGHT
TZOFFSETFROM:-0800
TZOFFSETTO:-0700
TZNAME:PDT
DTSTART:20240310T100000
END:DAYLIGHT
BEGIN:STANDARD
TZOFFSETFROM:-0700
TZOFFSETTO:-0800
TZNAME:PST
DTSTART:20241103T090000
END:STANDARD
BEGIN:DAYLIGHT
TZOFFSETFROM:-0800
TZOFFSETTO:-0700
TZNAME:PDT
DTSTART:20250309T100000
END:DAYLIGHT
BEGIN:STANDARD
TZOFFSETFROM:-0700
TZOFFSETTO:-0800
TZNAME:PST
DTSTART:20251102T090000
END:STANDARD
END:VTIMEZONE
BEGIN:VEVENT
DTSTART;TZID=America/Vancouver:20240928T183000
DTEND;TZID=America/Vancouver:20240928T223000
DTSTAMP:20260425T063930
CREATED:20240731T055419Z
LAST-MODIFIED:20240731T055538Z
UID:10000339-1727548200-1727562600@ativancouver.ca
SUMMARY:13th Annual Mushtari Begum Festival of Indian Classical Music and Dance in New Westminster\, BC
DESCRIPTION:On the evening of September 28th 2024 the Massey Theatre will be transformed into an ethereal courtyard\, immersing audiences into the timeless and ancient forms of Indian Classical music and dance. Founded by New Westminster’s globally recognized Cassius Khan and Amika Kushwaha\, the 13th Annual Mushtari Begum Festival of Indian Classical Music and Dance\, which is a tribute to his guru\, the late Ghazal Queen Mushtari Begum\, is inviting you to experience a journey of emotions through these rare classical arts performed live. \nSome of the finest Canadian and Indian artists will showcase their explosive talents at this one of a kind festival. Headlining performances will be given by Western Canadian Music Award nominees Cassius Khan and Amika Kushwaha. Cassius Khan will showcase his trademark mastery of singing Ghazals while simultaneously playing the Tabla\, and the melodious and graceful Amika Kushwaha will serenade all with her sonorous and melodious Harmonium. The graceful and powerful Kathak dancer Prajakta Potnis Trehan will enthrall the audience with her difficult and complex Kathak performance alongside the ever amazing Baljit Singh’s sonorous and haunting Dilruba. The thunderous Mridangam artist Keerthy Raghavany Raghavan will delight the audience with the Karnatic classical nightingale vocalist Remya Rajiv and the melodious Karnatic Violinist Shriram Rajagopalan with their traditional South Indian Classical music performance. \nEach artist will perform exquisite and traditional numbers in their respective art forms. Such will be the passion and enchantment they create\, intoxicating the spirit with melodies and rhythms\, that undoubtedly\, your Ears will begin to see and the Eyes listen! \nTickets are on sale at the Massey Theatre box office in New Westminster. For more information on the Mushtari Begum Festival of Indian Classical Music and Dance\, please contact the organizer\, Cassius Khan at Cassius@CassiusKhan.com or by phone at 604 375 6515
URL:https://ativancouver.ca/event/13th-annual-mushtari-begum-festival-of-indian-classical-music-and-dance-in-new-westminster-bc/
LOCATION:Massey Theatre New Westminster\, 735 8th Ave\, New Westminster\, British Columbia\, V3M 2R2\, Canada
CATEGORIES:Community
ATTACH;FMTTYPE=image/jpeg:https://ativancouver.ca/wp-content/uploads/2024/07/447995146_1055902143205783_1374357367722849218_n.jpg
ORGANIZER;CN="Mushtari Begum Festival":MAILTO:cassius@cassiuskhan.com
END:VEVENT
BEGIN:VEVENT
DTSTART;TZID=America/Vancouver:20240330T190000
DTEND;TZID=America/Vancouver:20240330T220000
DTSTAMP:20260425T063930
CREATED:20240207T061359Z
LAST-MODIFIED:20240207T061359Z
UID:10000298-1711825200-1711836000@ativancouver.ca
SUMMARY:Harsh Gujral Canada Tour 2024 - Jo Bolta Hai Wahi Hota Hai - Vancouver
DESCRIPTION:Harsh Gujral Canada Tour 2024 – Jo Bolta Hai Wahi Hota Hai – Vancouver \nHarsh Gujral who’s also known as “Sasta Vicky Kaushal” is all set to perform for the first time in Vancouver this time with hi brand new material “Jo Bolta Hai Wahi Hota Hai”. Grab your front seats for an ultimate standup comedy experience and crowd work. \nHarsh Gujral is a Dabangg guy from Kanpur who cracks jokes on his life experiences. With a strong personality he also has strong comedy sets to tickle your funny bones. It takes exemplary courage to sit in the first two rows of a Harsh Gujral show because he will get you with his highly witty yet charming style. \nEvent Date: 30th March 2024 \nDoors Open : 7:00 PM EST \nShow Start: 8:00 PM EST \nShow End: 10:00 PM EST \nLocation: Massey Theatre 735 8th Ave New Westminster BC V3M 2R2 \nAge: 16+ Only \nContact: 647 370 9996 for group bookings and sponsorships.
URL:https://ativancouver.ca/event/harsh-gujral-canada-tour-2024-jo-bolta-hai-wahi-hota-hai-vancouver/
LOCATION:Massey Theatre New Westminster\, 735 8th Ave\, New Westminster\, British Columbia\, V3M 2R2\, Canada
CATEGORIES:Community,Performing & Visual Arts,Standup Comedy
ATTACH;FMTTYPE=image/png:https://ativancouver.ca/wp-content/uploads/2024/02/vancouver-landscape-1.png
ORGANIZER;CN="Ekak Entertainment":MAILTO:ekakevents@gmail.com
END:VEVENT
BEGIN:VEVENT
DTSTART;TZID=America/Vancouver:20230312T180000
DTEND;TZID=America/Vancouver:20230312T230000
DTSTAMP:20260425T063930
CREATED:20230117T220646Z
LAST-MODIFIED:20230208T071448Z
UID:10000200-1678644000-1678662000@ativancouver.ca
SUMMARY:The Legends in Vancouver
DESCRIPTION:KVP Entertainers presents The Legends – A Musical Tribute to Shammi Kapoor\, Dev Anand & Rajendra Kumar\nSIXTIES was the ‘ Golden Era Of Hindi Film Music ‘ and Shammi Kapoor \, Dev Anand & Rajendra Kumar were the most popular film stars with almost every song picturized on them still playing and appreciated even today . Be it Mohammed Rafi \, Kishore Kumar \, Lata Mangeshkar \, Asha Bhosle \, Mukesh or Hemant Kumar \, all songs sung by them are still the choice of generations and that’s why KVP ENTERTAINERS first offering of 2023 is a tribute to THE LEGENDS \, whose music will come alive on SUNDAY \, MARCH 12th\,2023 at 6 PM at the MASSEY THEATRE \, NEW WESTMINSTER for what promises to be the ‘ First Bollywood Concert of 2023 ‘ . The much respected and highly talented Singer \, Composer & Arranger JOLLY MUKHERJEE is bringing some of the finest Bollywood singers like SARRIKA SINGH \, SHRIKANT NARAYAN & P.GANESH \, along with the very well known musicians to take you back to the memories of the favourite stars and recreate those evergreen songs which will make you sing \, cry and dance during the three hour long concert. \nThe Legends in Vancouver\nTickets at $ 22\,32 \, 42 \, 52 & VIP are now available at KVP Entertainers ( #207-8268-120 St.\, Surrey ) or call Kamal Sharma at (604)833-1977 and can be bought online from www.ticketsnw.ca or call (604)521-5050 \nTHE LEGENDS IN VANCOUVER\nMassey Theatre\n735-8th Ave.\, New Westminster\nV3M 2R2 (604)521-5050 \n 
URL:https://ativancouver.ca/event/the-legends-in-vancouver/
LOCATION:Massey Theatre New Westminster\, 735 8th Ave\, New Westminster\, British Columbia\, V3M 2R2\, Canada
CATEGORIES:Community,Music,Performing & Visual Arts
ATTACH;FMTTYPE=image/jpeg:https://ativancouver.ca/wp-content/uploads/2023/01/the_legends_in_vancouver_cover.jpg
ORGANIZER;CN="KVP Entertainers":MAILTO:kvp_kamal@msn.com
END:VEVENT
BEGIN:VEVENT
DTSTART;TZID=America/Vancouver:20230310T200000
DTEND;TZID=America/Vancouver:20230310T220000
DTSTAMP:20260425T063930
CREATED:20230308T180605Z
LAST-MODIFIED:20230308T180837Z
UID:10000225-1678478400-1678485600@ativancouver.ca
SUMMARY:Millennial Events Corp. Presents Oh Hello! by Rahul Dua - Canada Tour
DESCRIPTION:PRESENTED BY MILLENNIAL EVENTS \nShark Tank season 2 host one of the best performers on Amazon Prime Video`s Comicstaan S 01 Rahul Dua is one of the brightest young comics in the country today. Combining small town charm with big city disillusionment\, Rahul’s comedy is as funny as it is relevant. And with a beard to match. \nDua is a man on a mission With delivery that is measured and jokes that are heartfelt\, Dua has made a name for himself and how\, with having done over a 100 shows in less than a year He sometimes wishes that his Engineering and MBA stints were as good as his jokes\, but guess one thing had to not work for the other to. He wants to find the funny and the awkward in everything but usually the funny and the awkward find him first. He likes Mango Shake and Harlem Shake \nBuy Tickets Online\nTickets are Non-Refundable. Patrons with mobility challenges are encouraged to contact us for seating advice (604) 521-5050\, admin@ticketsnw.ca
URL:https://ativancouver.ca/event/millennial-events-corp-presents-oh-hello-by-rahul-dua-canada-tour/
LOCATION:Massey Theatre New Westminster\, 735 8th Ave\, New Westminster\, British Columbia\, V3M 2R2\, Canada
CATEGORIES:Standup Comedy
ATTACH;FMTTYPE=image/png:https://ativancouver.ca/wp-content/uploads/2023/03/whatsapp-image-2023-02-28-at-1.35.38-pm.png
END:VEVENT
END:VCALENDAR