BEGIN:VCALENDAR
VERSION:2.0
PRODID:-//ATI Vancouver - ECPv6.15.16//NONSGML v1.0//EN
CALSCALE:GREGORIAN
METHOD:PUBLISH
X-ORIGINAL-URL:https://ativancouver.ca
X-WR-CALDESC:Events for ATI Vancouver
REFRESH-INTERVAL;VALUE=DURATION:PT1H
X-Robots-Tag:noindex
X-PUBLISHED-TTL:PT1H
BEGIN:VTIMEZONE
TZID:America/Vancouver
BEGIN:DAYLIGHT
TZOFFSETFROM:-0800
TZOFFSETTO:-0700
TZNAME:PDT
DTSTART:20210314T100000
END:DAYLIGHT
BEGIN:STANDARD
TZOFFSETFROM:-0700
TZOFFSETTO:-0800
TZNAME:PST
DTSTART:20211107T090000
END:STANDARD
BEGIN:DAYLIGHT
TZOFFSETFROM:-0800
TZOFFSETTO:-0700
TZNAME:PDT
DTSTART:20220313T100000
END:DAYLIGHT
BEGIN:STANDARD
TZOFFSETFROM:-0700
TZOFFSETTO:-0800
TZNAME:PST
DTSTART:20221106T090000
END:STANDARD
BEGIN:DAYLIGHT
TZOFFSETFROM:-0800
TZOFFSETTO:-0700
TZNAME:PDT
DTSTART:20230312T100000
END:DAYLIGHT
BEGIN:STANDARD
TZOFFSETFROM:-0700
TZOFFSETTO:-0800
TZNAME:PST
DTSTART:20231105T090000
END:STANDARD
BEGIN:DAYLIGHT
TZOFFSETFROM:-0800
TZOFFSETTO:-0700
TZNAME:PDT
DTSTART:20240310T100000
END:DAYLIGHT
BEGIN:STANDARD
TZOFFSETFROM:-0700
TZOFFSETTO:-0800
TZNAME:PST
DTSTART:20241103T090000
END:STANDARD
END:VTIMEZONE
BEGIN:VEVENT
DTSTART;TZID=America/Vancouver:20230317T170000
DTEND;TZID=America/Vancouver:20230317T230000
DTSTAMP:20260425T034209
CREATED:20230225T002202Z
LAST-MODIFIED:20230315T162311Z
UID:10000220-1679072400-1679094000@ativancouver.ca
SUMMARY:UniqueYou to celebrate International Women's Day 2023
DESCRIPTION:Happyness Wellness Community Resources Society are organizing the UniqueYou 2003 event to celebrate International Women’s Day in partnership with the Dhot Group and Honeybay Accessories \nThe event is supported by ATI Vancouver and Manasvini Hindi Cultural Society as community partners. \nOur goal is to celebrate achievements of women and inspire/mentor other women to grow as well. This is a family event. We are inviting women and families from various diverse communities to celebrate this event together \nDate: March 17 2023 from 6 pm.\nLocation: Khanna Banquet Hall\, 11267 125a St #201\, Surrey\, BC V3V 8C5\nSponsorships & Tickets: Call Tarana Kaur 778-228-1756 or e-transfer $40 per person to musesickindia@gmail.com \n 
URL:https://ativancouver.ca/event/uniqueyou-to-celebrate-international-womens-day-2023/
LOCATION:Khanna Banquet Hall\, Surrey\, 11267 125a St #201\, Surrey\, British Columbia\, V3V 8C5\, Canada
CATEGORIES:Community,Music
ATTACH;FMTTYPE=image/jpeg:https://ativancouver.ca/wp-content/uploads/2023/02/womens-day-unique-you.jpg
ORGANIZER;CN="Happyness Wellness Community Resources Society":MAILTO:Happynesswellnesscrs@gmail.com
END:VEVENT
BEGIN:VEVENT
DTSTART;TZID=America/Vancouver:20230121T183000
DTEND;TZID=America/Vancouver:20230121T230000
DTSTAMP:20260425T034209
CREATED:20230103T205139Z
LAST-MODIFIED:20230123T063125Z
UID:10000188-1674325800-1674342000@ativancouver.ca
SUMMARY:Dil Se Dal Tak 2.0 by Band Synthesis
DESCRIPTION:Band Synthesis is happy to be back..!! This time it’s Bigger and Better with Dil Se Dil Tak # 2.0. Come and experience a great evening of Unplugged Bollywood music\, Delicious Indian food & company of friends\, Raffle Prizes\, DJ & Dance\, and much more… \nPurchase Tickets Online \nEvent Performers Featuring :\nChandni Hari – Vocalist | Kaushik Tilak – Keyboard & Vocalist | Vishwesh Iyer – Vocalist | Gurmukh – Guitar & Vocalist | Swaraj – Drums & Percussions \nEvent Sponsors & Supporters :\n\nNeeraj Kumar Real Estate Team\nAroGill Auto\nAnil Kumar Mortgages\nAmit Sipani Financial Services\nAnkur Merwaha Chartered Professional Accountant\nCube Law Corporation\n\nCommunity Partners:\n\nAll Things Indian (ATI) in Vancouver\nKalakar Junction Foundation\n\nDigital and Marketing Partners :\n\nTCI – The Creative Imprints\nAudio & DJ – Shalend\nPhotography – Aziz Ladha\n\nTickets:\nTickets are $25 for Kids (5-10yrs) and General $45 per person. Please purchase tickets online before they are sold out.
URL:https://ativancouver.ca/event/dil-se-dal-tak-2-0-by-band-synthesis-2/
LOCATION:Khanna Banquet Hall\, Surrey\, 11267 125a St #201\, Surrey\, British Columbia\, V3V 8C5\, Canada
CATEGORIES:Community,Food & Drink,Performing & Visual Arts
ATTACH;FMTTYPE=image/jpeg:https://ativancouver.ca/wp-content/uploads/2022/11/dil-se-dil-tak-2.jpg
ORGANIZER;CN="Band Sysnthesis":MAILTO:emailbandsynthesis@gmail.com
END:VEVENT
BEGIN:VEVENT
DTSTART;TZID=America/Vancouver:20221028T180000
DTEND;TZID=America/Vancouver:20221028T230000
DTSTAMP:20260425T034209
CREATED:20221008T030602Z
LAST-MODIFIED:20221020T011426Z
UID:10000062-1666980000-1666998000@ativancouver.ca
SUMMARY:Bharat Utsav by BKSP
DESCRIPTION:Mithas Aur Umang Bharat Utsav Ke Sang.. ‘Bharat Utsav’ a culmination of Bharatiya art\, culture\, civilization\, and literature presented by Bharatiya Kala Evam Sahitya Parishad (BKSP). \nAs per BKSP team\, all the profit from this event will go for the education of unprivileged and aadivaasee children who are been taught Indian culture and values. This time BKSP will be supporting Bal Vikas Vidyalaya\, Moradabad. \nOther Attractions:\n\nCultural Performances\nIndian Dance\nBharat Jano Quiz\nStreet Play\nDoor Prizes\nRaffle Draw\nDJ & Dance\nJewelry Stall\nDinner & Much more\n\n \n  \nDate & Time: Friday\, October 28th\, 2022; 6PM\nVenue: Khanna Banquet Hall\, Surrey\nTicket: Adult $40\, Kids (5-10 yrs) $30\, Below 5 yrs Free\nContact: E-transfer bkspcanada@gmail.com or call Dr Ajay Garg 604-362-2095\, Rachna Arora 604-657-9797\, Sonia Garcha 778-709-8084
URL:https://ativancouver.ca/event/bharat-utsav-by-bksp/
LOCATION:Khanna Banquet Hall\, Surrey\, 11267 125a St #201\, Surrey\, British Columbia\, V3V 8C5\, Canada
CATEGORIES:Community
ATTACH;FMTTYPE=image/jpeg:https://ativancouver.ca/wp-content/uploads/2022/10/Bharat_Utsav_BKSP_2022.jpg
ORGANIZER;CN="BKSP - Bharatiya Kala Evam Sahitya Parishad":MAILTO:bkspcanada@gmail.com
END:VEVENT
END:VCALENDAR