BEGIN:VCALENDAR
VERSION:2.0
PRODID:-//ATI Vancouver - ECPv6.15.16//NONSGML v1.0//EN
CALSCALE:GREGORIAN
METHOD:PUBLISH
X-WR-CALNAME:ATI Vancouver
X-ORIGINAL-URL:https://ativancouver.ca
X-WR-CALDESC:Events for ATI Vancouver
REFRESH-INTERVAL;VALUE=DURATION:PT1H
X-Robots-Tag:noindex
X-PUBLISHED-TTL:PT1H
BEGIN:VTIMEZONE
TZID:America/Vancouver
BEGIN:DAYLIGHT
TZOFFSETFROM:-0800
TZOFFSETTO:-0700
TZNAME:PDT
DTSTART:20230312T100000
END:DAYLIGHT
BEGIN:STANDARD
TZOFFSETFROM:-0700
TZOFFSETTO:-0800
TZNAME:PST
DTSTART:20231105T090000
END:STANDARD
BEGIN:DAYLIGHT
TZOFFSETFROM:-0800
TZOFFSETTO:-0700
TZNAME:PDT
DTSTART:20240310T100000
END:DAYLIGHT
BEGIN:STANDARD
TZOFFSETFROM:-0700
TZOFFSETTO:-0800
TZNAME:PST
DTSTART:20241103T090000
END:STANDARD
BEGIN:DAYLIGHT
TZOFFSETFROM:-0800
TZOFFSETTO:-0700
TZNAME:PDT
DTSTART:20250309T100000
END:DAYLIGHT
BEGIN:STANDARD
TZOFFSETFROM:-0700
TZOFFSETTO:-0800
TZNAME:PST
DTSTART:20251102T090000
END:STANDARD
END:VTIMEZONE
BEGIN:VEVENT
DTSTART;TZID=America/Vancouver:20240711T190000
DTEND;TZID=America/Vancouver:20240711T230000
DTSTAMP:20260425T032105
CREATED:20240709T165910Z
LAST-MODIFIED:20240709T170426Z
UID:10000331-1720724400-1720738800@ativancouver.ca
SUMMARY:Bollywood Night in Langley
DESCRIPTION:Yuva Events presents Bollywood night in Langley on July 11\, 2024; 7pm onwards. \n\nCash Bar\nEntry $25\nAppetizers included\nAdults Only\n\nJoin us at the newly renovated space at the Indian Affairs Restaurant for a Bollywood DJ night! Come experience a culinary delight with spice of Bollywood Music!! \nE-transfer $25 to 604-780-5192 or 604-773-4566 to book your spot.
URL:https://ativancouver.ca/event/bollywood-night-in-langley/
LOCATION:Indian Affairs Indian Restaurant\, Langley\, 19653 Willowbrook\, Langley\, BC\, V2Y 1A5\, Canada
CATEGORIES:Community,Food & Drink,Music
ATTACH;FMTTYPE=image/jpeg:https://ativancouver.ca/wp-content/uploads/2024/07/bollywood-night-yuva-events-vancouver.jpg
END:VEVENT
END:VCALENDAR