BEGIN:VCALENDAR
VERSION:2.0
PRODID:-//ATI Vancouver - ECPv6.15.16//NONSGML v1.0//EN
CALSCALE:GREGORIAN
METHOD:PUBLISH
X-WR-CALNAME:ATI Vancouver
X-ORIGINAL-URL:https://ativancouver.ca
X-WR-CALDESC:Events for ATI Vancouver
REFRESH-INTERVAL;VALUE=DURATION:PT1H
X-Robots-Tag:noindex
X-PUBLISHED-TTL:PT1H
BEGIN:VTIMEZONE
TZID:America/Vancouver
BEGIN:DAYLIGHT
TZOFFSETFROM:-0800
TZOFFSETTO:-0700
TZNAME:PDT
DTSTART:20220313T100000
END:DAYLIGHT
BEGIN:STANDARD
TZOFFSETFROM:-0700
TZOFFSETTO:-0800
TZNAME:PST
DTSTART:20221106T090000
END:STANDARD
BEGIN:DAYLIGHT
TZOFFSETFROM:-0800
TZOFFSETTO:-0700
TZNAME:PDT
DTSTART:20230312T100000
END:DAYLIGHT
BEGIN:STANDARD
TZOFFSETFROM:-0700
TZOFFSETTO:-0800
TZNAME:PST
DTSTART:20231105T090000
END:STANDARD
BEGIN:DAYLIGHT
TZOFFSETFROM:-0800
TZOFFSETTO:-0700
TZNAME:PDT
DTSTART:20240310T100000
END:DAYLIGHT
BEGIN:STANDARD
TZOFFSETFROM:-0700
TZOFFSETTO:-0800
TZNAME:PST
DTSTART:20241103T090000
END:STANDARD
END:VTIMEZONE
BEGIN:VEVENT
DTSTART;TZID=America/Vancouver:20230318T170000
DTEND;TZID=America/Vancouver:20230318T220000
DTSTAMP:20260424T154717
CREATED:20230206T063039Z
LAST-MODIFIED:20230206T063039Z
UID:10000211-1679158800-1679176800@ativancouver.ca
SUMMARY:Rang Barse - Holi 2023
DESCRIPTION:Rang Barse – Happy Holi 2023\nDate & Time: Saturday\, March 18\, 2023; 5pm\nLocation: Dhaliwal Banquet Hall\, Surrey\nPrice: $35\nContacts: Archana Palta 778-706-8611\, Harpreet Sital 604-767-7203
URL:https://ativancouver.ca/event/rang-barse-holi-2023/
LOCATION:Dhaliwal Banquet Hall\, Surrey\, 8166 128 Street\, Surrey\, British Columbia\, V3W 1R1\, Canada
CATEGORIES:Community,Food & Drink,Music
ATTACH;FMTTYPE=image/jpeg:https://ativancouver.ca/wp-content/uploads/2023/02/rang_barse_holi_festival_2023.jpg
END:VEVENT
BEGIN:VEVENT
DTSTART;TZID=America/Vancouver:20230108T150000
DTEND;TZID=America/Vancouver:20230108T200000
DTSTAMP:20260424T154717
CREATED:20230105T034602Z
LAST-MODIFIED:20230105T040918Z
UID:10000197-1673190000-1673208000@ativancouver.ca
SUMMARY:Lohri Shgna Di 2023
DESCRIPTION:Desi Events Presents Lohri Shagna Di. Come celebrate your child’s first Lohri with us!\nHeritage Entertainment\nGold and Silver Jewellery Prizes\nChildren’s Entertainment\nFood and Fun\nCash Bar\nDinner and Dance\nAnd many more surprises. \nDate & Location:\nSunday\, January 8th\, 2023\nDhaliwal Banquet Hall\n8166 128th Street\, Surrey\, BC\nDoors Open at 3pm \nContact:\nFor information and to register your newborn for a free gift\nCall (604) 928-4173 or (306) 600-0021\nEmail: desievents1@gmail.com \nThis event is powered by Haani Records\, B Kaur Entertainment and Sanjha TV \n  \n\nThis upcoming South Asian event organized by Surrey women to break gender-based stigma. Lohri is a traditional festival originating from India to welcome new family members to a home. The birth of a baby is typically one of many happy milestones shared by families\, with celebrations to mark the arrival of a newborn. But in some South Asian cultures\, expressions of joy often only ensue if the baby born is a boy. For this reason\, a group of Surrey women are working to change things up by holding an inaugural event to recognize the births of baby girls in addition to boys. \nEvery individual who submits their baby’s name— regardless of gender — with the organizers of the Lohri festival will be recognized at the event with a gift. \nRead Full Story
URL:https://ativancouver.ca/event/lohri-shgna-di/
LOCATION:Dhaliwal Banquet Hall\, Surrey\, 8166 128 Street\, Surrey\, British Columbia\, V3W 1R1\, Canada
CATEGORIES:Community
ATTACH;FMTTYPE=image/jpeg:https://ativancouver.ca/wp-content/uploads/2023/01/lohri-shgna-di.jpg
ORGANIZER;CN="Desi Events":MAILTO:desievents1@gmail.com
END:VEVENT
END:VCALENDAR