BEGIN:VCALENDAR
VERSION:2.0
PRODID:-//ATI Vancouver - ECPv6.15.16//NONSGML v1.0//EN
CALSCALE:GREGORIAN
METHOD:PUBLISH
X-WR-CALNAME:ATI Vancouver
X-ORIGINAL-URL:https://ativancouver.ca
X-WR-CALDESC:Events for ATI Vancouver
REFRESH-INTERVAL;VALUE=DURATION:PT1H
X-Robots-Tag:noindex
X-PUBLISHED-TTL:PT1H
BEGIN:VTIMEZONE
TZID:America/Vancouver
BEGIN:DAYLIGHT
TZOFFSETFROM:-0800
TZOFFSETTO:-0700
TZNAME:PDT
DTSTART:20230312T100000
END:DAYLIGHT
BEGIN:STANDARD
TZOFFSETFROM:-0700
TZOFFSETTO:-0800
TZNAME:PST
DTSTART:20231105T090000
END:STANDARD
BEGIN:DAYLIGHT
TZOFFSETFROM:-0800
TZOFFSETTO:-0700
TZNAME:PDT
DTSTART:20240310T100000
END:DAYLIGHT
BEGIN:STANDARD
TZOFFSETFROM:-0700
TZOFFSETTO:-0800
TZNAME:PST
DTSTART:20241103T090000
END:STANDARD
BEGIN:DAYLIGHT
TZOFFSETFROM:-0800
TZOFFSETTO:-0700
TZNAME:PDT
DTSTART:20250309T100000
END:DAYLIGHT
BEGIN:STANDARD
TZOFFSETFROM:-0700
TZOFFSETTO:-0800
TZNAME:PST
DTSTART:20251102T090000
END:STANDARD
END:VTIMEZONE
BEGIN:VEVENT
DTSTART;TZID=America/Vancouver:20240420T100000
DTEND;TZID=America/Vancouver:20240420T160000
DTSTAMP:20260419T100436
CREATED:20240115T225220Z
LAST-MODIFIED:20240206T184509Z
UID:10000289-1713607200-1713628800@ativancouver.ca
SUMMARY:Badminton Tournament in TriCities by Eventival
DESCRIPTION:Eventival in partnership with Active Play Foundation presents 2024 Badminton Tournament. \nDate & Time: 20th April\, 2024; 10am-4pm \nVenue: Cosports Badminton Club\, 921 Seaborne Avenue\, Port Coquitlam\, British Columbia V3B 8B2 \nDoubles (Male) \nDoubles (Female) \nSingle (Youth 12-18) \nWhat to expect at this Badminton Tournament in Tri-Cities: \n\nCompetitive Matches\nNetworking Opportunities\nExciting Prizes and Giveaways and so much more!\n\nClick here to register. For further inquiries related to tickets\, tournaments\, or sponsorship Please call 7789515172\, 7787892143\, 7782460929 \nPlease note there will not be any refunds
URL:https://ativancouver.ca/event/badminton-tournament-in-tricities-by-eventival/
LOCATION:Cosports Port Coquitlam\, 921 Seaborne Avenue\, Port Coquitlam\, BC\, V3B 8B2\, Canada
ATTACH;FMTTYPE=image/jpeg:https://ativancouver.ca/wp-content/uploads/2024/01/badminton-tournament-eventival-port-coquitlam-tricities.jpg
ORGANIZER;CN="Eventival":MAILTO:eventivalholdings@gmail.com
END:VEVENT
END:VCALENDAR