BEGIN:VCALENDAR
VERSION:2.0
PRODID:-//ATI Vancouver - ECPv6.15.16//NONSGML v1.0//EN
CALSCALE:GREGORIAN
METHOD:PUBLISH
X-ORIGINAL-URL:https://ativancouver.ca
X-WR-CALDESC:Events for ATI Vancouver
REFRESH-INTERVAL;VALUE=DURATION:PT1H
X-Robots-Tag:noindex
X-PUBLISHED-TTL:PT1H
BEGIN:VTIMEZONE
TZID:America/Vancouver
BEGIN:DAYLIGHT
TZOFFSETFROM:-0800
TZOFFSETTO:-0700
TZNAME:PDT
DTSTART:20210314T100000
END:DAYLIGHT
BEGIN:STANDARD
TZOFFSETFROM:-0700
TZOFFSETTO:-0800
TZNAME:PST
DTSTART:20211107T090000
END:STANDARD
BEGIN:DAYLIGHT
TZOFFSETFROM:-0800
TZOFFSETTO:-0700
TZNAME:PDT
DTSTART:20220313T100000
END:DAYLIGHT
BEGIN:STANDARD
TZOFFSETFROM:-0700
TZOFFSETTO:-0800
TZNAME:PST
DTSTART:20221106T090000
END:STANDARD
BEGIN:DAYLIGHT
TZOFFSETFROM:-0800
TZOFFSETTO:-0700
TZNAME:PDT
DTSTART:20230312T100000
END:DAYLIGHT
BEGIN:STANDARD
TZOFFSETFROM:-0700
TZOFFSETTO:-0800
TZNAME:PST
DTSTART:20231105T090000
END:STANDARD
BEGIN:DAYLIGHT
TZOFFSETFROM:-0800
TZOFFSETTO:-0700
TZNAME:PDT
DTSTART:20240310T100000
END:DAYLIGHT
BEGIN:STANDARD
TZOFFSETFROM:-0700
TZOFFSETTO:-0800
TZNAME:PST
DTSTART:20241103T090000
END:STANDARD
END:VTIMEZONE
BEGIN:VEVENT
DTSTART;TZID=America/Vancouver:20231014T183000
DTEND;TZID=America/Vancouver:20231014T233000
DTSTAMP:20260425T074012
CREATED:20230808T174227Z
LAST-MODIFIED:20230808T175444Z
UID:10000253-1697308200-1697326200@ativancouver.ca
SUMMARY:Bharat Utsav 2023 by BKSP
DESCRIPTION:Bharatiya Kala Evam Sahitya Parishad (BKSP) presents Bharat Utsav 2023 on October 14\, 2023 at Bollywood Banquet Hall located at 8166 128 St #201\, Surrey . \nMain Attraction of the event are: \n\nCultural Performances\nBharat Jano Quiz\nDoor Prizes\nRaffle Draw\nShopping Stalls\nDinner\, DJ & Much more\n\nTickets Prizes: Kids (6-10 yrs) $30\, General $50\, Table of 8 $360 \nFor further information\, please contact: Dr. Ajay Garg 604-362-2095\, Sameer Garcha 778-861-8084\, Anil Singhal 604-352-1023\, Rachna Arora 604-657-9797\, Sonia Grover 604-786-5307
URL:https://ativancouver.ca/event/bharat-utsav-2023-by-bksp/
LOCATION:Bollywood Banquet Hall & Convention Centre Ltd\, 8166 128 St #201\, Surrey\, British Columbia\, V3W 1R1
CATEGORIES:Community,Food & Drink,Performing & Visual Arts
ATTACH;FMTTYPE=image/jpeg:https://ativancouver.ca/wp-content/uploads/2023/08/bharat-utsav-2023.jpg
ORGANIZER;CN="BKSP - Bharatiya Kala Evam Sahitya Parishad":MAILTO:bkspcanada@gmail.com
END:VEVENT
BEGIN:VEVENT
DTSTART;TZID=America/Vancouver:20230325T183000
DTEND;TZID=America/Vancouver:20230325T233000
DTSTAMP:20260425T074012
CREATED:20230308T181050Z
LAST-MODIFIED:20230308T181127Z
UID:10000224-1679769000-1679787000@ativancouver.ca
SUMMARY:22nd Annual Shakti Society Awards Gala International Women's Day
DESCRIPTION:Shakti Society is excited to announce that the 22nd Annual Shakti Awards Gala will be held on Saturday\, March 25th at Bollywood Banquet Hall. Like every year\, we are expecting nominations of outstanding women who have excelled in their fields and demonstrated the spirit of ‘Shakti’. \nThe Gala will be a celebration of women with approximately 500 guests. \nFunds raised will go towards programs like Wellness Days\, Healing Circles for Women\, Community Cafes and scholarships. \nBuy Tickets Online
URL:https://ativancouver.ca/event/22nd-annual-shakti-society-awards-gala-international-womens-day/
LOCATION:Bollywood Banquet Hall & Convention Centre Ltd\, 8166 128 St #201\, Surrey\, British Columbia\, V3W 1R1
CATEGORIES:Community
ATTACH;FMTTYPE=image/jpeg:https://ativancouver.ca/wp-content/uploads/2023/03/shakti-society.jpg
ORGANIZER;CN="Sonia Andhi":MAILTO:shaktisociety2000@gmail.com
END:VEVENT
BEGIN:VEVENT
DTSTART;TZID=America/Vancouver:20221009T200000
DTEND;TZID=America/Vancouver:20221009T233000
DTSTAMP:20260425T074012
CREATED:20220919T201229Z
LAST-MODIFIED:20221008T233524Z
UID:10000053-1665345600-1665358200@ativancouver.ca
SUMMARY:Raas Garba Ramzat 2022 by CDACC @ Bollywood Banquet Hall\, Surrey
DESCRIPTION:3 Day Raas Garba Ramzat Event. \nFirst Day on 7th October\,2022 @ Mirage Banquet Hall\, Surrey \nSecond Day on 8th October\,2022 @ Bollywood Banquet Hall\, Surrey \nThird Day on 9th October\, 2022 @ Bollywood Banquet Hall\, Surrey \nKids under 10 years – Free Entry. \nLimited Early Bird Tickets @ $15 \n(Door Price @ $20 ..Subject to availability). \nFood and Snacks will be available for purchase at nominal cost. \nComplementary Snacks also available from Various Food Supporters.
URL:https://ativancouver.ca/event/raas-garba-ramzat-2022-by-cdacc-bollywood-banquet-hall-surrey/
LOCATION:Bollywood Banquet Hall & Convention Centre Ltd\, 8166 128 St #201\, Surrey\, British Columbia\, V3W 1R1
CATEGORIES:Community
ATTACH;FMTTYPE=image/png:https://ativancouver.ca/wp-content/uploads/2022/09/Navratri-Garba-2022.png
END:VEVENT
END:VCALENDAR