BEGIN:VCALENDAR
VERSION:2.0
PRODID:-//ATI Vancouver - ECPv6.15.16//NONSGML v1.0//EN
CALSCALE:GREGORIAN
METHOD:PUBLISH
X-WR-CALNAME:ATI Vancouver
X-ORIGINAL-URL:https://ativancouver.ca
X-WR-CALDESC:Events for ATI Vancouver
REFRESH-INTERVAL;VALUE=DURATION:PT1H
X-Robots-Tag:noindex
X-PUBLISHED-TTL:PT1H
BEGIN:VTIMEZONE
TZID:America/Vancouver
BEGIN:DAYLIGHT
TZOFFSETFROM:-0800
TZOFFSETTO:-0700
TZNAME:PDT
DTSTART:20240310T100000
END:DAYLIGHT
BEGIN:STANDARD
TZOFFSETFROM:-0700
TZOFFSETTO:-0800
TZNAME:PST
DTSTART:20241103T090000
END:STANDARD
BEGIN:DAYLIGHT
TZOFFSETFROM:-0800
TZOFFSETTO:-0700
TZNAME:PDT
DTSTART:20250309T100000
END:DAYLIGHT
BEGIN:STANDARD
TZOFFSETFROM:-0700
TZOFFSETTO:-0800
TZNAME:PST
DTSTART:20251102T090000
END:STANDARD
BEGIN:DAYLIGHT
TZOFFSETFROM:-0800
TZOFFSETTO:-0700
TZNAME:PDT
DTSTART:20260308T100000
END:DAYLIGHT
BEGIN:STANDARD
TZOFFSETFROM:-0700
TZOFFSETTO:-0800
TZNAME:PST
DTSTART:20261101T090000
END:STANDARD
END:VTIMEZONE
BEGIN:VEVENT
DTSTART;TZID=America/Vancouver:20251129T173000
DTEND;TZID=America/Vancouver:20251129T200000
DTSTAMP:20260424T171339
CREATED:20251118T072831Z
LAST-MODIFIED:20251121T200557Z
UID:10000844-1764437400-1764446400@ativancouver.ca
SUMMARY:Hindu Heritage Month Celebrations in Surrey\, BC
DESCRIPTION:Join with your family and friends to a beautiful celebration of Hindu Heritage Month 2025 in Surrey\, BC. Join us for an evening filled with devotion\, culture\, and community spirit. \nThis special gathering will highlight the richness of our Hindu traditions through: \n\nYouth presentations\nSoulful Bhajans & Kirtan\nKids’ chanting\nInspiring speakers\nClassical cultural performances\nPresence of distinguished delegates\n\nEvent Details:\nDate: Saturday\, November 29\nTime: 5:30 pm – 8:30 pm\nVenue: 10122\, 140th Street\, Surrey \nIt will be a spiritually uplifting and family-friendly event where every heart is welcome and every voice adds to the celebration. Let us come together to honour our heritage with pride\, love\, and unity. \nRegistration Link: Registration for this event is now closed. \nRegistration for Hindu Heritage Month Celebrations in Surrey is now closed\n  \n\n  \nThe event is organized by Sri Jagannath Cultural Society of BC & North American Hindu Association (NAHA) with the support of various community organizations including ATI Vancouver\, Bharatiya Kala Evam Sahitya Parishad\, Vedic Sevaks\, Sanatana Spritual Society\, Hindu Mahila Cultural Society of BC & few more.
URL:https://ativancouver.ca/event/hindu-heritage-month-celebrations-in-surrey-bc/
LOCATION:10122\, 140th Street\, Surrey\, 10122 140th Street\, Surrey\, BC\, V3T 4M9
CATEGORIES:Community
ATTACH;FMTTYPE=image/jpeg:https://ativancouver.ca/wp-content/uploads/2025/11/hindu-heritage-month-sri-jagannath-cultural-society.jpg
ORGANIZER;CN="Sri Jagannath Cultural Society":MAILTO:srijaganathculturenorthamerica@gmail.com
END:VEVENT
END:VCALENDAR