BEGIN:VCALENDAR
VERSION:2.0
PRODID:-//ATI Vancouver - ECPv6.15.16//NONSGML v1.0//EN
CALSCALE:GREGORIAN
METHOD:PUBLISH
X-ORIGINAL-URL:https://ativancouver.ca
X-WR-CALDESC:Events for ATI Vancouver
REFRESH-INTERVAL;VALUE=DURATION:PT1H
X-Robots-Tag:noindex
X-PUBLISHED-TTL:PT1H
BEGIN:VTIMEZONE
TZID:America/Vancouver
BEGIN:DAYLIGHT
TZOFFSETFROM:-0800
TZOFFSETTO:-0700
TZNAME:PDT
DTSTART:20220313T100000
END:DAYLIGHT
BEGIN:STANDARD
TZOFFSETFROM:-0700
TZOFFSETTO:-0800
TZNAME:PST
DTSTART:20221106T090000
END:STANDARD
BEGIN:DAYLIGHT
TZOFFSETFROM:-0800
TZOFFSETTO:-0700
TZNAME:PDT
DTSTART:20230312T100000
END:DAYLIGHT
BEGIN:STANDARD
TZOFFSETFROM:-0700
TZOFFSETTO:-0800
TZNAME:PST
DTSTART:20231105T090000
END:STANDARD
BEGIN:DAYLIGHT
TZOFFSETFROM:-0800
TZOFFSETTO:-0700
TZNAME:PDT
DTSTART:20240310T100000
END:DAYLIGHT
BEGIN:STANDARD
TZOFFSETFROM:-0700
TZOFFSETTO:-0800
TZNAME:PST
DTSTART:20241103T090000
END:STANDARD
BEGIN:DAYLIGHT
TZOFFSETFROM:-0800
TZOFFSETTO:-0700
TZNAME:PDT
DTSTART:20250309T100000
END:DAYLIGHT
BEGIN:STANDARD
TZOFFSETFROM:-0700
TZOFFSETTO:-0800
TZNAME:PST
DTSTART:20251102T090000
END:STANDARD
BEGIN:DAYLIGHT
TZOFFSETFROM:-0800
TZOFFSETTO:-0700
TZNAME:PDT
DTSTART:20260308T100000
END:DAYLIGHT
BEGIN:STANDARD
TZOFFSETFROM:-0700
TZOFFSETTO:-0800
TZNAME:PST
DTSTART:20261101T090000
END:STANDARD
END:VTIMEZONE
BEGIN:VEVENT
DTSTART;TZID=America/Vancouver:20250913T110000
DTEND;TZID=America/Vancouver:20250913T120000
DTSTAMP:20260419T165058
CREATED:20250903T062813Z
LAST-MODIFIED:20250903T063948Z
UID:10000442-1757761200-1757764800@ativancouver.ca
SUMMARY:Why We Celebrate Ganesh Utsav? Free Online Session For Kids
DESCRIPTION:Ganesh Chaturthi came and passed by! We had Ganpati at home\, but were we able to explain to our kids why we did\, what we did? \nJoin for a free workshop for Kids age 5- 12 hosted by Vancouver Indian Forum & presented by Vagmi Baxi from Bloom Your Dharma. This is a free workshop at a glimpse of what we do and how we operate our classes on Hinduism and Indian Culture. This session will be delivered through engaging storytelling and fun\, interactive play-based learning. \nRaising children in the modern world with all its distractions can make them disconnected from their cultural roots. Parents and families trying to maintain these connections while juggling their own busy lives and doing it alone is often insufficient. Children need to learn with others their own age and from similar cultural backgrounds. \nLet’s make a dedicated effort to keep our children connected to our roots. \nEvent Details\nDate: September 13\, 2025\nTime: 11:00 AM – 12 PM\nPlatform: Google Meet\nRegistration: Please fill this google form \nSession Highlights\n\nSuitable for young and older children\nEngaging\, interactive group session\nTheme/Subject-focused class\nInteractive games\n\n  \nAbout The Presenter\nVagmi Baxi\, Founder of Bloom Your Dharma (BYD) and Facilitator \nVagmi is a devoted mom of three with experience in virtual instruction to students of culture. She is devoted to inspiring the next generation to embrace the culture\, religion\, dharma as a guiding force in their lives. As a first-generation immigrant\, she carries a deep connection to her Vedic roots\, shaped by the philosophies of world-renowned multiple organizations. \nWith over a decade of experience in the healthcare and education sector\, Vagmi developed strong organizational\, leadership\, and strategic skills\, which she now channels into community engagement\, cultural advocacy\, and governance. \nPassionate about preserving and sharing timeless wisdom\, Vagmi believes in meeting the younger generation where they are—blending tradition with technology and presenting dharma in ways that resonate with today’s fast-paced\, globalized world. Through her work\, she strives to build bridges between ancient knowledge and modern living\, creating pathways for cultural continuity and spiritual growth for generations to come.
URL:https://ativancouver.ca/event/why-we-celebrate-ganesh-utsav-free-online-session-for-kids/
LOCATION:Online (Zoom or Googe Meet)
CATEGORIES:Community
ATTACH;FMTTYPE=image/jpeg:https://ativancouver.ca/wp-content/uploads/2025/09/why-we-celebrate-ganesh-utsav.jpg
END:VEVENT
BEGIN:VEVENT
DTSTART;TZID=America/Vancouver:20230219T143000
DTEND;TZID=America/Vancouver:20230219T163000
DTSTAMP:20260419T165058
CREATED:20230214T052447Z
LAST-MODIFIED:20230214T054220Z
UID:10000216-1676817000-1676824200@ativancouver.ca
SUMMARY:Tax Savings Strategies 2023
DESCRIPTION:Many of us are new in Canada and have learnt that Taxes are very high here. Here is an opportunity to learn from experts about Tax Savings Strategies. The Agenda will be to cover the basics of the following: \n\nNeed for Retirement Planning and its tools\nTax Saving Strategies\nInsurance and its types\nImportant information about changes in the tax regulations for year 2023\nTax tips and important reminders\nPrudent financial planning and decision making\nTax Free Saving Accounts\nRegistered Education Savings Plan\n\nThere is no obligations involved and it is absolutely FREE. The session will be presented by: \nAnkur Merwaha\, CPA\, CA: 604-626-6043 \nAmit Sipani\, Financial Advisor: 604-715-6716 \nDate & Time: February 19\, 2023; 2:30pm-4:30pm\nLocation: Surrey Centre Library\, Room 120\nRegistration: Free session but prior registration required. \n\nDISCLAIMER: \nThe opinions and information provided in this session are those of presenters only. Vancouver Indian Forum  or the organizers of this event do not accept any responsibility or liability whatsoever for any action taken as a result of attending this session including negligence.
URL:https://ativancouver.ca/event/tax-savings-strategies-2023/
LOCATION:Surrey Centre Library\, 10350 University Drive\, Surrey\, British Columbia\, V3T 4B8\, Canada
CATEGORIES:Information Session
ATTACH;FMTTYPE=image/png:https://ativancouver.ca/wp-content/uploads/2023/02/tax-savings-strategies.png
END:VEVENT
END:VCALENDAR