BEGIN:VCALENDAR
VERSION:2.0
PRODID:-//ATI Vancouver - ECPv6.15.16//NONSGML v1.0//EN
CALSCALE:GREGORIAN
METHOD:PUBLISH
X-ORIGINAL-URL:https://ativancouver.ca
X-WR-CALDESC:Events for ATI Vancouver
REFRESH-INTERVAL;VALUE=DURATION:PT1H
X-Robots-Tag:noindex
X-PUBLISHED-TTL:PT1H
BEGIN:VTIMEZONE
TZID:America/Vancouver
BEGIN:DAYLIGHT
TZOFFSETFROM:-0800
TZOFFSETTO:-0700
TZNAME:PDT
DTSTART:20220313T100000
END:DAYLIGHT
BEGIN:STANDARD
TZOFFSETFROM:-0700
TZOFFSETTO:-0800
TZNAME:PST
DTSTART:20221106T090000
END:STANDARD
BEGIN:DAYLIGHT
TZOFFSETFROM:-0800
TZOFFSETTO:-0700
TZNAME:PDT
DTSTART:20230312T100000
END:DAYLIGHT
BEGIN:STANDARD
TZOFFSETFROM:-0700
TZOFFSETTO:-0800
TZNAME:PST
DTSTART:20231105T090000
END:STANDARD
BEGIN:DAYLIGHT
TZOFFSETFROM:-0800
TZOFFSETTO:-0700
TZNAME:PDT
DTSTART:20240310T100000
END:DAYLIGHT
BEGIN:STANDARD
TZOFFSETFROM:-0700
TZOFFSETTO:-0800
TZNAME:PST
DTSTART:20241103T090000
END:STANDARD
END:VTIMEZONE
BEGIN:VEVENT
DTSTART;TZID=America/Vancouver:20230520T210000
DTEND;TZID=America/Vancouver:20230520T235900
DTSTAMP:20260425T070013
CREATED:20230516T050401Z
LAST-MODIFIED:20230516T170033Z
UID:10000244-1684616400-1684627140@ativancouver.ca
SUMMARY:Bollywood Event: Urban Desi Spring Fest in Burnaby
DESCRIPTION:Get ready to make unforgettable memories with Upbeats Event! We’re bringing the most exciting Bollywood and Punjabi Party to the west coast\, and we can’t wait to celebrate with you. Join us on Saturday night at @therecroom in Burnaby for a night of music\, dance\, and endless fun. \nLet’s make this a night to remember and create memories that will last a lifetime! \nEarly bird tickets are on sale now ➡️so click on the link to grab yours before they’re gone. For VIP access or groups bigger than 10\, call us at 807-630-0034 to book. Don’t wait\, come join the fun and let’s dance the night away together. \n 
URL:https://ativancouver.ca/event/bollywood-event-urban-desi-spring-fest-in-burnaby/
LOCATION:The Rec Room\, Burnaby\, 1920 Willingdon Ave\, Burnaby\, British Columbia\, V5C 0K6\, Canada
CATEGORIES:Community,Music
ATTACH;FMTTYPE=image/jpeg:https://ativancouver.ca/wp-content/uploads/2023/05/urban-desi-spring-fest-in-burnaby.jpg
ORGANIZER;CN="Upbeats Events":MAILTO:upbeatsevent@gmail.com
END:VEVENT
END:VCALENDAR