BEGIN:VCALENDAR
VERSION:2.0
PRODID:-//ATI Vancouver - ECPv6.15.16//NONSGML v1.0//EN
CALSCALE:GREGORIAN
METHOD:PUBLISH
X-ORIGINAL-URL:https://ativancouver.ca
X-WR-CALDESC:Events for ATI Vancouver
REFRESH-INTERVAL;VALUE=DURATION:PT1H
X-Robots-Tag:noindex
X-PUBLISHED-TTL:PT1H
BEGIN:VTIMEZONE
TZID:America/Vancouver
BEGIN:DAYLIGHT
TZOFFSETFROM:-0800
TZOFFSETTO:-0700
TZNAME:PDT
DTSTART:20220313T100000
END:DAYLIGHT
BEGIN:STANDARD
TZOFFSETFROM:-0700
TZOFFSETTO:-0800
TZNAME:PST
DTSTART:20221106T090000
END:STANDARD
BEGIN:DAYLIGHT
TZOFFSETFROM:-0800
TZOFFSETTO:-0700
TZNAME:PDT
DTSTART:20230312T100000
END:DAYLIGHT
BEGIN:STANDARD
TZOFFSETFROM:-0700
TZOFFSETTO:-0800
TZNAME:PST
DTSTART:20231105T090000
END:STANDARD
BEGIN:DAYLIGHT
TZOFFSETFROM:-0800
TZOFFSETTO:-0700
TZNAME:PDT
DTSTART:20240310T100000
END:DAYLIGHT
BEGIN:STANDARD
TZOFFSETFROM:-0700
TZOFFSETTO:-0800
TZNAME:PST
DTSTART:20241103T090000
END:STANDARD
END:VTIMEZONE
BEGIN:VEVENT
DTSTART;TZID=America/Vancouver:20231001T190000
DTEND;TZID=America/Vancouver:20231001T210000
DTSTAMP:20260425T084830
CREATED:20230829T164433Z
LAST-MODIFIED:20230829T164733Z
UID:10000260-1696186800-1696194000@ativancouver.ca
SUMMARY:Hindi Punjabi Romantic Theatre Play - Vehda Shagna Da
DESCRIPTION:“Vehda Shagna Da” – Punjabi Hindi mix romantic play is a story of star-crossed lovers from separate cultures. As they explore their relationship with each other and family\, they understand their shared cultural values and how we are not as different as they may seem. This heart-touching yet funny play will debut Sunday\, October 1\, 2023\, at 7 p.m. at the Bell Performing Arts Center. \nThe play is written and Directed by Noni Kaur and Produced by Universal Creative Vision. \nTickets:\nTickets are available at the Bell Performing Art Centre\, B4U (Payal Business Centre)\, Shaz Video(Burnaby)\, Radio Rimjhim(Burnaby) \nMore Information:\nFor more info please call 778-388-5451
URL:https://ativancouver.ca/event/hindi-punjabi-romantic-theatre-play-vehda-shagna-da/
LOCATION:Bell Performing Arts Centre\, 6250 144 St\, Surrey\, British Columbia\, V3X 1A2\, Canada
CATEGORIES:Performing & Visual Arts
ATTACH;FMTTYPE=image/jpeg:https://ativancouver.ca/wp-content/uploads/2023/08/hindi-punjabi-theatre-show-vehda-shagna-da.jpg
END:VEVENT
END:VCALENDAR