BEGIN:VCALENDAR
VERSION:2.0
PRODID:-//ATI Vancouver - ECPv6.15.16//NONSGML v1.0//EN
CALSCALE:GREGORIAN
METHOD:PUBLISH
X-WR-CALNAME:ATI Vancouver
X-ORIGINAL-URL:https://ativancouver.ca
X-WR-CALDESC:Events for ATI Vancouver
REFRESH-INTERVAL;VALUE=DURATION:PT1H
X-Robots-Tag:noindex
X-PUBLISHED-TTL:PT1H
BEGIN:VTIMEZONE
TZID:America/Vancouver
BEGIN:DAYLIGHT
TZOFFSETFROM:-0800
TZOFFSETTO:-0700
TZNAME:PDT
DTSTART:20230312T100000
END:DAYLIGHT
BEGIN:STANDARD
TZOFFSETFROM:-0700
TZOFFSETTO:-0800
TZNAME:PST
DTSTART:20231105T090000
END:STANDARD
BEGIN:DAYLIGHT
TZOFFSETFROM:-0800
TZOFFSETTO:-0700
TZNAME:PDT
DTSTART:20240310T100000
END:DAYLIGHT
BEGIN:STANDARD
TZOFFSETFROM:-0700
TZOFFSETTO:-0800
TZNAME:PST
DTSTART:20241103T090000
END:STANDARD
BEGIN:DAYLIGHT
TZOFFSETFROM:-0800
TZOFFSETTO:-0700
TZNAME:PDT
DTSTART:20250309T100000
END:DAYLIGHT
BEGIN:STANDARD
TZOFFSETFROM:-0700
TZOFFSETTO:-0800
TZNAME:PST
DTSTART:20251102T090000
END:STANDARD
END:VTIMEZONE
BEGIN:VEVENT
DTSTART;TZID=America/Vancouver:20240114T140000
DTEND;TZID=America/Vancouver:20240114T180000
DTSTAMP:20260424T063047
CREATED:20231223T024347Z
LAST-MODIFIED:20231223T024347Z
UID:10000285-1705240800-1705255200@ativancouver.ca
SUMMARY:Bhavya Kirtan in PoCo by Tri-City Hindu Cultural Society
DESCRIPTION:It gives us great pleasure to announce that a small group of Bhakts have initiated a mission to have Banke Bihari Mandir in the Tri Cities. \nWe have organized a Bhavya Kirtan in Port Coquitlam (PoCo) on Sunday\, January 14\, 2024 from 2-6pm by a famous bhajan Singer from Manitoba. \nRefreshments will be served during the event. Everyone is welcome to participate. Membership is Free and Donations are Optional. Since it is being organized in a Community Centre Hall\, seats are limited to 300 \nPlease RSVP using this link or just call at 6043328589 (office)\, 6049612700 (Nitin ji) 6049440622 (Ravi ji) and we will confirm your presence
URL:https://ativancouver.ca/event/bhavya-kirtan-in-poco-by-tri-city-hindu-cultural-society/
LOCATION:Port Coquitlam Community Centre\, 2150 Wilson Avenue\, Port Coquitlam\, BC\, V3C 6J5\, Canada
ATTACH;FMTTYPE=image/jpeg:https://ativancouver.ca/wp-content/uploads/2023/12/bhavya-kirtan.jpg
ORGANIZER;CN="TriCity Hindu Cultural Society":MAILTO:info@hinduculturalsociety.org
END:VEVENT
END:VCALENDAR