BEGIN:VCALENDAR
VERSION:2.0
PRODID:-//ATI Vancouver - ECPv6.15.16//NONSGML v1.0//EN
CALSCALE:GREGORIAN
METHOD:PUBLISH
X-ORIGINAL-URL:https://ativancouver.ca
X-WR-CALDESC:Events for ATI Vancouver
REFRESH-INTERVAL;VALUE=DURATION:PT1H
X-Robots-Tag:noindex
X-PUBLISHED-TTL:PT1H
BEGIN:VTIMEZONE
TZID:America/Vancouver
BEGIN:DAYLIGHT
TZOFFSETFROM:-0800
TZOFFSETTO:-0700
TZNAME:PDT
DTSTART:20230312T100000
END:DAYLIGHT
BEGIN:STANDARD
TZOFFSETFROM:-0700
TZOFFSETTO:-0800
TZNAME:PST
DTSTART:20231105T090000
END:STANDARD
BEGIN:DAYLIGHT
TZOFFSETFROM:-0800
TZOFFSETTO:-0700
TZNAME:PDT
DTSTART:20240310T100000
END:DAYLIGHT
BEGIN:STANDARD
TZOFFSETFROM:-0700
TZOFFSETTO:-0800
TZNAME:PST
DTSTART:20241103T090000
END:STANDARD
BEGIN:DAYLIGHT
TZOFFSETFROM:-0800
TZOFFSETTO:-0700
TZNAME:PDT
DTSTART:20250309T100000
END:DAYLIGHT
BEGIN:STANDARD
TZOFFSETFROM:-0700
TZOFFSETTO:-0800
TZNAME:PST
DTSTART:20251102T090000
END:STANDARD
END:VTIMEZONE
BEGIN:VEVENT
DTSTART;TZID=America/Vancouver:20241115T193000
DTEND;TZID=America/Vancouver:20241115T213000
DTSTAMP:20260425T031815
CREATED:20241109T180037Z
LAST-MODIFIED:20241109T181109Z
UID:10000368-1731699000-1731706200@ativancouver.ca
SUMMARY:Trichy Sankaran Live in Concert - Anvil Theatre\, New Westminster
DESCRIPTION:Trichy Sankaran: Live in Concert\nwith:\nRaman Kalyan: flute\nVidyasagar Vankayala: voice\nJared Burrows: electric guitar\nDavid Soutar-Spidel: electric bass\nCurtis Andrews: percussion \nLocation: Anvil Theatre (near a Skytrain stop!)\, New Westminster\, BC\nDate & Time: Friday\, Nov 15\, 2024; 7:30pm\nTickets: $17-$35 (various rates including a group rate!) \nExperience an extraordinary evening of music with legendary South Indian percussion maestro Trichy Sankaran in Metro Vancouver\, BC. He is one of the world’s greatest mridangam players. At 82 years old\, Sankaran continues to captivate audiences worldwide with his unparalleled rhythmic mastery\, creativity\, and vitality. Visit Anvil Theatre Website to buy tickets or read more about the event.
URL:https://ativancouver.ca/event/trichy-sankaran-live-in-concert/
LOCATION:Anvil Centre\, New Westminster\, 777 Columbia Street\, New Westminster\, BC\, V3M 1B6\, Canada
ATTACH;FMTTYPE=image/png:https://ativancouver.ca/wp-content/uploads/2024/11/trichy-sankaran-sir-1.png
END:VEVENT
BEGIN:VEVENT
DTSTART;TZID=America/Vancouver:20240714T160000
DTEND;TZID=America/Vancouver:20240714T180000
DTSTAMP:20260425T031815
CREATED:20240628T064901Z
LAST-MODIFIED:20240702T010154Z
UID:10000330-1720972800-1720980000@ativancouver.ca
SUMMARY:Ragas and Rhythm - An Evening of Indian Classical Music in Burnaby
DESCRIPTION:Karnatik Musical concert with Vancouver Artists.\nElevating local artists & Promoting South Indian Movie \nA Free concert for Vancouverites and entry voluntary donation.\nJuly 14th Sunday 4PM to 6 PM\nLochdale Hall\n490\, Sperling Ave\, Burnaby BC
URL:https://ativancouver.ca/event/ragas-and-rhythm-an-evening-of-indian-classical-music-in-burnaby/
LOCATION:Lochdale Community Hall\, 490 Sperling Avenue\, Burnaby\, BC\, V5B 4H3
CATEGORIES:Community,Music
ATTACH;FMTTYPE=image/jpeg:https://ativancouver.ca/wp-content/uploads/2024/06/ragas_rhythm_indian_classical_event_vancouver.jpg
END:VEVENT
END:VCALENDAR