BEGIN:VCALENDAR
VERSION:2.0
PRODID:-//ATI Vancouver - ECPv6.15.16//NONSGML v1.0//EN
CALSCALE:GREGORIAN
METHOD:PUBLISH
X-ORIGINAL-URL:https://ativancouver.ca
X-WR-CALDESC:Events for ATI Vancouver
REFRESH-INTERVAL;VALUE=DURATION:PT1H
X-Robots-Tag:noindex
X-PUBLISHED-TTL:PT1H
BEGIN:VTIMEZONE
TZID:America/Vancouver
BEGIN:DAYLIGHT
TZOFFSETFROM:-0800
TZOFFSETTO:-0700
TZNAME:PDT
DTSTART:20220313T100000
END:DAYLIGHT
BEGIN:STANDARD
TZOFFSETFROM:-0700
TZOFFSETTO:-0800
TZNAME:PST
DTSTART:20221106T090000
END:STANDARD
BEGIN:DAYLIGHT
TZOFFSETFROM:-0800
TZOFFSETTO:-0700
TZNAME:PDT
DTSTART:20230312T100000
END:DAYLIGHT
BEGIN:STANDARD
TZOFFSETFROM:-0700
TZOFFSETTO:-0800
TZNAME:PST
DTSTART:20231105T090000
END:STANDARD
BEGIN:DAYLIGHT
TZOFFSETFROM:-0800
TZOFFSETTO:-0700
TZNAME:PDT
DTSTART:20240310T100000
END:DAYLIGHT
BEGIN:STANDARD
TZOFFSETFROM:-0700
TZOFFSETTO:-0800
TZNAME:PST
DTSTART:20241103T090000
END:STANDARD
BEGIN:DAYLIGHT
TZOFFSETFROM:-0800
TZOFFSETTO:-0700
TZNAME:PDT
DTSTART:20250309T100000
END:DAYLIGHT
BEGIN:STANDARD
TZOFFSETFROM:-0700
TZOFFSETTO:-0800
TZNAME:PST
DTSTART:20251102T090000
END:STANDARD
BEGIN:DAYLIGHT
TZOFFSETFROM:-0800
TZOFFSETTO:-0700
TZNAME:PDT
DTSTART:20260308T100000
END:DAYLIGHT
BEGIN:STANDARD
TZOFFSETFROM:-0700
TZOFFSETTO:-0800
TZNAME:PST
DTSTART:20261101T090000
END:STANDARD
END:VTIMEZONE
BEGIN:VEVENT
DTSTART;TZID=America/Vancouver:20250329T183000
DTEND;TZID=America/Vancouver:20250406T203000
DTSTAMP:20260425T105507
CREATED:20250329T042644Z
LAST-MODIFIED:20250329T042644Z
UID:10000408-1743273000-1743971400@ativancouver.ca
SUMMARY:Chaitra Navratri 2025 (Shree Mahalakshmi Temple\, Vancouver)
DESCRIPTION:Please join us for the Chaitra Navaratri Puja\, Chandi Path and Chandi Yagna every evening from\nMar 29 (Sat) to Apr 6th (Sun)\, 2025\, 6-8:30 PM. Immerse yourself in 9 days of devotion of Devi Mahamaya\, experience the blissful vibrations of Chandi Yagna\, and get to know about the various forms of Devi mentioned in the sacred scripture of Shri Durga Saptashati.\nHappy Navratri and a Happy Nav Samvatsar.
URL:https://ativancouver.ca/event/chaitra-navratri-2025-shree-mahalakshmi-temple-vancouver/
LOCATION:Shree Mahalakshmi Temple\, Vancouver\, Canada\, 467 E 11th Avenue\, Vancouver\, BC\, Canada\, V5T2C8\, Vancouver\, BC\, V5T2C8\, Canada
CATEGORIES:Community
ATTACH;FMTTYPE=image/jpeg:https://ativancouver.ca/wp-content/uploads/2025/03/aab1f41d-148f-412b-b63d-99b2a780721c.jpeg
END:VEVENT
BEGIN:VEVENT
DTSTART;TZID=America/Vancouver:20250322T170000
DTEND;TZID=America/Vancouver:20250322T213000
DTSTAMP:20260425T105507
CREATED:20250106T083739Z
LAST-MODIFIED:20250106T083739Z
UID:10000379-1742662800-1742679000@ativancouver.ca
SUMMARY:Holi Celebration 2025 by Shree Mahalakshmi Temple
DESCRIPTION:Shree Mahalakshmi Temple Vancouver presents Holi Celebration 2025 at Michael J Fox Theatre\, Burnaby. This is a cultural program to celebrate the Indian Festival of Colours. \nTickets: $30 / $35 Each \nDinner 5pm-6.30pm\nCultural Shows 6.30 pm to 9 pm\nRefreshments 9 pm onwards \nFor Tickets Contact:\nSurinder – 604 671 5612\nVeena – 778 858 6243\nArun – 778 228 5714 \nMagazine pages & Sponsorships:\nSubhashini – 604 318 2444\nVeena – 778 858 6243 \nEmail: shreemahalakshmi@gmail.com \n  \n 
URL:https://ativancouver.ca/event/holi-celebration-2025-by-shree-mahalakshmi-temple/
LOCATION:Michael J Fox Theatre\, 7373 MacPherson Avenue\, Burnaby\, BC\, V5J 0B2\, Canada
CATEGORIES:Community,Food & Drink,Performing & Visual Arts
ATTACH;FMTTYPE=image/jpeg:https://ativancouver.ca/wp-content/uploads/2025/01/holi-festival-celebration-2025-mahalakshmi-temple-vancouver.jpg
END:VEVENT
BEGIN:VEVENT
DTSTART;TZID=America/Vancouver:20230318T170000
DTEND;TZID=America/Vancouver:20230318T210000
DTSTAMP:20260425T105507
CREATED:20230223T064637Z
LAST-MODIFIED:20230317T052051Z
UID:10000219-1679158800-1679173200@ativancouver.ca
SUMMARY:Holi Celebrations by Mahalakshmi Temple - Dinner & Cultural Show
DESCRIPTION:Come and join to enjoy Indian colorful Classical & Folk dances at this Festival of Colors – HOLI. The whole Indian community is invited to this Holi Mahotsvav by Mahalakshmi Temple at Michael J. Fox Theatre in Burnaby. \nProgram: \nDinner: 5 pm – 6:30 pm \nCultural Shows: 6:30pm – 9pm \nRefreshments: 9pm onwards \nTickets: $25 / $30 each \n \nBuy Tickets Online
URL:https://ativancouver.ca/event/holi-celebrations-by-mahalakshmi-temple-dinner-cultural-show/
LOCATION:Michael J Fox Theatre\, 7373 MacPherson Avenue\, Burnaby\, BC\, V5J 0B2\, Canada
CATEGORIES:Community,Performing & Visual Arts
ATTACH;FMTTYPE=image/jpeg:https://ativancouver.ca/wp-content/uploads/2023/02/shree-mahalakshmi-temple-holi-festival-2023.jpg
END:VEVENT
END:VCALENDAR