BEGIN:VCALENDAR
VERSION:2.0
PRODID:-//ATI Vancouver - ECPv6.15.16//NONSGML v1.0//EN
CALSCALE:GREGORIAN
METHOD:PUBLISH
X-WR-CALNAME:ATI Vancouver
X-ORIGINAL-URL:https://ativancouver.ca
X-WR-CALDESC:Events for ATI Vancouver
REFRESH-INTERVAL;VALUE=DURATION:PT1H
X-Robots-Tag:noindex
X-PUBLISHED-TTL:PT1H
BEGIN:VTIMEZONE
TZID:America/Vancouver
BEGIN:DAYLIGHT
TZOFFSETFROM:-0800
TZOFFSETTO:-0700
TZNAME:PDT
DTSTART:20220313T100000
END:DAYLIGHT
BEGIN:STANDARD
TZOFFSETFROM:-0700
TZOFFSETTO:-0800
TZNAME:PST
DTSTART:20221106T090000
END:STANDARD
BEGIN:DAYLIGHT
TZOFFSETFROM:-0800
TZOFFSETTO:-0700
TZNAME:PDT
DTSTART:20230312T100000
END:DAYLIGHT
BEGIN:STANDARD
TZOFFSETFROM:-0700
TZOFFSETTO:-0800
TZNAME:PST
DTSTART:20231105T090000
END:STANDARD
BEGIN:DAYLIGHT
TZOFFSETFROM:-0800
TZOFFSETTO:-0700
TZNAME:PDT
DTSTART:20240310T100000
END:DAYLIGHT
BEGIN:STANDARD
TZOFFSETFROM:-0700
TZOFFSETTO:-0800
TZNAME:PST
DTSTART:20241103T090000
END:STANDARD
END:VTIMEZONE
BEGIN:VEVENT
DTSTART;TZID=America/Vancouver:20231024T173000
DTEND;TZID=America/Vancouver:20231024T193000
DTSTAMP:20260425T061832
CREATED:20231024T174119Z
LAST-MODIFIED:20231024T174732Z
UID:10000267-1698168600-1698175800@ativancouver.ca
SUMMARY:Discourse on Ayurveda by Acharya Manish ji @ Burnaby Hindu Temple
DESCRIPTION:World famous ACHARYA MANISH JI of HiiMS Hospital & Shuddhi Ayurveda Clinics & Hospital fame\, is coming to Burnaby & Surrey\, BC. His enlightening discourses with light refreshments will be held at Burnaby & Surrey on Tuesday\, October 24th & Wednesday\, October 25th from 5-7 pm. \nAyurveda Discourses by Acharya Manish ji\nThese discourses are absolutely FREE and Acharya Ji will discuss and emphasize the importance of Ayurveda along with his team of Doctors from India. Please RSVP via phone: 604-861-9391 or email: acharyamanishvan@gmail.com
URL:https://ativancouver.ca/event/discourse-on-ayurveda-by-acharya-manish-ji-burnaby-hindu-temple/
LOCATION:Hindu Temple Burnaby\, 5420 Marine Dr\,\, Burnaby\, BC\, V5J 3G8\, Canada
CATEGORIES:Community
ATTACH;FMTTYPE=image/jpeg:https://ativancouver.ca/wp-content/uploads/2023/10/acharya-manish-in-burnaby-surrey-vancouver.jpg
ORGANIZER;CN="Rohit Sharma":MAILTO:acharyamanishvan@gmail.com
END:VEVENT
END:VCALENDAR