BEGIN:VCALENDAR
VERSION:2.0
PRODID:-//ATI Vancouver - ECPv6.15.16//NONSGML v1.0//EN
CALSCALE:GREGORIAN
METHOD:PUBLISH
X-WR-CALNAME:ATI Vancouver
X-ORIGINAL-URL:https://ativancouver.ca
X-WR-CALDESC:Events for ATI Vancouver
REFRESH-INTERVAL;VALUE=DURATION:PT1H
X-Robots-Tag:noindex
X-PUBLISHED-TTL:PT1H
BEGIN:VTIMEZONE
TZID:America/Vancouver
BEGIN:DAYLIGHT
TZOFFSETFROM:-0800
TZOFFSETTO:-0700
TZNAME:PDT
DTSTART:20220313T100000
END:DAYLIGHT
BEGIN:STANDARD
TZOFFSETFROM:-0700
TZOFFSETTO:-0800
TZNAME:PST
DTSTART:20221106T090000
END:STANDARD
BEGIN:DAYLIGHT
TZOFFSETFROM:-0800
TZOFFSETTO:-0700
TZNAME:PDT
DTSTART:20230312T100000
END:DAYLIGHT
BEGIN:STANDARD
TZOFFSETFROM:-0700
TZOFFSETTO:-0800
TZNAME:PST
DTSTART:20231105T090000
END:STANDARD
BEGIN:DAYLIGHT
TZOFFSETFROM:-0800
TZOFFSETTO:-0700
TZNAME:PDT
DTSTART:20240310T100000
END:DAYLIGHT
BEGIN:STANDARD
TZOFFSETFROM:-0700
TZOFFSETTO:-0800
TZNAME:PST
DTSTART:20241103T090000
END:STANDARD
END:VTIMEZONE
BEGIN:VEVENT
DTSTART;TZID=America/Vancouver:20230513T140000
DTEND;TZID=America/Vancouver:20230513T160000
DTSTAMP:20260425T070012
CREATED:20230430T050214Z
LAST-MODIFIED:20230430T050322Z
UID:10000238-1683986400-1683993600@ativancouver.ca
SUMMARY:Emotional Mastery\, Meditation and Mandala Art Therapy Workshop
DESCRIPTION:4 Days Workshop ! \nWhen – May 13\, 20\, 27\, June 10th ( Saturdays)\nTime – 2 p.m to 4 p.m\nVenue – Reflections Book Store/ Oasis wellness centre at 1111 Austin Avenue \, Coquitlam \nPre Register Now and avail 20% discount\, Offer ends soon \nAre you living on the edge of your life ?? Do you feel fearful\, worried \, stressed \, depressed or anxious ??\nOr are you a warrior living on the edge of opportunity? \nAre you living in chronic pain and experiencing trauma ? \nDo you wish to learn about your emotions and raise your emotional intelligence??? \nDo you wish to uncover your potential to know your self worth ?? \nAre you looking to reprogram your subconscious mind and work on your inner child ?? \nDo you wish to master your emotions to create more success\, health\, happiness and good relationships in your life?? \nThen this program is for You !!!! \nLife on the edge keeps one in a space of heightened awareness and totally in the moment \, therefore no matter what happens \, what comes his/ her way \, he/ she is always prepared. \nTo realize and to be in the path of self awareness\, to heal yourself emotionally\, to be able to handle your emotions shifting and mastering your mindset towards positive \, relaxing and soulful experience\, to be in peace\, join this emotional mastery program\, your journey towards psychological\, emotional and spiritual well-being. \n**What you will learn and experience**: \n*Mandala therapy as a tool to self healing\n* Journaling techniques\n* Mindfulness\, Meditation and Breathwork\n* Law of attraction techniques\n* Emotional intelligence \nFor more information connect at\n+1(236) 867-5216 \nRegister Online \n  \n©Priya S Raman\nSpiritual life coach\, Holistic wellness &EI coach\, Healer
URL:https://ativancouver.ca/event/emotional-mastery-meditation-and-mandala-art-therapy-workshop/
LOCATION:Reflections Book Store\, 1111 Austin Ave D\, Coquitlam\, British Columbia\, V3K 3P4\, Canada
CATEGORIES:Community
ATTACH;FMTTYPE=image/jpeg:https://ativancouver.ca/wp-content/uploads/2023/04/emotional-mastery-meditation-and-mandala-art-therapy-workshop.jpeg
END:VEVENT
END:VCALENDAR