BEGIN:VCALENDAR
VERSION:2.0
PRODID:-//ATI Vancouver - ECPv6.15.16//NONSGML v1.0//EN
CALSCALE:GREGORIAN
METHOD:PUBLISH
X-WR-CALNAME:ATI Vancouver
X-ORIGINAL-URL:https://ativancouver.ca
X-WR-CALDESC:Events for ATI Vancouver
REFRESH-INTERVAL;VALUE=DURATION:PT1H
X-Robots-Tag:noindex
X-PUBLISHED-TTL:PT1H
BEGIN:VTIMEZONE
TZID:America/Vancouver
BEGIN:DAYLIGHT
TZOFFSETFROM:-0800
TZOFFSETTO:-0700
TZNAME:PDT
DTSTART:20230312T100000
END:DAYLIGHT
BEGIN:STANDARD
TZOFFSETFROM:-0700
TZOFFSETTO:-0800
TZNAME:PST
DTSTART:20231105T090000
END:STANDARD
BEGIN:DAYLIGHT
TZOFFSETFROM:-0800
TZOFFSETTO:-0700
TZNAME:PDT
DTSTART:20240310T100000
END:DAYLIGHT
BEGIN:STANDARD
TZOFFSETFROM:-0700
TZOFFSETTO:-0800
TZNAME:PST
DTSTART:20241103T090000
END:STANDARD
BEGIN:DAYLIGHT
TZOFFSETFROM:-0800
TZOFFSETTO:-0700
TZNAME:PDT
DTSTART:20250309T100000
END:DAYLIGHT
BEGIN:STANDARD
TZOFFSETFROM:-0700
TZOFFSETTO:-0800
TZNAME:PST
DTSTART:20251102T090000
END:STANDARD
BEGIN:DAYLIGHT
TZOFFSETFROM:-0800
TZOFFSETTO:-0700
TZNAME:PDT
DTSTART:20260308T100000
END:DAYLIGHT
BEGIN:STANDARD
TZOFFSETFROM:-0700
TZOFFSETTO:-0800
TZNAME:PST
DTSTART:20261101T090000
END:STANDARD
BEGIN:DAYLIGHT
TZOFFSETFROM:-0800
TZOFFSETTO:-0700
TZNAME:PDT
DTSTART:20270314T100000
END:DAYLIGHT
BEGIN:STANDARD
TZOFFSETFROM:-0700
TZOFFSETTO:-0800
TZNAME:PST
DTSTART:20271107T090000
END:STANDARD
END:VTIMEZONE
BEGIN:VEVENT
DTSTART;TZID=America/Vancouver:20260423T183000
DTEND;TZID=America/Vancouver:20260423T213000
DTSTAMP:20260425T045709
CREATED:20260329T053127Z
LAST-MODIFIED:20260423T181210Z
UID:10000873-1776969000-1776979800@ativancouver.ca
SUMMARY:Desi Business Networking Meetup by Vancouver Desipreneur – April 23\, 2026
DESCRIPTION:Are you an Indian small business owner in Metro Vancouver looking to expand your network\, collaborate\, and grow your business? Vancouver Desipreneurs invites you to an exclusive Business Networking Event designed for Desi entrepreneurs in Metro Vancouver area to connect\, exchange ideas\, and build valuable partnerships. \nWho Should Attend?\n\nSmall business owners & entrepreneurs\nFreelancers & self-employed professionals\nStartups & aspiring business owners\nAnyone looking to expand their business network within the Indian community\n\n  \nVancouver Desipreneur – Indian Business & Social Club\n  \nWhy Attend?\n\nNetwork with fellow Indian business owners from diverse industries\nCollaborate & discover new opportunities to grow your business\nLearn from each other’s experiences and gain valuable insights\nEnjoy a delicious Indian dinner while making meaningful connections\n\n  \nVenue: Kurrywala Indian Restaurant\, Burnaby\nDate & Time: April 23\, 2026 | 6:30 PM – 9:30 PM\nEntry Fee: $30 per person (Includes Snacks & Dinner) \n  \nFeatured Presentation\nThis Desipreneur meetup before the introductions round\, Dhara Shah is going to do small interactive session on Managing Stress in Business and personal life\, be there for learning\, sharing and networking in a supportive environment. Visit her website to know more about her. \n \nThe Host: Neeraj Kumar\nNeeraj Kumar\, Founder\nVancouver Desipreneur was founded by Neeraj Kumar\, a well-known community builder and connector in Metro Vancouver. With years of experience in real estate\, and community engagement\, Neeraj has dedicated himself to creating platforms that help people connect meaningfully – both professionally and socially. \nHis vision for Vancouver Desipreneur is to create a trusted space where collaboration thrives\, relationships grow organically\, and success is shared. \nRegistration for this event is now closed. Please signup for the newsletter here for future updates or follow Vancouver Desipreneur group on Facebook or Instagram. \n  \n 
URL:https://ativancouver.ca/event/desi-business-networking-meetup-by-vancouver-desipreneur-april-23-2026/
LOCATION:Kurrywala Indian Restaurant\, Burnaby\, 7660 6th Street\, Burnaby\, British Columbia\, V3N 3M7\, Canada
CATEGORIES:Business
ATTACH;FMTTYPE=image/jpeg:https://ativancouver.ca/wp-content/uploads/2026/03/vancouver-desipreneur-networking-meetup.jpg
END:VEVENT
BEGIN:VEVENT
DTSTART;TZID=America/Vancouver:20260207T180000
DTEND;TZID=America/Vancouver:20260207T200000
DTSTAMP:20260425T045710
CREATED:20251225T054756Z
LAST-MODIFIED:20251225T054756Z
UID:10000849-1770487200-1770494400@ativancouver.ca
SUMMARY:Love & Locha | A Night of Music\, Laughter & Stories
DESCRIPTION:Get ready for an evening filled with love\, laughter\, nostalgia\, and contemporary vibes! Love & Locha is a unique entertainment experience that beautifully blends retro romance with modern-day humor and storytelling. \nPresented by Neeraja Aptikar Kalasaadhana in association with ATI Vancouver\, this event brings together music\, stand-up comedy\, engaging stories\, and much more—all wrapped in a warm\, fun\, and relatable atmosphere. \nWhether you enjoy soulful melodies\, witty humor\, or heartwarming stories\, this evening promises something for everyone. \nEvent Details\nDate: Saturday\, February 7\, 2026\nTime: Doors Open at 5:15 PM\nVenue: BNH South Community Hall\,  5024 Rumble Street\, Burnaby\, BC \nTickets\nPrice: $20 per person\nPayment Method: E-transfer to aptikarneeraja@gmail.com \nFor More Information: Call Neeraja Aptikar 778-288-4811 Neeraj Kumar 604-363-2370 Sandhya Krishnamoorthy 778-318-2491 \nCome experience an evening where retro charm meets modern-day rizz — only at Love & Locha!
URL:https://ativancouver.ca/event/love-locha-a-night-of-music-laughter-stories/
LOCATION:BNH South Community Hall\, 5024 Rumble Street\, Burnaby\, BC
CATEGORIES:Community
ATTACH;FMTTYPE=image/jpeg:https://ativancouver.ca/wp-content/uploads/2025/12/love-and-locha-indian-event-in-burnaby.jpeg
ORGANIZER;CN="Neeraja Aptikar Kalasadhana Vancouver":MAILTO:aptikarneeraja@gmail.com
END:VEVENT
BEGIN:VEVENT
DTSTART;TZID=America/Vancouver:20260129T180000
DTEND;TZID=America/Vancouver:20260129T210000
DTSTAMP:20260425T045710
CREATED:20260102T033837Z
LAST-MODIFIED:20260113T024619Z
UID:10000850-1769709600-1769720400@ativancouver.ca
SUMMARY:Desi Business Networking Meetup by Vancouver Desipreneur - Jan 29\, 2026
DESCRIPTION:Are you an Indian small business owner in Metro Vancouver looking to expand your network\, collaborate\, and grow your business? Vancouver Desipreneurs invites you to an exclusive Business Networking Event designed for Desi entrepreneurs in Metro Vancouver area to connect\, exchange ideas\, and build valuable partnerships. \n Register for Event \n \nWhy Attend?\n\nNetwork with fellow Indian business owners from diverse industries\nCollaborate & discover new opportunities to grow your business\nLearn from each other’s experiences and gain valuable insights\nEnjoy a delicious Indian dinner while making meaningful connections\n\n  \nVenue: Desi Spice Indian Restaurant\, Coquitlam\nDate & Time: January 29\, 2026 | 6:00 PM onwards\nEntry Fee: $30 per person (Includes Snacks & Dinner) \nWho Should Attend?\n\nSmall business owners & entrepreneurs\nFreelancers & self-employed professionals\nStartups & aspiring business owners\nAnyone looking to expand their business network within the Indian community\n\n  \nVancouver Desipreneur – Building Stronger Desi Business Community\nJoin to network\, collaborate\, and grow together! \n Register Now \n \nAbout The Host: Neeraj Kumar\nNeeraj Kumar\nVancouver Desipreneur was founded by Neeraj Kumar\, a well-known community builder and connector in Metro Vancouver. With years of experience in real estate\, mortgages\, and community engagement\, Neeraj has dedicated himself to creating platforms that help people connect meaningfully — both professionally and socially. \nNeeraj is also the founder of multiple community initiatives that support newcomers\, professionals\, and entrepreneurs\, all with a shared goal: building a strong\, inclusive\, and empowered Indian diaspora in Vancouver. His vision for Vancouver Desipreneur is simple yet impactful — to create a trusted space where collaboration thrives\, relationships grow organically\, and success is shared. \n  \nContact\nConnect with Neeraj Kumar if you have any questions or if you would like to get in touch with the organizer. \nPlease note: No Walk-ins are allowed.  \n 
URL:https://ativancouver.ca/event/desi-business-networking-meetup-by-vancouver-desipreneur-jan-29-2026/
LOCATION:Desi Spice Indian Restaurnat\, 1119 Austin Ave\, Coquitlam\, BC\, V3K 3P4\, Canada
CATEGORIES:Business
ATTACH;FMTTYPE=image/jpeg:https://ativancouver.ca/wp-content/uploads/2026/01/vancouver-desipreneur-meetup-jan-2026-flyer.jpeg
END:VEVENT
BEGIN:VEVENT
DTSTART;TZID=America/Vancouver:20250910T180000
DTEND;TZID=America/Vancouver:20250910T220000
DTSTAMP:20260425T045710
CREATED:20250822T184810Z
LAST-MODIFIED:20250822T191852Z
UID:10000439-1757527200-1757541600@ativancouver.ca
SUMMARY:Vancouver Desipreneur Networking Event\, September 10th
DESCRIPTION:Join Vancouver Desipreneur Network for the social & business networking event at Masala Malt Indian Restaurant. \nDate: September 10\, 2025\nTime: 6PM onwards\nVenue: Masala Malt Indian Restaurant\, 10592 King George Blvd\, Surrey\, BC \nVancouver Desipreneur Networking Event – September 10\, 2025\nEvent Highlights:\n\nNetworking Opportunities: Connect with fellow Desi business owners and entrepreneurs\, share experiences\, and explore potential collaborations.\nDelicious Dinner: Enjoy a sumptuous Indian dinner featuring a variety of dishes.\nCommunity Building: Strengthen our local business community and support each other’s growth and success.\n\n  \nEvent Host:\nThis business networking event is hosted by Neeraj Kumar. Neeraj is a community builder\, yoga enthusiast\, and real estate & mortgage advisor. \nHow to Join?\nJoin to network\, collaborate\, and grow together! Connect with Neeraj Kumar or fill this google form to be contacted. \nPlease note: No Walk-ins are allowed. Please register before you join.
URL:https://ativancouver.ca/event/vancouver-desipreneur-networking-sep-10/
LOCATION:Masala Malt Indian Restaurant\, 10592 King George Blvd\, Surrey\, BC\, V3T 2B3\, Canada
CATEGORIES:Community
ATTACH;FMTTYPE=image/jpeg:https://ativancouver.ca/wp-content/uploads/2025/08/vancouver-desipreneur-indian-business-network-sep-10.jpg
ORGANIZER;CN="Neeraj Kumar":MAILTO:hello@neerajkumar.net
END:VEVENT
BEGIN:VEVENT
DTSTART;TZID=America/Vancouver:20250822T170000
DTEND;TZID=America/Vancouver:20250822T210000
DTSTAMP:20260425T045710
CREATED:20250803T232017Z
LAST-MODIFIED:20250821T054918Z
UID:10000430-1755882000-1755896400@ativancouver.ca
SUMMARY:Praan & Bhakti – An Evening of Soulful Bhajans and Kirtan In Vancouver With Vasundhara
DESCRIPTION:Come sing\, breathe\, and feel peace together!\nLet’s gather for a quiet and heartwarming evening of bhakti and music. \nWe’ll start with some gentle breathing (कोमल श्वास अभ्यास) to calm the mind and open our hearts. \nThen\, enjoy a beautiful Kirtan led by Vasundhara\, a talented singer who mixes classical music with devotional mantras and poetry. \nNo experience is needed — just bring your breath\, your voice\, and your open heart. \nAfter the Kirtan\, light prasad will be shared. \nA divine spiritual evening with Bhajans & Kirtan in Vancouver\nEvent Details:\nDate & Time: August 22\, 2025; 5PM-9PM\nLocation: 5455 Balsam Street\, Vancouver\nTickets: By Donation\nRegistration: Prior registration required\, please fill this form \nContacts:\nContact Neeraj Kumar @ 604-363-2370 or Vasundhara @ 778-879-8998 for more information
URL:https://ativancouver.ca/event/praan-bhakti-an-evening-of-soulful-bhajans-and-kirtan-in-vancouver-with-vasundhara/
LOCATION:Social Room at Balsam St. Vancouver\, 5455 Balsam Street\, Vancouver\, BC\, V6M 4B3\, Canada
CATEGORIES:Community
ATTACH;FMTTYPE=image/jpeg:https://ativancouver.ca/wp-content/uploads/2025/08/bhajan-kirtan-evening-vancouver-bc.jpg
ORGANIZER;CN="Neeraj Kumar":MAILTO:hello@neerajkumar.net
END:VEVENT
BEGIN:VEVENT
DTSTART;TZID=America/Vancouver:20250514T181500
DTEND;TZID=America/Vancouver:20250514T201500
DTSTAMP:20260425T045710
CREATED:20250419T235757Z
LAST-MODIFIED:20250514T173001Z
UID:10000410-1747246500-1747253700@ativancouver.ca
SUMMARY:Desipreneur Business Networking & Franchise Information Session
DESCRIPTION:Join us for an engaging evening designed for Desi professionals\, entrepreneurs\, and business enthusiasts interested in expanding their networks. \nAn Evening to Connect\, Collaborate & Learn\nThis Desipreneur Networking Night is more than just mingling; it’s your gateway to new partnerships\, knowledge\, and inspiration. \nFeatured Info Session: Franchise Business 101\nAs a highlight of the evening\, join a special talk by Jatin Taneja\, an expert in franchise development. \n  \n  \n  \nNetworking Focused Event Presented by Vancouver Desipreneur (Indian Business Club in Vancouver)\n\n\nAgenda\n\n\n\n\n\n\n\nWelcome & Networking \n\n\n\n\n6 PM – 6:30 PM \nPresentation by Jatin Taneja on Franchise Business \n\n\n\n\n\n\n6:30 PM – 7:15 PM \nDinner & Networking \n7:15 PM – 8:15 PM \n\n\n\n\nAbout The Presenter:\nJatin Taneja is a seasoned franchise consultant and coach with a robust background in corporate franchise development. He takes a personalized approach\, assessing the background\, skill sets\, and expertise of his clients. Jatin provides comprehensive guidance across 32 business categories and hundreds of franchise brands in both Canada and the USA\, ensuring a tailored fit for each aspiring franchisee. \nAbout The Host (Organizer):\n \nNeeraj Kumar is a well-known name in the community\, known for hosting informative sessions and community-building events in the Metro Vancouver region since 2016. Real Estate Advisor by profession\, Neeraj is passionate about bringing people together and providing valuable information through his events. \nRegistration:\nThis event is Sold Out! Please Join Vancouver Desipreneur’s Newsletter to stay connected. \n 
URL:https://ativancouver.ca/event/desipreneur-networking-may-14-2025/
LOCATION:Surrey Centre Library\, 10350 University Drive\, Surrey\, British Columbia\, V3T 4B8\, Canada
CATEGORIES:Business,Food & Drink,Information Session
ATTACH;FMTTYPE=image/jpeg:https://ativancouver.ca/wp-content/uploads/2025/04/desipreneur-business-networking-handshake.jpg
ORGANIZER;CN="MultiHat Events":MAILTO:multihat.events@gmail.com
END:VEVENT
BEGIN:VEVENT
DTSTART;TZID=America/Vancouver:20250227T180000
DTEND;TZID=America/Vancouver:20250227T220000
DTSTAMP:20260425T045710
CREATED:20250130T073335Z
LAST-MODIFIED:20250207T202741Z
UID:10000397-1740679200-1740693600@ativancouver.ca
SUMMARY:Vancouver Desipreneurs: Business Networking Event for Indian Entrepreneurs
DESCRIPTION:Are you an Indian small business owner in Metro Vancouver looking to expand your network\, collaborate\, and grow your business? Vancouver Desipreneurs invites you to an exclusive Business Networking Event designed for Desi entrepreneurs to connect\, exchange ideas\, and build valuable partnerships. \nVancouver Desipreneurs Networking Event\nWhy Attend?\n\nNetwork with fellow Indian business owners from diverse industries\nCollaborate & discover new opportunities to grow your business\nLearn from each other’s experiences and gain valuable insights\nEnjoy a delicious Indian dinner while making meaningful connections\n\n  \nVenue: Kurry Wala Indian Restaurant\, 7660 6th St\, Burnaby\nDate & Time: February 27\, 2025 | 6:00 PM onwards\nEntry Fee: $35 per person (Includes Dinner) \nWho Should Attend?\n\nSmall business owners & entrepreneurs\nFreelancers & self-employed professionals\nStartups & aspiring business owners\nAnyone looking to expand their business network within the Indian community\n\n  \nSpots are limited! Secure your seat today and be part of Vancouver’s thriving Desi business community! \nHow to Join?\nJoin to network\, collaborate\, and grow together! Connect with Neeraj Kumar or fill this google form to be contacted. \nPlease note: No Walk-ins are allowed.  \n  \n  \n 
URL:https://ativancouver.ca/event/desipreneurs-networking-event/
LOCATION:Kurrywala Indian Restaurant\, Burnaby\, 7660 6th Street\, Burnaby\, British Columbia\, V3N 3M7\, Canada
CATEGORIES:Business
ATTACH;FMTTYPE=image/jpeg:https://ativancouver.ca/wp-content/uploads/2025/01/desipreneur-networking-mixer-february-27-2025.jpg
ORGANIZER;CN="Neeraj Kumar":MAILTO:hello@neerajkumar.net
END:VEVENT
BEGIN:VEVENT
DTSTART;TZID=America/Vancouver:20240828T183000
DTEND;TZID=America/Vancouver:20240828T213000
DTSTAMP:20260425T045710
CREATED:20240821T020205Z
LAST-MODIFIED:20240821T022544Z
UID:10000346-1724869800-1724880600@ativancouver.ca
SUMMARY:Vancouver Desipreneur Meetup - Desi Business Networking Event - Aug 28
DESCRIPTION:Bunch of Desi Business Owners from Vancouver Desipreneur Networking Group are going to meet in a Pub at Burnaby near Coquitlam location. \nThe group is created by Neeraj Kumar who is a Real Estate Advisor. Some of the other professionals in the group includes  an Accountant\, Car Sales\, Digital Marketer\, Immigration Consultant\, Insurance Provider\, Mortgage Broker\, Real Estate Lawyer etc. \nThe entry to the networking event of this exclusive group is free but you share the cost of food and pay for your own drinks. RSVP to know the exact location of the meetup.
URL:https://ativancouver.ca/event/vancouver-desipreneur-meetup-desi-business-networking-event-aug-28/
CATEGORIES:Business
ATTACH;FMTTYPE=image/jpeg:https://ativancouver.ca/wp-content/uploads/2024/08/desipreneur-networking-mixer-august-28.jpg
END:VEVENT
BEGIN:VEVENT
DTSTART;TZID=America/Vancouver:20240808T180000
DTEND;TZID=America/Vancouver:20240808T210000
DTSTAMP:20260425T045710
CREATED:20240725T041447Z
LAST-MODIFIED:20240729T202550Z
UID:10000337-1723140000-1723150800@ativancouver.ca
SUMMARY:Vancouver Desipreneur Mixer Dinner
DESCRIPTION:Join us for an evening of great food and even better company at our Desi Business Owners Networking Dinner. This event is a fantastic opportunity for Desi business owners in the Vancouver area to meet\, connect\, and build valuable relationships. \nDesipreneur Business Networking Event – August 8th\, 2024\nEvent Highlights:\n\nNetworking Opportunities: Connect with fellow Desi business owners and entrepreneurs\, share experiences\, and explore potential collaborations.\nDelicious Dinner: Enjoy a sumptuous dinner featuring a variety of Desi dishes.\nCommunity Building: Strengthen our local business community and support each other’s growth and success.\n\nEvent Host:\nEvent is hosted by Neeraj Kumar. Neeraj is a community builder\, yoga enthusiast and a real estate advisor. \nRegistration:\nThe event is free to attend but you will pay for your own food & drinks. However\, you must register to attend and get an email from the organizer. Please register using this google form.
URL:https://ativancouver.ca/event/vancouver-desipreneur-mixer-dinner/
LOCATION:Akbar’s Own Indian Restaurant\, 1905 W Broadway\, Vancouver\, BC\, V6J 1Z3\, Canada
CATEGORIES:Business
ATTACH;FMTTYPE=image/jpeg:https://ativancouver.ca/wp-content/uploads/2024/07/desipreneur-networking-event.jpg
END:VEVENT
BEGIN:VEVENT
DTSTART;TZID=America/Vancouver:20240317T110000
DTEND;TZID=America/Vancouver:20240317T120000
DTSTAMP:20260425T045710
CREATED:20240310T034141Z
LAST-MODIFIED:20240312T215244Z
UID:10000309-1710673200-1710676800@ativancouver.ca
SUMMARY:Better Sleep | World Sleep Day Awareness Webinar by Pooja Relekar
DESCRIPTION:Sleep Health is Wealth!\n\nHow much do you know about your Sleep?\nWhat are the issues associated with inadequate sleep?\nDo you know when should you get tested for Sleep Disorders?\nDo you know Canadian Healthcare Resources for Sleep Disorders?\n\nCome find the answers to all these questions and more at our next Webinar! Register to get the Zoom link \n \n——————————————————————————————————– \nSpeaker: \nPooja Relekar is a Respiratory Therapist and a Certified Polysomnography Technician who specializes in Sleep Disorders like Sleep Apnea. \nShe is passionate about patient education and sleep health awareness. She is proactive in the local South Asian community about sleep issues and disorders via webinars and discussion forums. \nDISCLAIMER: \nBy doing RSVP and participating in this event\, you acknowledge and agree that the information presented is for general informational purposes only. \nThe information provided during the event is not intended to constitute professional advice\, and attendees should not rely solely on it to make their health decisions. Any action you take based on the information presented is at your own risk. \nThe organizers\, presenters\, and hosts disclaim any and all liability for any direct\, indirect\, incidental\, consequential\, or punitive damages arising out of your use or reliance on the information provided during the webinar. This includes\, but is not limited to\, financial losses\, data loss\, or any other potential harm. \nAttendees are strongly encouraged to consult with qualified medical professionals to obtain advice tailored to their specific health situations before making any changes to their daily routines. \nBy participating in this event\, you agree to release and hold harmless the organizers\, presenters\, and hosts from any claims\, liabilities\, damages\, or expenses that may arise from your use of the information presented during this event. \nPlease be aware that participation in the event indicates your acceptance of this disclaimer. If you do not agree with these terms\, it is recommended that you refrain from attending this event.
URL:https://ativancouver.ca/event/better-sleep-world-sleep-day-awareness-webinar-by-pooja-relekar/
LOCATION:Online (Zoom or Googe Meet)
CATEGORIES:Health,Information Session
ATTACH;FMTTYPE=image/jpeg:https://ativancouver.ca/wp-content/uploads/2024/03/world-sleep-day-awareness-webinar-ati-vancouver.jpg
ORGANIZER;CN="Neeraj Kumar":MAILTO:hello@neerajkumar.net
END:VEVENT
END:VCALENDAR