BEGIN:VCALENDAR
VERSION:2.0
PRODID:-//ATI Vancouver - ECPv6.15.16//NONSGML v1.0//EN
CALSCALE:GREGORIAN
METHOD:PUBLISH
X-WR-CALNAME:ATI Vancouver
X-ORIGINAL-URL:https://ativancouver.ca
X-WR-CALDESC:Events for ATI Vancouver
REFRESH-INTERVAL;VALUE=DURATION:PT1H
X-Robots-Tag:noindex
X-PUBLISHED-TTL:PT1H
BEGIN:VTIMEZONE
TZID:America/Vancouver
BEGIN:DAYLIGHT
TZOFFSETFROM:-0800
TZOFFSETTO:-0700
TZNAME:PDT
DTSTART:20210314T100000
END:DAYLIGHT
BEGIN:STANDARD
TZOFFSETFROM:-0700
TZOFFSETTO:-0800
TZNAME:PST
DTSTART:20211107T090000
END:STANDARD
BEGIN:DAYLIGHT
TZOFFSETFROM:-0800
TZOFFSETTO:-0700
TZNAME:PDT
DTSTART:20220313T100000
END:DAYLIGHT
BEGIN:STANDARD
TZOFFSETFROM:-0700
TZOFFSETTO:-0800
TZNAME:PST
DTSTART:20221106T090000
END:STANDARD
BEGIN:DAYLIGHT
TZOFFSETFROM:-0800
TZOFFSETTO:-0700
TZNAME:PDT
DTSTART:20230312T100000
END:DAYLIGHT
BEGIN:STANDARD
TZOFFSETFROM:-0700
TZOFFSETTO:-0800
TZNAME:PST
DTSTART:20231105T090000
END:STANDARD
END:VTIMEZONE
BEGIN:VEVENT
DTSTART;TZID=America/Vancouver:20221001T110000
DTEND;TZID=America/Vancouver:20221002T210000
DTSTAMP:20260425T080052
CREATED:20221002T035610Z
LAST-MODIFIED:20221002T040438Z
UID:10000057-1664622000-1664744400@ativancouver.ca
SUMMARY:Karwachauth & Diwali Exhibition by FESTIVISTA
DESCRIPTION:Get ready to shop for exclusive festival shopping this year! Catering to all kind of festival needs at @sheratonguildford \, Surrey\, BC. \nShop from 20+ brands for fashion\, Jewelry\, Accessories\, Diwali gifts and more. Make your Diwali 2022 more festive with gifts purchased from this exhibition. Visit Facebook Event page  for more information.
URL:https://ativancouver.ca/event/festivista-karwachauth-diwali-exhibition-2022/
LOCATION:Sheraton Vancouver Guildford Hotel\, 15269\, 104 Avenue\, British Columbia\, V3R 1N5\, Canada
CATEGORIES:Business
ATTACH;FMTTYPE=image/jpeg:https://ativancouver.ca/wp-content/uploads/2022/10/PHOTO-2022-09-30-22-02-44.jpg
ORGANIZER;CN="Festivista":MAILTO:festivistaexhibition@gmail.com
END:VEVENT
END:VCALENDAR