BEGIN:VCALENDAR
VERSION:2.0
PRODID:-//ATI Vancouver - ECPv6.15.16//NONSGML v1.0//EN
CALSCALE:GREGORIAN
METHOD:PUBLISH
X-WR-CALNAME:ATI Vancouver
X-ORIGINAL-URL:https://ativancouver.ca
X-WR-CALDESC:Events for ATI Vancouver
REFRESH-INTERVAL;VALUE=DURATION:PT1H
X-Robots-Tag:noindex
X-PUBLISHED-TTL:PT1H
BEGIN:VTIMEZONE
TZID:America/Vancouver
BEGIN:DAYLIGHT
TZOFFSETFROM:-0800
TZOFFSETTO:-0700
TZNAME:PDT
DTSTART:20230312T100000
END:DAYLIGHT
BEGIN:STANDARD
TZOFFSETFROM:-0700
TZOFFSETTO:-0800
TZNAME:PST
DTSTART:20231105T090000
END:STANDARD
BEGIN:DAYLIGHT
TZOFFSETFROM:-0800
TZOFFSETTO:-0700
TZNAME:PDT
DTSTART:20240310T100000
END:DAYLIGHT
BEGIN:STANDARD
TZOFFSETFROM:-0700
TZOFFSETTO:-0800
TZNAME:PST
DTSTART:20241103T090000
END:STANDARD
BEGIN:DAYLIGHT
TZOFFSETFROM:-0800
TZOFFSETTO:-0700
TZNAME:PDT
DTSTART:20250309T100000
END:DAYLIGHT
BEGIN:STANDARD
TZOFFSETFROM:-0700
TZOFFSETTO:-0800
TZNAME:PST
DTSTART:20251102T090000
END:STANDARD
BEGIN:DAYLIGHT
TZOFFSETFROM:-0800
TZOFFSETTO:-0700
TZNAME:PDT
DTSTART:20260308T100000
END:DAYLIGHT
BEGIN:STANDARD
TZOFFSETFROM:-0700
TZOFFSETTO:-0800
TZNAME:PST
DTSTART:20261101T090000
END:STANDARD
END:VTIMEZONE
BEGIN:VEVENT
DTSTART;TZID=America/Vancouver:20250920T110000
DTEND;TZID=America/Vancouver:20250920T180000
DTSTAMP:20260425T085911
CREATED:20250509T045054Z
LAST-MODIFIED:20250917T181036Z
UID:10000413-1758366000-1758391200@ativancouver.ca
SUMMARY:Namaste Canada 2025
DESCRIPTION:This FREE mega Indian cultural event brings together the vibrant colors\, music\, and traditions of India – right here in Metro Vancouver. Come for a day filled with music\, dance\, art\, and community vibes that celebrate our shared heritage and diversity at the 8th edition of this Mega Indian Cultural Event – Namaste Canada. \nNamaste Canada 2025 Flyer\nNamaste Canada is organized by Consulate General of India (CGI)\, Vancouver\, BC\, Canada. It is a Free Community Event and Open for all! \nNamaste Canada is an annual event organized with the support of local Indian community organizations and groups from Metro Vancouver region to showcase the rich & diverse culture of India. The event typically includes a range of Indian cultural activities including music & dance. \nCatch a glimpse of the energy & excitement of one of the performances below \n\n\n  \n\n\n\n\n\n\n\n\n\n\nView this post on Instagram\n\n\n\n\n\n\n\n\n\n\n\n\n\n\n\n\n\n\n\n\n\n\n  \nA post shared by ICA Vancouver (@icaofvancouver) \n\n\n\nTickets: Free event\, no registration required. \nPlease note: The Namaste Canada 2025 event will run from 11 AM to 6 PM\, with dance performances starting at approximately 2 PM
URL:https://ativancouver.ca/event/namaste-canada-2025/
LOCATION:Vancouver Art Gallery North Plaza\, 750 Hornby Street\, Vancouver\, BC\, V6Z 2H7\, Canada
CATEGORIES:Community
ATTACH;FMTTYPE=image/jpeg:https://ativancouver.ca/wp-content/uploads/2025/05/namaste-canada-2025.jpg
END:VEVENT
BEGIN:VEVENT
DTSTART;TZID=America/Vancouver:20250621T080000
DTEND;TZID=America/Vancouver:20250621T100000
DTSTAMP:20260425T085911
CREATED:20250520T170304Z
LAST-MODIFIED:20250614T070053Z
UID:10000414-1750492800-1750500000@ativancouver.ca
SUMMARY:International Day of Yoga 2025 | Celebrations in Vancouver
DESCRIPTION:Each year International Yoga Day is celebrated in Vancouver and around the globe on June 21st to promote the awareness and benefits of Yoga. Consulate General Of India\, Vancouver with the support of local community organizations and yoga teachers this year again has organized the event to be held at David Lam Park\, Yaletown\, Vancouver\, BC. \nEvent Details:\nDate & Time: June 21\, 2025; 8am-10am\nLocation: David Lam Park\, Yaletown\, Vancouver\nOrganizer: Consulate General Of India\, Vancouver\nRegistration: Free admission but registration required. Please register using this google form. \n  \nEach year\, a specific theme is chosen. This year\, in 2025\, the theme for International Day Of Yoga (IDY) is “Yoga for One Earth\, One Health”. \n  \n\nWhat is International Day of Yoga (IDY)?\nThe International Day of Yoga aims to raise awareness worldwide of the many benefits of practicing yoga. Recognizing its universal appeal\, on 11 December 2014\, the United Nations proclaimed 21 June as the International Day of Yoga. This year on June 21\, 2025 it is going to be 11th International Day of Yoga. \nRead about the significance of the Logo of International Day Of Yoga and you will learn it is more than just the Postures or Asanas. Let’s embrace Yoga and discover the transformative power of physical health & mental well-being within ourselves!
URL:https://ativancouver.ca/event/international-day-of-yoga-2025-in-vancouver/
LOCATION:David Lam Park\, Vancouver\, 1300 Pacific Blvd\, Vancouver\, British Columbia\, V6Z 2Y1\, Canada
CATEGORIES:Community
ATTACH;FMTTYPE=image/jpeg:https://ativancouver.ca/wp-content/uploads/2025/05/international-day-of-yoga-new-flyer.jpg
END:VEVENT
BEGIN:VEVENT
DTSTART;TZID=America/Vancouver:20250309T173000
DTEND;TZID=America/Vancouver:20250309T193000
DTSTAMP:20260425T085911
CREATED:20250306T171223Z
LAST-MODIFIED:20250306T182719Z
UID:10000404-1741541400-1741548600@ativancouver.ca
SUMMARY:Interactive Session with Indian International Students and Professionals by CGI Vancouver - Free Event
DESCRIPTION:Exciting Opportunity for Indian Students & Professionals in Vancouver to attend an forum organized by Consulate General of India (CGI)\, Vancouver! \nThe Consulate General of India\, Vancouver\, invites you to an Interactive Session with Indian International Students and Professionals! \nEvent Details\nDate: Sunday\, March 9\, 2025\nTime: 5:30 PM (Dinner at 7:00 PM)\nVenue: Fraser View Banquet Hall\, 8240 Fraser Street\, Vancouver\, BC V5X 3X6 \nFree event\, register online now or email CGI Vancouver at CUL.VANCOUVER@MEA.GOV.IN \n  \n\n  \nIndian Students in Vancouver & Indian Professionals in Vancouver\, Don’t miss to attend this forum. It’s an opportunity to connect\, learn\, and grow! See you all there!
URL:https://ativancouver.ca/event/interactive-session-with-indian-international-students-and-professionals-by-cgi-vancouver/
LOCATION:Fraserview Banquet Hall\, 8240 Fraser St\, Vancouver\, British Columbia\, V5X 3X6\, Canada
CATEGORIES:Community
ATTACH;FMTTYPE=image/jpeg:https://ativancouver.ca/wp-content/uploads/2025/03/forum-for-indian-students-and-professionals.jpg
END:VEVENT
BEGIN:VEVENT
DTSTART;TZID=America/Vancouver:20241029T170000
DTEND;TZID=America/Vancouver:20241029T190000
DTSTAMP:20260425T085911
CREATED:20241022T042631Z
LAST-MODIFIED:20241023T012829Z
UID:10000363-1730221200-1730228400@ativancouver.ca
SUMMARY:Ayurveda Day 2024 Celebrations in Vancouver
DESCRIPTION:Come and Celebrate Ayurveda Day at Bridge & Enrich Lives Society\, located at 718 E 20th Ave\, Vancouver\, BC on October 29\, 2024; 5pm-7pm  organized by Consulate General of India\, Vancouver & Ayurveda Association of Canada in collaboration with Sewanti & Heartulness. \nAyurveda Day Event Schedule\nThis is a celebration of the timeless wisdom and holistic approach of Ayurveda\, one of the oldest documented systems of medicine. Ayurveda Day is celebrated on the occasion of Dhanvantari Jayanti\, who is said to be the father of Ayurveda. \nScan the QR Code Above or Click Here to register.
URL:https://ativancouver.ca/event/ayurveda-day-2024-celebrations-in-vancouver/
LOCATION:Bridge & Enrich Lives Society\, 718 E 20th Ave\, Vancouver\, BC\, V5V 1N2
CATEGORIES:Community
ATTACH;FMTTYPE=image/jpeg:https://ativancouver.ca/wp-content/uploads/2024/10/ayurveda-day-2024.jpg
END:VEVENT
BEGIN:VEVENT
DTSTART;TZID=America/Vancouver:20240921T140000
DTEND;TZID=America/Vancouver:20240921T190000
DTSTAMP:20260425T085911
CREATED:20240714T041902Z
LAST-MODIFIED:20240801T051239Z
UID:10000332-1726927200-1726945200@ativancouver.ca
SUMMARY:Namaste Canada 2024
DESCRIPTION:Save the date for the 7th edition of this Mega Indian Cultural Event. Namaste Canada is organized by Consulate General of India (CGI)\, Vancouver\, BC\, Canada. Namaste Canada 2024 is going to take place this year on September 21\, 2024. It is a Free Community Event for all!! \nNamaste Canada is an annual event organized with the support of local Indian community organizations and groups from Metro Vancouver region to showcase the rich & diverse culture of India. The event typically includes a range of Indian cultural activities including music & dance. \nThis year\, unlike the past six editions\, the organizers have planned a 4–5-hour continuous evening show. \n 
URL:https://ativancouver.ca/event/namaste-canada-2024/
LOCATION:Vancouver Art Gallery North Plaza\, 750 Hornby Street\, Vancouver\, BC\, V6Z 2H7\, Canada
CATEGORIES:Community,Music,Performing & Visual Arts
ATTACH;FMTTYPE=image/jpeg:https://ativancouver.ca/wp-content/uploads/2024/07/namaste-canada-logo-2024.jpg
END:VEVENT
END:VCALENDAR