BEGIN:VCALENDAR
VERSION:2.0
PRODID:-//ATI Vancouver - ECPv6.15.16//NONSGML v1.0//EN
CALSCALE:GREGORIAN
METHOD:PUBLISH
X-ORIGINAL-URL:https://ativancouver.ca
X-WR-CALDESC:Events for ATI Vancouver
REFRESH-INTERVAL;VALUE=DURATION:PT1H
X-Robots-Tag:noindex
X-PUBLISHED-TTL:PT1H
BEGIN:VTIMEZONE
TZID:America/Vancouver
BEGIN:DAYLIGHT
TZOFFSETFROM:-0800
TZOFFSETTO:-0700
TZNAME:PDT
DTSTART:20220313T100000
END:DAYLIGHT
BEGIN:STANDARD
TZOFFSETFROM:-0700
TZOFFSETTO:-0800
TZNAME:PST
DTSTART:20221106T090000
END:STANDARD
BEGIN:DAYLIGHT
TZOFFSETFROM:-0800
TZOFFSETTO:-0700
TZNAME:PDT
DTSTART:20230312T100000
END:DAYLIGHT
BEGIN:STANDARD
TZOFFSETFROM:-0700
TZOFFSETTO:-0800
TZNAME:PST
DTSTART:20231105T090000
END:STANDARD
BEGIN:DAYLIGHT
TZOFFSETFROM:-0800
TZOFFSETTO:-0700
TZNAME:PDT
DTSTART:20240310T100000
END:DAYLIGHT
BEGIN:STANDARD
TZOFFSETFROM:-0700
TZOFFSETTO:-0800
TZNAME:PST
DTSTART:20241103T090000
END:STANDARD
END:VTIMEZONE
BEGIN:VEVENT
DTSTART;TZID=America/Vancouver:20230502T180000
DTEND;TZID=America/Vancouver:20230502T200000
DTSTAMP:20260425T045826
CREATED:20230501T040103Z
LAST-MODIFIED:20230501T040142Z
UID:10000237-1683050400-1683057600@ativancouver.ca
SUMMARY:7 Easy Way to Grow Your Business By Focusing on Your Personal Health
DESCRIPTION:Learn & Network\nCome & learn how you can grown your business by focusing on your personal health. \nAgenda:\n6:00pm – Event Starts with Open Networking\n6:15pm – Introduction Round\n6:30pm – Guest Speaker Presentation\n6:50pm – Q & A\n7:00pm – Dinner & Open Networking\n8:00pm – Meeting ends \nGuest Speaker:\nKiran Rampuri \nRegistration & Price:\nEarly Bird $35\, Regular – At The Door $40. Buy Tickets Online
URL:https://ativancouver.ca/event/7-easy-way-to-grow-your-business-by-focusing-on-your-personal-health/
LOCATION:CoWorks by Elevate – Langley\, 20627 Fraser Hwy\, Langley\, British Columbia\, V3A 4G4\, Canada
CATEGORIES:Business,Community,Health,Information Session
ATTACH;FMTTYPE=image/png:https://ativancouver.ca/wp-content/uploads/2023/04/kiran-exl-eventbrite.png
END:VEVENT
END:VCALENDAR