BEGIN:VCALENDAR
VERSION:2.0
PRODID:-//ATI Vancouver - ECPv6.15.16//NONSGML v1.0//EN
CALSCALE:GREGORIAN
METHOD:PUBLISH
X-WR-CALNAME:ATI Vancouver
X-ORIGINAL-URL:https://ativancouver.ca
X-WR-CALDESC:Events for ATI Vancouver
REFRESH-INTERVAL;VALUE=DURATION:PT1H
X-Robots-Tag:noindex
X-PUBLISHED-TTL:PT1H
BEGIN:VTIMEZONE
TZID:America/Vancouver
BEGIN:DAYLIGHT
TZOFFSETFROM:-0800
TZOFFSETTO:-0700
TZNAME:PDT
DTSTART:20220313T100000
END:DAYLIGHT
BEGIN:STANDARD
TZOFFSETFROM:-0700
TZOFFSETTO:-0800
TZNAME:PST
DTSTART:20221106T090000
END:STANDARD
BEGIN:DAYLIGHT
TZOFFSETFROM:-0800
TZOFFSETTO:-0700
TZNAME:PDT
DTSTART:20230312T100000
END:DAYLIGHT
BEGIN:STANDARD
TZOFFSETFROM:-0700
TZOFFSETTO:-0800
TZNAME:PST
DTSTART:20231105T090000
END:STANDARD
BEGIN:DAYLIGHT
TZOFFSETFROM:-0800
TZOFFSETTO:-0700
TZNAME:PDT
DTSTART:20240310T100000
END:DAYLIGHT
BEGIN:STANDARD
TZOFFSETFROM:-0700
TZOFFSETTO:-0800
TZNAME:PST
DTSTART:20241103T090000
END:STANDARD
END:VTIMEZONE
BEGIN:VEVENT
DTSTART;TZID=America/Vancouver:20230207T183000
DTEND;TZID=America/Vancouver:20230207T200000
DTSTAMP:20260425T082256
CREATED:20230126T194326Z
LAST-MODIFIED:20230126T194326Z
UID:10000204-1675794600-1675800000@ativancouver.ca
SUMMARY:Business Event: How to Leverage Govt. Grants to Grow Your Business in 2023
DESCRIPTION:The Market is changing and growing business is hard. But networking is super-easy. Come and join us on to network with other professionals and grow your business. \nWhat the event look like? \n\nMeet and Greet\nCasual Networking\nShare Referrals\nPresentation by the guest speaker\nLearn & grow your Business\n\nGuest Speaker: Ankur Merwaha\, CPA\nTopic: How to Leverage Govt. Grants to Grow your Business in 2023\nLocation: CoWorks by Elevate – Langley (20627 Fraser Hwy\, Langley)\nCost: $30\nRegistration: Register here: https://businessexl.com/event Or call 604-780-1149 for questions
URL:https://ativancouver.ca/event/business-event-how-to-leverage-govt-grants-to-grow-your-business-in-2023/
LOCATION:CoWorks by Elevate – Langley\, 20627 Fraser Hwy\, Langley\, British Columbia\, V3A 4G4\, Canada
CATEGORIES:Business
ATTACH;FMTTYPE=image/jpeg:https://ativancouver.ca/wp-content/uploads/2023/01/how-to-leverage-govt-grants-to-grow.jpg
END:VEVENT
END:VCALENDAR