BEGIN:VCALENDAR
VERSION:2.0
PRODID:-//ATI Vancouver - ECPv6.15.16//NONSGML v1.0//EN
CALSCALE:GREGORIAN
METHOD:PUBLISH
X-ORIGINAL-URL:https://ativancouver.ca
X-WR-CALDESC:Events for ATI Vancouver
REFRESH-INTERVAL;VALUE=DURATION:PT1H
X-Robots-Tag:noindex
X-PUBLISHED-TTL:PT1H
BEGIN:VTIMEZONE
TZID:America/Vancouver
BEGIN:DAYLIGHT
TZOFFSETFROM:-0800
TZOFFSETTO:-0700
TZNAME:PDT
DTSTART:20240310T100000
END:DAYLIGHT
BEGIN:STANDARD
TZOFFSETFROM:-0700
TZOFFSETTO:-0800
TZNAME:PST
DTSTART:20241103T090000
END:STANDARD
BEGIN:DAYLIGHT
TZOFFSETFROM:-0800
TZOFFSETTO:-0700
TZNAME:PDT
DTSTART:20250309T100000
END:DAYLIGHT
BEGIN:STANDARD
TZOFFSETFROM:-0700
TZOFFSETTO:-0800
TZNAME:PST
DTSTART:20251102T090000
END:STANDARD
BEGIN:DAYLIGHT
TZOFFSETFROM:-0800
TZOFFSETTO:-0700
TZNAME:PDT
DTSTART:20260308T100000
END:DAYLIGHT
BEGIN:STANDARD
TZOFFSETFROM:-0700
TZOFFSETTO:-0800
TZNAME:PST
DTSTART:20261101T090000
END:STANDARD
END:VTIMEZONE
BEGIN:VEVENT
DTSTART;TZID=America/Vancouver:20250923T173000
DTEND;TZID=America/Vancouver:20250923T193000
DTSTAMP:20260424T171542
CREATED:20250910T222505Z
LAST-MODIFIED:20250910T222754Z
UID:10000444-1758648600-1758655800@ativancouver.ca
SUMMARY:You\, Your Health & the Gap: How Yoga Fills the Gap  - Yoga Talk in Burnaby by Indian Yoga Guru
DESCRIPTION:Join for a thought-provoking evening with two world-renowned yoga and integrative medicine experts Dr. H. R. Nagendra and Dr. N. K. Manjunath of SVYASA University\, India being held at Burnaby Hindu Temple. \nDate: Tuesday\, September 23\, 2025\nTime: 5:30 PM – 7:30 PM\nVenue: Hindu Temple Burnaby\, 5420 Marine Drive\, Burnaby\, BC \nAbout the Speakers\n\nPadma Shri Dr. H. R. Nagendra – A globally respected Indian Yoga Guru\, researcher\, and Padma Shri awardee\, Dr. Nagendra has spent decades pioneering the integration of ancient yogic wisdom with modern science. His work has shaped policies and practices around yoga\, health\, and holistic well-being\, inspiring millions across the world.\nDr. N. K. Manjunath – A distinguished researcher\, academician\, and proponent of integrative medicine\, Dr. Manjunath is internationally recognized for his motivational talks and scientific contributions that highlight the healing power of yoga and spirituality in today’s world.\n\n  \nWhy Attend?\nModern lifestyles often leave a gap between our health needs and the care we receive. This event will explore how yoga bridges that gap by combining: \n\nAncient yogic traditions rooted in holistic well-being\nScientific research in integrative medicine\nPractical tools for better health\, stress management\, and inner balance\n\n  \nWhether you are new to yoga or a longtime practitioner\, this talk will open fresh perspectives on living a healthier\, more fulfilled life. \nCommunity Gathering\nAfter the talk\, attendees will be welcomed to share Preetibhojan (community meal) – a chance to connect\, reflect\, and celebrate wellness together. \nThis is a rare opportunity to hear from two of the most respected voices in the field of yoga and integrative health. Mark your calendar for September 23rd and be part of this special evening where science meets spirituality\, and yoga truly fills the gap. \nFor details\, you may contact Dr. Preeti at 778-996-1807 \n  \n\n  \nYoga Retreat is also available with Indian Yoga Guru from September 20-21\, 2025. Please read the blog under community section.
URL:https://ativancouver.ca/event/yoga-health-talk-indian-guru-burnaby/
LOCATION:Burnaby HIndu Mandir\, 5420 Marine Dr\, Burnaby\, BC\, V7W 2R2\, Canada
CATEGORIES:Community,Health
ATTACH;FMTTYPE=image/jpeg:https://ativancouver.ca/wp-content/uploads/2025/09/indian-yoga-guru-in-burnaby.jpg
END:VEVENT
END:VCALENDAR