BEGIN:VCALENDAR
VERSION:2.0
PRODID:-//ATI Vancouver - ECPv6.15.16//NONSGML v1.0//EN
CALSCALE:GREGORIAN
METHOD:PUBLISH
X-ORIGINAL-URL:https://ativancouver.ca
X-WR-CALDESC:Events for ATI Vancouver
REFRESH-INTERVAL;VALUE=DURATION:PT1H
X-Robots-Tag:noindex
X-PUBLISHED-TTL:PT1H
BEGIN:VTIMEZONE
TZID:America/Vancouver
BEGIN:DAYLIGHT
TZOFFSETFROM:-0800
TZOFFSETTO:-0700
TZNAME:PDT
DTSTART:20220313T100000
END:DAYLIGHT
BEGIN:STANDARD
TZOFFSETFROM:-0700
TZOFFSETTO:-0800
TZNAME:PST
DTSTART:20221106T090000
END:STANDARD
BEGIN:DAYLIGHT
TZOFFSETFROM:-0800
TZOFFSETTO:-0700
TZNAME:PDT
DTSTART:20230312T100000
END:DAYLIGHT
BEGIN:STANDARD
TZOFFSETFROM:-0700
TZOFFSETTO:-0800
TZNAME:PST
DTSTART:20231105T090000
END:STANDARD
BEGIN:DAYLIGHT
TZOFFSETFROM:-0800
TZOFFSETTO:-0700
TZNAME:PDT
DTSTART:20240310T100000
END:DAYLIGHT
BEGIN:STANDARD
TZOFFSETFROM:-0700
TZOFFSETTO:-0800
TZNAME:PST
DTSTART:20241103T090000
END:STANDARD
END:VTIMEZONE
BEGIN:VEVENT
DTSTART;TZID=America/Vancouver:20230812T110000
DTEND;TZID=America/Vancouver:20230812T120000
DTSTAMP:20260425T045826
CREATED:20230805T075942Z
LAST-MODIFIED:20230805T080212Z
UID:10000251-1691838000-1691841600@ativancouver.ca
SUMMARY:Bollywood Semi Classical Dance Workshop by Arjita Bansal
DESCRIPTION:Join for an enjoyable Workshop for Bollywood dance and Semi classical steps. We will also be doing basics steps for those who are beginners. This workshop helps you for developing your interest in dance and make your body flexible. The workshop will focus on basic movements in Bollywood and Semi Classical dance\, with an emphasis on ‘Adaa’ meaning expression. \nAbout the instructor:\nNational Award winner from India\, Arjita Bansal is a certified Kathak dancer\, trained in the Bollywood industry. She has performed over 1\,000 shows worldwide. \nRegistration:\nFree event\, please register \n\nThis workshop is part of Namaste Canada 2023 dance workshop series. Namaste Canada is a grand event organized by Consulate General of India\, Vancouver happening on September 2 at Bell Performing Arts Centre\, Surrey.
URL:https://ativancouver.ca/event/bollywood-semi-classical-dance-workshop-by-arjita-bansal/
LOCATION:Bounce Bac Fitness\, 8388 128 Street\, Unit# 2\, Surrey\, British Columbia\, V3W 4G2\, Canada
CATEGORIES:Community,Health,Performing & Visual Arts
ATTACH;FMTTYPE=image/jpeg:https://ativancouver.ca/wp-content/uploads/2023/08/9a8df35d-9185-4ee9-ad49-c027de7a11f9.jpeg
END:VEVENT
END:VCALENDAR