BEGIN:VCALENDAR
VERSION:2.0
PRODID:-//ATI Vancouver - ECPv6.15.16//NONSGML v1.0//EN
CALSCALE:GREGORIAN
METHOD:PUBLISH
X-WR-CALNAME:ATI Vancouver
X-ORIGINAL-URL:https://ativancouver.ca
X-WR-CALDESC:Events for ATI Vancouver
REFRESH-INTERVAL;VALUE=DURATION:PT1H
X-Robots-Tag:noindex
X-PUBLISHED-TTL:PT1H
BEGIN:VTIMEZONE
TZID:America/Vancouver
BEGIN:DAYLIGHT
TZOFFSETFROM:-0800
TZOFFSETTO:-0700
TZNAME:PDT
DTSTART:20240310T100000
END:DAYLIGHT
BEGIN:STANDARD
TZOFFSETFROM:-0700
TZOFFSETTO:-0800
TZNAME:PST
DTSTART:20241103T090000
END:STANDARD
BEGIN:DAYLIGHT
TZOFFSETFROM:-0800
TZOFFSETTO:-0700
TZNAME:PDT
DTSTART:20250309T100000
END:DAYLIGHT
BEGIN:STANDARD
TZOFFSETFROM:-0700
TZOFFSETTO:-0800
TZNAME:PST
DTSTART:20251102T090000
END:STANDARD
BEGIN:DAYLIGHT
TZOFFSETFROM:-0800
TZOFFSETTO:-0700
TZNAME:PDT
DTSTART:20260308T100000
END:DAYLIGHT
BEGIN:STANDARD
TZOFFSETFROM:-0700
TZOFFSETTO:-0800
TZNAME:PST
DTSTART:20261101T090000
END:STANDARD
END:VTIMEZONE
BEGIN:VEVENT
DTSTART;TZID=America/Vancouver:20250213T200000
DTEND;TZID=America/Vancouver:20250213T220000
DTSTAMP:20260421T024825
CREATED:20250111T204416Z
LAST-MODIFIED:20250111T204510Z
UID:10000381-1739476800-1739484000@ativancouver.ca
SUMMARY:Vagabond Players Presents A Nice Indian Boy
DESCRIPTION:Naveen Gavaskar is a nice Indian boy who wants a traditional Hindu marriage to… another nice Indian boy. While his parents are busy trying to wrap their heads around this twist on tradition\, his older sister returns home and drops a bombshell of her own. This comedy about love and marriage tackles the joys and chaos of family\, whether gay or straight\, arranged or not. Get ready for a heartwarming and hilarious ride through the ups and downs of modern relationships and timeless family expectations. This is\, without a doubt\, one of the funniest shows you will see this year. It is touching\, heartfelt and so real\, making it a perfect story for the winter months. \nSee the original script at a local community theatre before the movie is released later this year! \nA Nice Indian Boy was first produced by East West Players in Los Angeles\, CA under EWP Producing Artistic Director\, Tim Dang \nWarning: Adult themes \n​
URL:https://ativancouver.ca/event/vagabond-players-presents-a-nice-indian-boy/
LOCATION:The Bernie Legge Theatre\, Queen's Park\, New Westminster\, BC\, V3L 1L7\, Canada
CATEGORIES:Performing & Visual Arts
ATTACH;FMTTYPE=image/png:https://ativancouver.ca/wp-content/uploads/2025/01/anib.png
ORGANIZER;CN="Vagabond Players":MAILTO:publicity@vagabondplayers.ca
END:VEVENT
BEGIN:VEVENT
DTSTART;TZID=America/Vancouver:20250216T110000
DTEND;TZID=America/Vancouver:20250216T150000
DTSTAMP:20260421T024825
CREATED:20250126T072503Z
LAST-MODIFIED:20250127T050922Z
UID:10000395-1739703600-1739718000@ativancouver.ca
SUMMARY:Singletine - Singles Meetup For Desis in Metro Vancouver
DESCRIPTION:NRI Bol With Neeraja Aptikar in association with ATI Vancouver presents “Singletine – Singles Meetup” for Desis in Vancouver. \nJoin us for an unique event designed for those who are single and looking for networking and socialization with like minded people. The event includes Celebration\, engaging entertainment\, open mic session and much more accompanied by a delicious 3 course lunch. \nHurry up\, limited spots available!!! Do not miss this quality event to make connections & celebrate together! \nTickets: E-transfer $35 per person to aptikarneeraja@gmail.com
URL:https://ativancouver.ca/event/singletine-singles-meetup-for-desis-in-metro-vancouver/
LOCATION:Kurrywala Indian Restaurant\, Burnaby\, 7660 6th Street\, Burnaby\, British Columbia\, V3N 3M7\, Canada
CATEGORIES:Community,Music
ATTACH;FMTTYPE=image/jpeg:https://ativancouver.ca/wp-content/uploads/2025/01/singletine-kurrywala-indian-restaurant-burnaby.jpg
ORGANIZER;CN="NRI Bol With Neeraja Aptikar":MAILTO:aptikarneeraja@gmail.com
END:VEVENT
BEGIN:VEVENT
DTSTART;TZID=America/Vancouver:20250216T160000
DTEND;TZID=America/Vancouver:20250216T173000
DTSTAMP:20260421T024825
CREATED:20250122T180004Z
LAST-MODIFIED:20250201T065658Z
UID:10000393-1739721600-1739727000@ativancouver.ca
SUMMARY:Strings Attached - Karnatik Classical Music Violin Duo
DESCRIPTION:Karnatik Classical music is coming to Langley!\nBring your children to discover the magic of Karnatik classical music. Featuring local teenage musicians Satvik & Shravan \nTicket links:\nClick to Buy Individual Tickets\nClick to Buy Family Tickets \nMusically Yours\,\nKeerthy Raghavan\nLayaPriya School of Performing Arts
URL:https://ativancouver.ca/event/strings-attached-karnatik-classical-music-violin-duo/
LOCATION:Mangal Bhavan\, Langley\, 19803\, 86 Ave\, Langley\, BC\, V2Y 1Z6\, Canada
CATEGORIES:Music
ATTACH;FMTTYPE=image/jpeg:https://ativancouver.ca/wp-content/uploads/2025/01/strings-attached-feb25.jpg
END:VEVENT
BEGIN:VEVENT
DTSTART;TZID=America/Vancouver:20250223T140000
DTEND;TZID=America/Vancouver:20250223T170000
DTSTAMP:20260421T024825
CREATED:20250110T213922Z
LAST-MODIFIED:20250110T214310Z
UID:10000380-1740319200-1740330000@ativancouver.ca
SUMMARY:Free Professional Workshop - Resume and LinkedIn Essentials
DESCRIPTION:A free professional workshop is being offered by Miracles of Karma (MOK) Foundation on Sunday\, Feb 23\, 2024 at Bonsor Recreational Complex\, Burnaby. The venue is conveniently located near Metrotown Skytrain. \nThis free workshop aims to provide the networking opportunity to the newcomers and offer something valuable at the same time. \nLearning Outcome:\n\nHow to create an impressive resume\nWays to enhance your LinkedIn profile\nStrategies for professional self-branding\nUpdates on the latest immigration regulations\n\n  \nFree Workshop by Miracles of Karma Foundation\nThe event is free to attend and refreshments will also be provided. Come\, learn\, network with peers\, and get an opportunity to network with an industry expert and with other Indian Professionals in Vancouver. \nRegistration: Please register online using this link
URL:https://ativancouver.ca/event/free-professional-workshop-resume-and-linkedin-essentials/
LOCATION:Bonsor Recreation Complex\, 6550 Bonsor Ave\, Burnaby\, BC V5H 3G4\, 6550 Bonsor Ave\, Burnaby\, BC V5H 3G4\, Burnaby\, BC\, V5H3G4\, Canada
CATEGORIES:Community,Information Session
ATTACH;FMTTYPE=image/jpeg:https://ativancouver.ca/wp-content/uploads/2025/01/free-linkedin-workshop-for-indians-in-vancouver.jpg
END:VEVENT
BEGIN:VEVENT
DTSTART;TZID=America/Vancouver:20250227T120000
DTEND;TZID=America/Vancouver:20250227T130000
DTSTAMP:20260421T024825
CREATED:20250201T070016Z
LAST-MODIFIED:20250201T070016Z
UID:10000396-1740657600-1740661200@ativancouver.ca
SUMMARY:Discover Dance! SHIAMAK Vancouver
DESCRIPTION:The Dance Centre’s popular Discover Dance! noon series celebrates the energy\, comedy\, drama\, and fun of Bollywood\, with a performance by SHIAMAK Vancouver. Blending Bollywood with jazz\, funk\, folk and modern influences\, the company delivers wildly entertaining performances that are guaranteed to get you on your feet!
URL:https://ativancouver.ca/event/discover-dance-shiamak-vancouver/
LOCATION:Scotiabank Dance Centre\, 677 Davie St\, Vancouver\, British Columbia\, V6B 2G6\, Canada
CATEGORIES:Performing & Visual Arts
ATTACH;FMTTYPE=image/jpeg:https://ativancouver.ca/wp-content/uploads/2025/01/dd-shiamak-feb-2025-poster-email.jpg
ORGANIZER;CN="The Dance Centre":MAILTO:info@thedancecentre.ca
END:VEVENT
BEGIN:VEVENT
DTSTART;TZID=America/Vancouver:20250227T180000
DTEND;TZID=America/Vancouver:20250227T220000
DTSTAMP:20260421T024825
CREATED:20250130T073335Z
LAST-MODIFIED:20250207T202741Z
UID:10000397-1740679200-1740693600@ativancouver.ca
SUMMARY:Vancouver Desipreneurs: Business Networking Event for Indian Entrepreneurs
DESCRIPTION:Are you an Indian small business owner in Metro Vancouver looking to expand your network\, collaborate\, and grow your business? Vancouver Desipreneurs invites you to an exclusive Business Networking Event designed for Desi entrepreneurs to connect\, exchange ideas\, and build valuable partnerships. \nVancouver Desipreneurs Networking Event\nWhy Attend?\n\nNetwork with fellow Indian business owners from diverse industries\nCollaborate & discover new opportunities to grow your business\nLearn from each other’s experiences and gain valuable insights\nEnjoy a delicious Indian dinner while making meaningful connections\n\n  \nVenue: Kurry Wala Indian Restaurant\, 7660 6th St\, Burnaby\nDate & Time: February 27\, 2025 | 6:00 PM onwards\nEntry Fee: $35 per person (Includes Dinner) \nWho Should Attend?\n\nSmall business owners & entrepreneurs\nFreelancers & self-employed professionals\nStartups & aspiring business owners\nAnyone looking to expand their business network within the Indian community\n\n  \nSpots are limited! Secure your seat today and be part of Vancouver’s thriving Desi business community! \nHow to Join?\nJoin to network\, collaborate\, and grow together! Connect with Neeraj Kumar or fill this google form to be contacted. \nPlease note: No Walk-ins are allowed.  \n  \n  \n 
URL:https://ativancouver.ca/event/desipreneurs-networking-event/
LOCATION:Kurrywala Indian Restaurant\, Burnaby\, 7660 6th Street\, Burnaby\, British Columbia\, V3N 3M7\, Canada
CATEGORIES:Business
ATTACH;FMTTYPE=image/jpeg:https://ativancouver.ca/wp-content/uploads/2025/01/desipreneur-networking-mixer-february-27-2025.jpg
ORGANIZER;CN="Neeraj Kumar":MAILTO:hello@neerajkumar.net
END:VEVENT
END:VCALENDAR