BEGIN:VCALENDAR
VERSION:2.0
PRODID:-//ATI Vancouver - ECPv6.15.16//NONSGML v1.0//EN
CALSCALE:GREGORIAN
METHOD:PUBLISH
X-ORIGINAL-URL:https://ativancouver.ca
X-WR-CALDESC:Events for ATI Vancouver
REFRESH-INTERVAL;VALUE=DURATION:PT1H
X-Robots-Tag:noindex
X-PUBLISHED-TTL:PT1H
BEGIN:VTIMEZONE
TZID:America/Vancouver
BEGIN:DAYLIGHT
TZOFFSETFROM:-0800
TZOFFSETTO:-0700
TZNAME:PDT
DTSTART:20230312T100000
END:DAYLIGHT
BEGIN:STANDARD
TZOFFSETFROM:-0700
TZOFFSETTO:-0800
TZNAME:PST
DTSTART:20231105T090000
END:STANDARD
BEGIN:DAYLIGHT
TZOFFSETFROM:-0800
TZOFFSETTO:-0700
TZNAME:PDT
DTSTART:20240310T100000
END:DAYLIGHT
BEGIN:STANDARD
TZOFFSETFROM:-0700
TZOFFSETTO:-0800
TZNAME:PST
DTSTART:20241103T090000
END:STANDARD
BEGIN:DAYLIGHT
TZOFFSETFROM:-0800
TZOFFSETTO:-0700
TZNAME:PDT
DTSTART:20250309T100000
END:DAYLIGHT
BEGIN:STANDARD
TZOFFSETFROM:-0700
TZOFFSETTO:-0800
TZNAME:PST
DTSTART:20251102T090000
END:STANDARD
END:VTIMEZONE
BEGIN:VEVENT
DTSTART;TZID=America/Vancouver:20241115T193000
DTEND;TZID=America/Vancouver:20241115T213000
DTSTAMP:20260421T065619
CREATED:20241109T180037Z
LAST-MODIFIED:20241109T181109Z
UID:10000368-1731699000-1731706200@ativancouver.ca
SUMMARY:Trichy Sankaran Live in Concert - Anvil Theatre\, New Westminster
DESCRIPTION:Trichy Sankaran: Live in Concert\nwith:\nRaman Kalyan: flute\nVidyasagar Vankayala: voice\nJared Burrows: electric guitar\nDavid Soutar-Spidel: electric bass\nCurtis Andrews: percussion \nLocation: Anvil Theatre (near a Skytrain stop!)\, New Westminster\, BC\nDate & Time: Friday\, Nov 15\, 2024; 7:30pm\nTickets: $17-$35 (various rates including a group rate!) \nExperience an extraordinary evening of music with legendary South Indian percussion maestro Trichy Sankaran in Metro Vancouver\, BC. He is one of the world’s greatest mridangam players. At 82 years old\, Sankaran continues to captivate audiences worldwide with his unparalleled rhythmic mastery\, creativity\, and vitality. Visit Anvil Theatre Website to buy tickets or read more about the event.
URL:https://ativancouver.ca/event/trichy-sankaran-live-in-concert/
LOCATION:Anvil Centre\, New Westminster\, 777 Columbia Street\, New Westminster\, BC\, V3M 1B6\, Canada
ATTACH;FMTTYPE=image/png:https://ativancouver.ca/wp-content/uploads/2024/11/trichy-sankaran-sir-1.png
END:VEVENT
BEGIN:VEVENT
DTSTART;TZID=America/Vancouver:20241116T150000
DTEND;TZID=America/Vancouver:20241116T170000
DTSTAMP:20260421T065619
CREATED:20241026T073514Z
LAST-MODIFIED:20241026T073621Z
UID:10000364-1731769200-1731776400@ativancouver.ca
SUMMARY:Bharatnatyam Meetup by SincArts BC
DESCRIPTION:First-ever Bharatanatyam Meetup in the Lower Mainland of BC! Whether you’re a student\, teacher\, artist\, choreographer\, or simply a Bharatanatyam lover\, come join SincArts BC for an inspiring conversation as we build a vibrant community of dancers. Let’s share our dance journeys\, enjoy great conversations\, laughter\, and\, most importantly\, celebrate Bharatanatyam together! \nLocation: Auditorium\, New Westminster Public Library – Main Branch\, 716 6th Avenue\, New Westminster\, BC V3M 2B3\nDate: November 16\nTime: 3:00 – 5:00 PM \nFree event\, please RSVP to reserve your spot. For more information contact us at (778) 325-6609 or sincartsbc@gmail.com
URL:https://ativancouver.ca/event/bharatnatyam-meetup-by-sincarts-bc/
LOCATION:New Westminster Public Library\, 716 6th Avenue\, New Westminster\, BC\, V3M 2B3\, Canada
CATEGORIES:Community,Information Session
ATTACH;FMTTYPE=image/jpeg:https://ativancouver.ca/wp-content/uploads/2024/10/bharatnatyam-meetup-sincarts-bc.jpg
ORGANIZER;CN="SINCArts BC - Society of Indo-Canadian Performing Arts BC":MAILTO:sincartsbc@gmail.com
END:VEVENT
BEGIN:VEVENT
DTSTART;TZID=America/Vancouver:20241117T130000
DTEND;TZID=America/Vancouver:20241117T150000
DTSTAMP:20260421T065619
CREATED:20241020T172536Z
LAST-MODIFIED:20241115T074540Z
UID:10000362-1731848400-1731855600@ativancouver.ca
SUMMARY:Home Buying Essentials: Protecting Your Purchase Through Due Diligence
DESCRIPTION:Join us for the Homebuyer Workshop: Protect Your Investment with Insurance and Inspections\, where you’ll gain invaluable insights into two essential components of the homebuying process. \n \nWhether you’re a first-time buyer or looking to refresh your knowledge\, this workshop will empower you to make informed decisions. \nWhat to Expect:\n\nExpert Presentations: Hear from a home insurance specialist and a certified home inspector as they share their expertise.\nKey Topics Covered: Learn about the types of home insurance coverage\, what to look for during a home inspection\, and how both can safeguard your investment.\nReal-Life Case Studies: Discover how due diligence can save you money and stress down the line.\nQ&A Session: Bring your questions and get personalized answers from the experts.\n\nRegister Now for this free real estate seminar\nThe session is hosted by REALTOR® Neeraj Kumar from Neeraj Kumar Real Estate Team\, where home insurance expert Naina Gandevia from Johnston Meier Insurance Agencies Group will demystify the home insurances and Raj Rai from Buyer’s Choice Home Inspections will explain the process of home inspection for your new home. \nDon’t miss this opportunity to ensure your home purchase is secure and informed. Register today and take the first step towards protecting your future home! \n \n \nBuying a home is a significant investment\, and due diligence is essential to protect that investment. By thoroughly understanding the property’s condition and potential risks\, buyers can make informed decisions and avoid costly surprises.
URL:https://ativancouver.ca/event/home-buying-essentials-protecting-your-purchase-through-due-diligence/
LOCATION:Surrey Centre Library\, 10350 University Drive\, Surrey\, British Columbia\, V3T 4B8\, Canada
CATEGORIES:Business
ATTACH;FMTTYPE=image/jpeg:https://ativancouver.ca/wp-content/uploads/2024/10/home-buying-essentials-insurance-and-inspection.jpg
END:VEVENT
BEGIN:VEVENT
DTSTART;TZID=America/Vancouver:20241122T183000
DTEND;TZID=America/Vancouver:20241122T203000
DTSTAMP:20260421T065619
CREATED:20241106T204921Z
LAST-MODIFIED:20241119T071242Z
UID:10000366-1732300200-1732307400@ativancouver.ca
SUMMARY:Hindu Heritage Month Celebrations in Port Moody\, BC - Free Event by BKSP Canada
DESCRIPTION:Come & join the celebrations of Hindu Heritage Month by Bharatiya Kala Evam Sahitya Parishad (BKSP) Canada. It’s a Free event to celebrate Hindu Heritage Month 2024. \nLet’s have pride and celebrate the beautiful heritage that believes in “Vasudhaiv Kutumkam”\, which means the whole world is one big family. \nEvent Details:\nDate & Time: November 22\, 2024; 6:30pm\nVenue: 125\, Kyle Street\, Port Moody\, BC.\nRegistration: Free event but prior registration required. Please register using this google form. \nHindu Heritage Month 2024 Celebrations in Port Moody\nThe event is supported by local community associations & groups including:\n\nIndia Cultural Association (ICA) Of Vancouver\nHSS\nUva Events\nSri Jagannath Cultural Society\nHindu Mahila Cultural Society\nCanadian Desi Arts & Cultural Club\nNutrify Me\nBandish Network\nAll Things Indian (ATI) Vancouver\n\nRegister Now to attend this Free Community Event. \nPlease contact Dr. Ajay Garg 604-362-2095\, Sameer Garcha 778-861-8084 or email bkspcanada@gmail.com for more information.
URL:https://ativancouver.ca/event/hindu-heritage-month-celebrations-in-port-moody-bc-free-event-by-bksp-canada/
LOCATION:Kyle Centre\, 125 Kyle St\, Port Moody\, BC\, Canada
CATEGORIES:Community,Information Session
ATTACH;FMTTYPE=image/jpeg:https://ativancouver.ca/wp-content/uploads/2024/11/bksp-hindu-heritage-month-port-moody.jpg
ORGANIZER;CN="BKSP - Bharatiya Kala Evam Sahitya Parishad":MAILTO:bkspcanada@gmail.com
END:VEVENT
BEGIN:VEVENT
DTSTART;TZID=America/Vancouver:20241122T190000
DTEND;TZID=America/Vancouver:20241122T210000
DTSTAMP:20260421T065619
CREATED:20241113T013522Z
LAST-MODIFIED:20241113T013522Z
UID:10000371-1732302000-1732309200@ativancouver.ca
SUMMARY:Sunny Matharu Trio
DESCRIPTION:PoMoArts and the Vancouver Intercultural Orchestra are proud to present the Sunny Matharu Trio as part of the PoMoArts Concert Series. \nGrowing up in a musical family\, Sunny began his training in Tabla at a very young age. To this day\, he continues to learn under the guidance of Tabla maestro Pandit Yogesh Samsi\, one of the foremost tabla players of the Punjab Gharana. Over the last 20 years\, Sunny has accompanied numerous musicians from around the world including many world-renowned musicians from the Indian Classical music tradition. For this concert Sunny will be joined by Sharanjeet Mand on Sitar and Nirmal Nair on Bansari Flute. This will be an evening not to be missed! \nTickets include one glass of wine from Peller Estates and light appetizers
URL:https://ativancouver.ca/event/sunny-matharu-trio-2/
LOCATION:PoMoArts\, 2425 St.John's Street\, Port Moody\, BC\, V3H 2B2\, Canada
CATEGORIES:Music,Performing & Visual Arts
ATTACH;FMTTYPE=image/png:https://ativancouver.ca/wp-content/uploads/2024/11/sunny-matharu-trio-instagram.png
ORGANIZER;CN="PoMoArts":MAILTO:info@pomoarts.ca
END:VEVENT
END:VCALENDAR