BEGIN:VCALENDAR
VERSION:2.0
PRODID:-//ATI Vancouver - ECPv6.15.16//NONSGML v1.0//EN
CALSCALE:GREGORIAN
METHOD:PUBLISH
X-WR-CALNAME:ATI Vancouver
X-ORIGINAL-URL:https://ativancouver.ca
X-WR-CALDESC:Events for ATI Vancouver
REFRESH-INTERVAL;VALUE=DURATION:PT1H
X-Robots-Tag:noindex
X-PUBLISHED-TTL:PT1H
BEGIN:VTIMEZONE
TZID:America/Vancouver
BEGIN:DAYLIGHT
TZOFFSETFROM:-0800
TZOFFSETTO:-0700
TZNAME:PDT
DTSTART:20230312T100000
END:DAYLIGHT
BEGIN:STANDARD
TZOFFSETFROM:-0700
TZOFFSETTO:-0800
TZNAME:PST
DTSTART:20231105T090000
END:STANDARD
BEGIN:DAYLIGHT
TZOFFSETFROM:-0800
TZOFFSETTO:-0700
TZNAME:PDT
DTSTART:20240310T100000
END:DAYLIGHT
BEGIN:STANDARD
TZOFFSETFROM:-0700
TZOFFSETTO:-0800
TZNAME:PST
DTSTART:20241103T090000
END:STANDARD
BEGIN:DAYLIGHT
TZOFFSETFROM:-0800
TZOFFSETTO:-0700
TZNAME:PDT
DTSTART:20250309T100000
END:DAYLIGHT
BEGIN:STANDARD
TZOFFSETFROM:-0700
TZOFFSETTO:-0800
TZNAME:PST
DTSTART:20251102T090000
END:STANDARD
END:VTIMEZONE
BEGIN:VEVENT
DTSTART;TZID=America/Vancouver:20241004T180000
DTEND;TZID=America/Vancouver:20241006T200000
DTSTAMP:20260421T082956
CREATED:20240909T071426Z
LAST-MODIFIED:20240909T071426Z
UID:10000351-1728064800-1728244800@ativancouver.ca
SUMMARY:BongMilanti Durga Puja 2024
DESCRIPTION:BongMilanti (BIV) celebrates its second Durga Puja\, we invite all to join us in our celebrations from Oct 4 to 6\, 2024.\nIman Chakraborty will be performing on Oct 6. Iman won the National Film Award for Best Female Playback Singer. \nThe Puja schedule:\nOct 4 – Sasthi & Saptami\nOct 5 – Ashtami & Nabami\nOct 6 – Dashami\, Baron & Sindurkhela \nVeg Lunch on Saturday & Non-Veg Lunch on Sunday will be served. Food Stalls will be on spot too.\nYour donation / Chanda can make a significant difference in ensuring that our Durga Puja celebrations are inclusive\, vibrant\, and meaningful for everyone in our community. \nPlease visit our website for more details or register using this registration link.
URL:https://ativancouver.ca/event/bongmilanti-durga-puja-2024/
LOCATION:Earl Mariott Secondary School\, Surrey\, 15751 16 Ave\, Surrey\, BC\, V4A 1S1\, Canada
CATEGORIES:Community
ATTACH;FMTTYPE=image/jpeg:https://ativancouver.ca/wp-content/uploads/2024/09/bongmilanti-durga-puja-2024.jpeg
ORGANIZER;CN="Bengalis in Vancouver - %E0%A6%AC%E0%A6%82%E0%A6%AE%E0%A6%BF%E0%A6%B2%E0%A6%BE%E0%A6%A8%E0%A7%8D%E0%A6%A4%E0%A6%BF":MAILTO:Bengalis.in.vancouver@gmail.com
END:VEVENT
BEGIN:VEVENT
DTSTART;TZID=America/Vancouver:20241004T190000
DTEND;TZID=America/Vancouver:20241006T150000
DTSTAMP:20260421T082956
CREATED:20240911T235402Z
LAST-MODIFIED:20240911T235402Z
UID:10000352-1728068400-1728226800@ativancouver.ca
SUMMARY:The Dance Centre presents Anusha Fernando/Shakti Dance in Sky Dancers
DESCRIPTION:The Dance Centre presents the world premiere of Sky Dancers\, a spellbinding new work directed by Anusha Fernando\, Artistic Director of Shakti Dance\, which brings together five outstanding Bharata Natyam artists with musicians and chanters. Using the framework of the Dakini (Sky Dancer)\, a Buddhist symbol of the dynamic play of energy in the universe\, the choreography expresses both the dancers’ personal voices and the rich traditions and meditative practices that have emerged from India. \nThe work emerged from a year-long gathering\, guided by Fernando\, of some of BC’s finest Bharata Natyam dance artists: Arno Kamolika\, Kiruthika Rathanaswami\, Malavika Santhosh\, Ashvini Sundaram and Sujit Vaidya. They will be joined on stage by musicians Alcvin Ryuzen Ramos (shakuhachi) and Curtis Andrews (percussion)\, and six meditators/chanters. \nPerformances:\nFriday & Saturday October 4 & 5\, 2024 at 7pm\nSunday October 6\, 2024 at 2pm \nTickets: $37/$28 students & seniors (+ $1 facility fee). Buy Tickets
URL:https://ativancouver.ca/event/the-dance-centre-presents-anusha-fernando-shakti-dance-in-sky-dancers/
LOCATION:Scotiabank Dance Centre\, 677 Davie St\, Vancouver\, British Columbia\, V6B 2G6\, Canada
CATEGORIES:Performing & Visual Arts
ATTACH;FMTTYPE=image/jpeg:https://ativancouver.ca/wp-content/uploads/2024/09/sky-dancers-11x17-poster-scaled.jpg
ORGANIZER;CN="The Dance Centre":MAILTO:info@thedancecentre.ca
END:VEVENT
BEGIN:VEVENT
DTSTART;TZID=America/Vancouver:20241004T200000
DTEND;TZID=America/Vancouver:20241005T230000
DTSTAMP:20260421T082956
CREATED:20240809T234358Z
LAST-MODIFIED:20240810T220439Z
UID:10000343-1728072000-1728169200@ativancouver.ca
SUMMARY:Garba in Metrotown\, Burnaby - Oct 4 & Oct 5\, 2024
DESCRIPTION:Sway to the beats of Garba with Live Orchestra and some lip-smacking refreshment Metrotown\n+91 Events Presents Metrotown’s Garba Night 2024-\nCelebration of Dance with Live Orchestra \n“Get ready to groove to the beats of tradition and modernity at the 3rd annual Grarba event\, brought to you by +91 Events\, happening at the Bonsor Recreation Complex in Metrotown\, Burnaby! Sp. Join us for a night of exhilarating dance and live music from a dynamic band that’ll make your heart race and your feet move. Let the rhythms of Garba fill the air as we celebrate culture\, community\, and connection. \nDon’t miss this enchanting evening under the stars! * * $ #GrarbaNights #LiveMusicMagic #CulturalCelebration”\nHappening on 4th & 5th October 2024\, Friday & Saturday – Timing: 8 PM to 11.30 PM \nCome fulfill your Garba craving! Make this Navratri\, a memorable night\, at one of the biggest hall in Metrotown! Enjoy Live Orchestra Lip-smacking refreshments Footsteps away from Metrotown Skytrain station in Burnaby.
URL:https://ativancouver.ca/event/garba-in-metrotown-burnaby-oct-4-oct-5-2024/
LOCATION:bonsor recreation complex\, 6550 Bonsor Ave\, Burnaby\, British Columbia\, V5H3G4\, Canada
ATTACH;FMTTYPE=image/jpeg:https://ativancouver.ca/wp-content/uploads/2024/08/garba-in-metrotown-burnaby.jpg
END:VEVENT
BEGIN:VEVENT
DTSTART;TZID=America/Vancouver:20241005T163000
DTEND;TZID=America/Vancouver:20241005T200000
DTSTAMP:20260421T082956
CREATED:20240905T190315Z
LAST-MODIFIED:20241003T164840Z
UID:10000350-1728145800-1728158400@ativancouver.ca
SUMMARY:Diwali Celebration in Surrey by Vivek Canada
DESCRIPTION:This community celebration of Diwali will feature appetizers\, dinner\, entertainment and arts and crafts activities for the entire family. Come in ethnic wears & celebrate this Indian festival of lights with the team of Vivek Canada. \nEvent Details:\nDate: October 5\, 2024\nTime: 4:30pm – 8pm\nLocation: Fleetwood Community Centre\, Surrey\, BC\nTickets: $25 per person. Buy Tickets Online
URL:https://ativancouver.ca/event/diwali-celebration-in-surrey-by-vivek-canada/
LOCATION:Fleetwood Community Centre\, 15996 84 Avenue\, Surrey\, BC\, V4N 0W1\, Canada
CATEGORIES:Community,Food & Drink
ATTACH;FMTTYPE=image/jpeg:https://ativancouver.ca/wp-content/uploads/2024/09/diwali-celebration-by-vivek-canada.jpeg
END:VEVENT
BEGIN:VEVENT
DTSTART;VALUE=DATE:20241011
DTEND;VALUE=DATE:20241013
DTSTAMP:20260421T082956
CREATED:20240715T050435Z
LAST-MODIFIED:20241008T050311Z
UID:10000333-1728604800-1728777599@ativancouver.ca
SUMMARY:Raas Garba Ramzat 2024 - Oct 11th & Oct 12th
DESCRIPTION:Join CDACC for Raas Garba Ramzat 2024!\nDon’t miss out on one of the best Garba events in Vancouver organized by Canadian Desi Arts & Cultural Club (CDACC)! Get ready to dance the night away and celebrate the vibrant cultural event of Navratri 2024 with friends and family. \nEvent Details:\nDate: 11th and 12th October 2024\nVenue: Mirage Banquet Hall\, 17767 64 Ave\, Surrey\, BC V3S 1Z2 \nFor more details\, contact: \nAjay Rana: 604 300 0425. Refer ATI Vancouver to ask for discount.
URL:https://ativancouver.ca/event/raas-garba-ramzat-2024-oct-11th-oct-12th/
LOCATION:Mirage Banquet Hall\, 17767 64 Ave\, Surrey\, British Columbia\, V3S 1Z2\, Canada
CATEGORIES:Community
ATTACH;FMTTYPE=image/jpeg:https://ativancouver.ca/wp-content/uploads/2024/07/raaz-garba-ramzat-2024.jpg
END:VEVENT
BEGIN:VEVENT
DTSTART;VALUE=DATE:20241012
DTEND;VALUE=DATE:20241014
DTSTAMP:20260421T082956
CREATED:20241010T015404Z
LAST-MODIFIED:20241012T194325Z
UID:10000359-1728691200-1728863999@ativancouver.ca
SUMMARY:Durga Puja 2024 by LMBCS in Surrey\, BC
DESCRIPTION:Durga Puja\, the most happening festival of the Bengalis can be sensed with its spurt of fanfare on all the four days of the Puja festival. This autumnal festival popularly known as Sharodotsav\, recalls the power of Shakti symbolized by the Goddess Durga who slays asura to reestablish peace and sanctity on earth again. Bengalis all over the world during these days of Sharodatsav rejoice to their heart reconnecting with friends and relatives in this vibrant festival. This is an occasion when the familiar sound of Dhak\, Dhunuchi Nachh\, the mild fragrance of Shiuli\, gives a familiar tug to every Bengali heart. In Canada\, our celebration beautifully melds traditional Bengali customs with the rich cultural tapestry of our diverse environment with Authentic Rituals & Festivities\, Cultural Fusion\, Community Spirit\, Artistic Performances\, Decor & Ambiance. Come join Lower Mainland Bengali Cultural Society\, known as LMBCS and be a integral part of the festive spirits from 11th October to 13th October. \n  \nDurga Puja Schedule\nFood Tickets or Donation: Enjoy delicious Bengali good during the puja festival\, please visit TicketSpice Website to donate or buy tickets for food. \nAdditional Notes: \n\nAlternatively\, you can donate directly through Interac e-transfer to Treasurer@lmbcs.org \nFor members: if you have already donated the discount-eligible amount to LMBCS\, please check your email for the coupon code to use during RSVP. Contact exec@lmbcs.org for any query.
URL:https://ativancouver.ca/event/durga-puja-by-lmbcs-oct-11-oct-13-2024/
LOCATION:Westfield Banquet Hall\, 7778 152 St\, Surrey\, BC\, V3S 3M4\, Canada
CATEGORIES:Community,Food & Drink,Performing & Visual Arts
ATTACH;FMTTYPE=image/jpeg:https://ativancouver.ca/wp-content/uploads/2024/10/durga_puja_2024.jpg
END:VEVENT
BEGIN:VEVENT
DTSTART;TZID=America/Vancouver:20241013T180000
DTEND;TZID=America/Vancouver:20241013T200000
DTSTAMP:20260421T082956
CREATED:20241008T060348Z
LAST-MODIFIED:20241010T172333Z
UID:10000357-1728842400-1728849600@ativancouver.ca
SUMMARY:Sur Santoor Sandhya - Ustad Kiranpal Singh & Hriday Buddhdev in Vancouver
DESCRIPTION:Join us for Sur Santoor Sandhya\, a magical evening of Indian Classical Music that promises to be a treat for music lovers! The renowned Ustad Kiranpal Singh will take you on a musical journey with the soulful sounds of the Santoor\, accompanied by the talented local Tabla player\, Hriday Buddhdev from Tricities. \nThis event will be a beautiful blend of rhythm and melody\, perfect for anyone who appreciates the richness of Indian classical music. Don’t miss this enchanting experience! \nThe event is organized by Neeraja Aptikar Kalasadhana in association with The Bandish Network\, supported by the local business community: \n\nNeeraj Kumar Real Estate Team\nAmit Sipani Financial Services\nAroGill Auto\nNaiya Gill Law Corporation\nVishwesh Iyer Mortgage Consultant\n\nTickets: $20\, e-transfer at aptikarneeraja@gmail.com. Students gets 50% discount and pay $10. \nAbout the Artists:\n \nSantoor Maestro Kiranpal Singh is a senior disciple of Padma Vibhushan Pandit Shiv Kumar Sharma. He has been a resident of London\, U.K. for over half a century. \nKiranpal Singh has played at Buckingham Palace\, South Bank Halls\, Spitalfields Festival\, Darbar Festival\, 10 Downing Street for Prime Minister Rishi Sunak and Shree Baba Harivallabh Sangeet Sammelan at Jalandhar in Punjab. He has performed in Europe\, India\, Kenya\, Australia\, USA\, and Canada. \n \nHriday Buddhdev is a disciple of Pt. Swapan Chaudhuri (tabla) & Alam Khan (sarod) at Ali Akbar College of Music. He lives in Tricities area of Metro Vancouver. \n  \n\n  \nWatch Ustad Kiranpal Singh ji’s past performance below: \n 
URL:https://ativancouver.ca/event/sur-santoor-sandhya-ustaad-kiranpal-singh-hriday-buddhdev-in-vancouver/
LOCATION:Bridge & Enrich Lives Society\, 718 E 20th Ave\, Vancouver\, BC\, V5V 1N2
CATEGORIES:Community,Performing & Visual Arts
ATTACH;FMTTYPE=image/jpeg:https://ativancouver.ca/wp-content/uploads/2024/10/sur-santoor-sandhya-ustaad-kiranpal-singh-hriday-buddhdev-in-vancouver-v2.jpg
ORGANIZER;CN="Neeraja Aptikar Kalasadhana Vancouver":MAILTO:aptikarneeraja@gmail.com
END:VEVENT
BEGIN:VEVENT
DTSTART;TZID=America/Vancouver:20241022T193000
DTEND;TZID=America/Vancouver:20241022T213000
DTSTAMP:20260421T082956
CREATED:20241008T053614Z
LAST-MODIFIED:20241008T053614Z
UID:10000356-1729625400-1729632600@ativancouver.ca
SUMMARY:Audition Notice - A Nice Indian Boy
DESCRIPTION:Vagabond Players is holding auditions for the comedy A Nice Indian Boy by Madhuri Shekar and directed by C.K. Kaur. Full details on production dates are on our audition notice on our website. \nAudition Requirements: There are two options for auditions: \na) SELF-TAPE: submit to vagabond.anib@gmail.com by Tuesday\, October 22\n• Include a labelled headshot and resume\n• Upload your submission to YouTube and provide a link in your email. Your tape will consist of two one minute monologues:\n=>contemporary comedic\n=>contemporary dramatic \nb) IN-PERSON: Email vagabond.anib@gmail.com for an audition time slot.\n• Auditions will take place Tuesday\, October 22nd from 7:30-9:30pm at The Bernie Legge Theatre.\n• Please submit your headshot and resume in your email.\n• Auditions will require one minute monologues for both contemporary comedic and contemporary dramatic.\nCallbacks: Will be held Thursday October 24th\, 7:30pm-10pm
URL:https://ativancouver.ca/event/audition-notice-a-nice-indian-boy/
LOCATION:The Bernie Legge Theatre\, Queen's Park\, New Westminster\, BC\, V3L 1L7\, Canada
CATEGORIES:Community,Food & Drink,Music,Performing & Visual Arts
ATTACH;FMTTYPE=image/jpeg:https://ativancouver.ca/wp-content/uploads/2024/10/vagabond-players-is-holding-auditions-for-the-comedy-a-nice-indian-boy-by-madhuri-shekar.jpg
ORGANIZER;CN="Vagabond Players":MAILTO:publicity@vagabondplayers.ca
END:VEVENT
BEGIN:VEVENT
DTSTART;TZID=America/Vancouver:20241025T190000
DTEND;TZID=America/Vancouver:20241025T230000
DTSTAMP:20260421T082956
CREATED:20240929T061117Z
LAST-MODIFIED:20241003T164722Z
UID:10000354-1729882800-1729897200@ativancouver.ca
SUMMARY:Bharat Utsav & Diwali Celebrations by BKSP Canada
DESCRIPTION:BKSP Canada celebrates Bharat Utsav & Diwali at Fraser View Banquet Hall located at 8240 Fraser Street\, Vancouver\, BC. \nGet ready for an unforgettable celebration\, where the vibrant spirit of Diwali meets the rich cultural heritage of India. Join us for an evening filled with joy and excitement\, featuring: \nDoor Prizes: Exciting surprises await you at every corner!\nFun Quiz:  Test your knowledge and win amazing prizes!\nStalls to Shop:  Explore a variety of unique stalls offering everything from traditional crafts to contemporary treasures.\nDelicious Food: Savor the flavors of India with a spread of mouthwatering delicacies. \nCome\, celebrate with us and make this Diwali truly special. Don’t miss out on this festive extravaganza! \n 
URL:https://ativancouver.ca/event/bharat-utsav-diwali-celebrations-by-bksp-canada/
LOCATION:Fraserview Banquet Hall\, 8240 Fraser St\, Vancouver\, British Columbia\, V5X 3X6\, Canada
CATEGORIES:Community
ATTACH;FMTTYPE=image/jpeg:https://ativancouver.ca/wp-content/uploads/2024/09/bharat-utsav-diwali-by-bksp.jpg
ORGANIZER;CN="BKSP - Bharatiya Kala Evam Sahitya Parishad":MAILTO:bkspcanada@gmail.com
END:VEVENT
BEGIN:VEVENT
DTSTART;TZID=America/Vancouver:20241026T093000
DTEND;TZID=America/Vancouver:20241026T170000
DTSTAMP:20260421T082956
CREATED:20241009T015826Z
LAST-MODIFIED:20241025T214710Z
UID:10000358-1729935000-1729962000@ativancouver.ca
SUMMARY:Diwali: Festival of Lights Celebration in Port Coquitlam
DESCRIPTION:A dazzling Diwali celebration showcasing the diversity of South Asian arts & culture! Come to Port Coquitlam on October 26\, 2024 and take part in the array of family festivities! \nFree Drop-In Workshops at Basketball Court\, PCCC (Port Coquitlam Community Centre): \nPT Dance Bollyjam from 9:30am to 10:30am\nKathak with Akshaya Surve from 10:45am to 12pm \nFree Art Workshop and Diwali Market at Wilson Lounge\, PCCC from 12pm onwards \nFree Cultural Performances to begin 2:30pm onwards at Mabbett Hall\, PCCC
URL:https://ativancouver.ca/event/diwali-festival-of-lights-celebration-in-port-coquitlam/
LOCATION:Port Coquitlam Community Centre\, 2150 Wilson Avenue\, Port Coquitlam\, BC\, V3C 6J5\, Canada
ATTACH;FMTTYPE=image/jpeg:https://ativancouver.ca/wp-content/uploads/2023/10/poco-diwali-festival-of-lights-celebrations-in-port-coquitlam.jpg
ORGANIZER;CN="Mithila Karnik":MAILTO:mithilak@gmail.com
END:VEVENT
BEGIN:VEVENT
DTSTART;TZID=America/Vancouver:20241026T120000
DTEND;TZID=America/Vancouver:20241026T170000
DTSTAMP:20260421T082956
CREATED:20241016T213150Z
LAST-MODIFIED:20241016T213150Z
UID:10000360-1729944000-1729962000@ativancouver.ca
SUMMARY:Diwali Mela in Maple Ridge by Ridge Meadows South Asian Cultural Society
DESCRIPTION:Diwali Mela at the Maple Ridge ACT Arts Centre!\nJoin us for a spectacular celebration of Diwali at our grand Mela! Immerse yourself in the vibrant colors\, delicious food\, mesmerizing performances\, and joyous festivities on October 26th\, 2024\, from 12pm – 5pm at 11944 Haney Place\, Maple Ridge\, BC. \nThis free admission event is hosted by the Ridge-Meadows South Asian Cultural Society \nWhat to Expect:\nA lively celebration filled with lights\, music\, food trucks and fun. Experience the rich cultural heritage of Diwali through: \n\nShopping for traditional attire\, intricate jewelry\, and other wonderful items\nA chance of getting beautiful Henna done\nSavoring mouthwatering sweets and savory snacks\nParticipating in a Lucky Draw\nEnjoying captivating performances including dance\, music\, and more!\n\nThis is a wonderful opportunity to celebrate the Festival of Lights with friends and family. Feel free to dress in your festive best and join in the fun. Don’t miss out! \nPlease RSVP on Eventbrite for this Free Event to help us plan accordingly and reserve your spot! \nFor more information\, please email: rmsacs2007@gmail.com
URL:https://ativancouver.ca/event/diwali-mela-in-maple-ridge-by-ridge-meadows-south-asian-cultural-society/
LOCATION:The ACT Art Gallery\, 11944 Haney Place\, Maple Ridge\, British Columbia\, V2X 6G1\, Canada
ATTACH;FMTTYPE=image/jpeg:https://ativancouver.ca/wp-content/uploads/2024/10/diwali-2024-in-maple-ridge.jpg
END:VEVENT
BEGIN:VEVENT
DTSTART;TZID=America/Vancouver:20241026T173000
DTEND;TZID=America/Vancouver:20241026T233000
DTSTAMP:20260421T082956
CREATED:20241019T215600Z
LAST-MODIFIED:20241019T215600Z
UID:10000361-1729963800-1729985400@ativancouver.ca
SUMMARY:Jain Centre of BC Diwali Celebrations 2024
DESCRIPTION:It’s that special time of year again—our Annual Diwali Gala! Let’s come together for an unforgettable evening of food\, fun\, and festivities\, celebrating the spirit of Diwali as one big JCBC family. \nDate: 26th October 2024\nTime: Doors open at 5:30 PM\nVenue: Grand Taj Banquet Hall\, 8388 128th Street\, Surrey\, BC V3W 4G2 \nDress Code: Your best Traditional Attire \nWhat To Expect at Jain Center of BC Diwali 2024:\n\nDelicious food\nFun & cultural performances\nDJ & Dance\nLots of Raffle Prizes (Don’t forget to bring cash!)\n\nThis is the perfect chance to connect\, laugh\, and create beautiful memories. Don’t miss out! \nTickets: $40 (Above 5 years). Buy Tickets Online \nFor Sponsorship Opportunities:\nContact Neha Kapadia 778-317-9850 \nFor Media and PR Partnerships:\nContact Madhu Jain 604-354-9042 \nLet’s light up the night together! See you all there!
URL:https://ativancouver.ca/event/jain-centre-of-bc-diwali-celebrations-2024/
LOCATION:grand taj banquet hall\, #8388 128 street\, Surrey\, British Columbia\, V3W 4G2\, Canada
CATEGORIES:Community
ATTACH;FMTTYPE=image/jpeg:https://ativancouver.ca/wp-content/uploads/2024/10/jain-diwali-2024-surrey-bc.jpg
END:VEVENT
BEGIN:VEVENT
DTSTART;TZID=America/Vancouver:20241026T190000
DTEND;TZID=America/Vancouver:20241026T220000
DTSTAMP:20260421T082956
CREATED:20241003T174642Z
LAST-MODIFIED:20241003T174642Z
UID:10000355-1729969200-1729980000@ativancouver.ca
SUMMARY:Sewa Diwali 2024 in Surrey\, BC\, Canada
DESCRIPTION:Sewa Diwali event 2024 is happening on October 26\, 2024\, at 6:00 pm at Taj Park Community Centre\, Surrey\, BC. This years theme is Food Bank Drive\, feed the hungry and establish Dharma. \nAfter the grand success of last year’s Seva Diwali celebration\, Vedic Sevaks celebrating Diwali 2024 with Music and cultural program with delicious Indian Buffet Dinner. Last year’s Diwali program\, Vedic Sevaks hosted more than 600 participants who came from various Bharatiya (Indian) and Canadian communities. \nTickets: $50 general tickets\, please visit their website to check out early bird options or to buy regular tickets.
URL:https://ativancouver.ca/event/sewa-diwali-2024-in-surrey-bc-canada/
LOCATION:Taj Park Convention Centre\, 8580 132st\, Surrey\, Bc\, Canada
CATEGORIES:Community,Performing & Visual Arts
ATTACH;FMTTYPE=image/jpeg:https://ativancouver.ca/wp-content/uploads/2024/10/sewa-diwali-2024-celebrations-in-surrey-bc-canada.jpg
END:VEVENT
BEGIN:VEVENT
DTSTART;TZID=America/Vancouver:20241029T170000
DTEND;TZID=America/Vancouver:20241029T190000
DTSTAMP:20260421T082956
CREATED:20241022T042631Z
LAST-MODIFIED:20241023T012829Z
UID:10000363-1730221200-1730228400@ativancouver.ca
SUMMARY:Ayurveda Day 2024 Celebrations in Vancouver
DESCRIPTION:Come and Celebrate Ayurveda Day at Bridge & Enrich Lives Society\, located at 718 E 20th Ave\, Vancouver\, BC on October 29\, 2024; 5pm-7pm  organized by Consulate General of India\, Vancouver & Ayurveda Association of Canada in collaboration with Sewanti & Heartulness. \nAyurveda Day Event Schedule\nThis is a celebration of the timeless wisdom and holistic approach of Ayurveda\, one of the oldest documented systems of medicine. Ayurveda Day is celebrated on the occasion of Dhanvantari Jayanti\, who is said to be the father of Ayurveda. \nScan the QR Code Above or Click Here to register.
URL:https://ativancouver.ca/event/ayurveda-day-2024-celebrations-in-vancouver/
LOCATION:Bridge & Enrich Lives Society\, 718 E 20th Ave\, Vancouver\, BC\, V5V 1N2
CATEGORIES:Community
ATTACH;FMTTYPE=image/jpeg:https://ativancouver.ca/wp-content/uploads/2024/10/ayurveda-day-2024.jpg
END:VEVENT
END:VCALENDAR