BEGIN:VCALENDAR
VERSION:2.0
PRODID:-//ATI Vancouver - ECPv6.15.16//NONSGML v1.0//EN
CALSCALE:GREGORIAN
METHOD:PUBLISH
X-ORIGINAL-URL:https://ativancouver.ca
X-WR-CALDESC:Events for ATI Vancouver
REFRESH-INTERVAL;VALUE=DURATION:PT1H
X-Robots-Tag:noindex
X-PUBLISHED-TTL:PT1H
BEGIN:VTIMEZONE
TZID:America/Vancouver
BEGIN:DAYLIGHT
TZOFFSETFROM:-0800
TZOFFSETTO:-0700
TZNAME:PDT
DTSTART:20230312T100000
END:DAYLIGHT
BEGIN:STANDARD
TZOFFSETFROM:-0700
TZOFFSETTO:-0800
TZNAME:PST
DTSTART:20231105T090000
END:STANDARD
BEGIN:DAYLIGHT
TZOFFSETFROM:-0800
TZOFFSETTO:-0700
TZNAME:PDT
DTSTART:20240310T100000
END:DAYLIGHT
BEGIN:STANDARD
TZOFFSETFROM:-0700
TZOFFSETTO:-0800
TZNAME:PST
DTSTART:20241103T090000
END:STANDARD
BEGIN:DAYLIGHT
TZOFFSETFROM:-0800
TZOFFSETTO:-0700
TZNAME:PDT
DTSTART:20250309T100000
END:DAYLIGHT
BEGIN:STANDARD
TZOFFSETFROM:-0700
TZOFFSETTO:-0800
TZNAME:PST
DTSTART:20251102T090000
END:STANDARD
END:VTIMEZONE
BEGIN:VEVENT
DTSTART;TZID=America/Vancouver:20240615T093000
DTEND;TZID=America/Vancouver:20240615T113000
DTSTAMP:20260421T145042
CREATED:20240527T191945Z
LAST-MODIFIED:20240528T162900Z
UID:10000324-1718443800-1718451000@ativancouver.ca
SUMMARY:Stories of Burnaby
DESCRIPTION:Take a deep breath and share your stories or listen to others interesting stories. This event is a meetup for conversations about experiences and stories. Some light breathing and meditation is included as part of warm up. \nRefreshments provided. This is a free family event. The event is free but prior registration is required. Please register online for free. Please email manasvininof2021@gmail.com or call 604-600-9846 if you are interested in telling a story or for more information.
URL:https://ativancouver.ca/event/stories-of-burnaby/
LOCATION:LOCATION:  – CHARLES RUMMEL CENTRE\,BURNABY\, Charles Rummel Park\, 3630 Lozells Ave\,\, Burnaby\, British Columbia\, V5A 2A8\, Canada
CATEGORIES:Community
ATTACH;FMTTYPE=image/jpeg:https://ativancouver.ca/wp-content/uploads/2024/05/lastlaststorytelling-02-scaled.jpg
ORGANIZER;CN="Manasvini Hindi Cultural Society":MAILTO:manasviniof2021@gmail.com
END:VEVENT
BEGIN:VEVENT
DTSTART;TZID=America/Vancouver:20240622T173000
DTEND;TZID=America/Vancouver:20240622T203000
DTSTAMP:20260421T145042
CREATED:20240525T064823Z
LAST-MODIFIED:20240609T221406Z
UID:10000323-1719077400-1719088200@ativancouver.ca
SUMMARY:Indian Food Festival | Garam Masala by Vancouver Odia Association
DESCRIPTION:Vancouver Odia Association presents Garam Masala – The Indian Food Festival in Metro Vancouver happening at Bonsor Recreational Complex\, Burnaby\, BC. \nGet ready to taste the flavors of India under one roof!!\nAs the name suggests\, you can taste the delicious and mouth watering delicacies made with love and spices from all over India. \nGeneral Admission/Buy Tickets:\nTickets are $8 person if purchased before June 12\, 2024 and after that it is $10 per person. Please e-transfer to vancouverodias@gmail.com \nThis event is organized as a fundraiser for the Surrey Ratha Yatra on July 7\, 2024. \nFood Vendor Registration:\nIf you are a vendor and would like to have a food stall at this event\, register to book your spot before they are gone.
URL:https://ativancouver.ca/event/indian-food-festival-garam-masala-by-vancouver-odia-association/
LOCATION:bonsor recreation complex\, 6550 Bonsor Ave\, Burnaby\, British Columbia\, V5H3G4\, Canada
CATEGORIES:Community
ATTACH;FMTTYPE=image/jpeg:https://ativancouver.ca/wp-content/uploads/2024/05/indian-food-festival-burnaby.jpg
END:VEVENT
BEGIN:VEVENT
DTSTART;TZID=America/Vancouver:20240623T091500
DTEND;TZID=America/Vancouver:20240623T103000
DTSTAMP:20260421T145042
CREATED:20240601T075411Z
LAST-MODIFIED:20240609T221046Z
UID:10000326-1719134100-1719138600@ativancouver.ca
SUMMARY:International Day Of Yoga (IDY) Celebration - June 23\, 2024
DESCRIPTION:Let’s come together and celebrate International Day of Yoga (IDY) on June 23\, 2024 at Maillardville Community Centre\, Multi-Purpose Room 1. We will have a in-person yoga session and nutritional talk as well. Yoga Session will be lead by Neeraj Kumar & Nutrition Tips will be shared by Shubakshi Rawla from Nutrify Me who is a R.H.N.\, certified metabolic balance coach based in Coquitlam. Register now to save your spot. \nIDY 2024 Celebrations in Coquitlam\, BC\nThere is a minimal fee of 5cad to register. Please click on this link to register. All proceeds from the event will be donated to the BC Cancer Foundation. \nLimited spots. All age groups are welcome. Please Register Now. \n\nThe event is supported by Eventival & ATI Vancouver
URL:https://ativancouver.ca/event/international-day-of-yoga-idy-celebrations-june-23-2024/
LOCATION:Maillardville Community Centre\, Multi-Purpose Room 1\, Coquitlam\, 1200 Cartier Ave\, Coquitlam\, BC\, V3K 2C3\, Canada
ATTACH;FMTTYPE=image/jpeg:https://ativancouver.ca/wp-content/uploads/2024/04/international-day-of-yoga-idy-2024-vancouver-bc.jpg
ORGANIZER;CN="Shubhakshi Rawla":MAILTO:Shubakshi@nutrifyme.ca
END:VEVENT
BEGIN:VEVENT
DTSTART;TZID=America/Vancouver:20240623T160000
DTEND;TZID=America/Vancouver:20240623T170000
DTSTAMP:20260421T145042
CREATED:20240529T065556Z
LAST-MODIFIED:20240529T065556Z
UID:10000325-1719158400-1719162000@ativancouver.ca
SUMMARY:International Yoga Day - Free Online Class on June 23\, 2024
DESCRIPTION:To celebrate INTERNATIONAL YOGA DAY\, join us for a FREE ONLINE class on Sunday\, June 23rd at 4pm PST \n“Words cannot convey the value of Yoga – it has to be experienced.” – BKS Iyengar \nCome and experience the profound benefits of yoga in our special session dedicated to spreading the teachings of Guruji BKS Iyengar. This class is open to everyone\, regardless of experience level. Whether you’re new to yoga or a seasoned practitioner\, this session offers an opportunity to deepen your understanding and practice. \nOur goal is to share the transformative power of Iyengar Yoga with as many people as possible. We invite you to help us in this endeavor by forwarding this information to your friends\, family\, and anyone else you think might enjoy and benefit from this experience. \nYou can register using the link below:\nhttps://yogdeepam.bio.link/ \nEvent Details:\n– Event: International Yoga Day\n– Class Time: 4:00 – 5:00 PM PST\n– Date: Sunday\, June 23rd\n– Mode: Online via Zoom \n#internationalyogaday\n#bksiyengar\n#iyengaryoga\n#iyengaryogateacher\n#yogdeepam
URL:https://ativancouver.ca/event/international-yoga-day-free-online-class-on-june-23-2024/
LOCATION:Online Via Zoom\, Canada
CATEGORIES:Health
ATTACH;FMTTYPE=image/jpeg:https://ativancouver.ca/wp-content/uploads/2024/05/8e3341d9-e5d0-4e21-acef-8c4542d79d5e.jpeg
ORGANIZER;CN="Deepa Mukherji":MAILTO:deepa@yogdeepam.ca
END:VEVENT
BEGIN:VEVENT
DTSTART;TZID=America/Vancouver:20240627T180000
DTEND;TZID=America/Vancouver:20240627T200000
DTSTAMP:20260421T145042
CREATED:20240618T232119Z
LAST-MODIFIED:20240619T153528Z
UID:10000328-1719511200-1719518400@ativancouver.ca
SUMMARY:Open Mic - Desi Tadka
DESCRIPTION:Desi Open Mic for all South Asian artists/ performances which can be poetry/shayari\, singing\, musical instrument\, spoken word art\, comedy and magic! \nIt’s my effort to bring us all under one roof and enjoy each other’s art and network towards building a South Asian artistic community. \nNon-South Asian friends\, family\, audiences are most welcome to participate and join in. Bring along your best desi material. See you’ll there with a Tadka!!! \nPrice: $10 per person\nTickets: Click here to register or call Dushyanta Kawdikar at 778-302-9050 for more information
URL:https://ativancouver.ca/event/open-mic-desi-tadka/
LOCATION:Davie Dosa Company\, 1235 Davie St.\, Vancouver\, BC\, V6E 1N4\, Canada
CATEGORIES:Community,Hobbies,Music,Performing & Visual Arts,Standup Comedy
ATTACH;FMTTYPE=image/jpeg:https://ativancouver.ca/wp-content/uploads/2024/06/whatsapp-image-2024-06-12-at-12.39.58-pm.jpeg
ORGANIZER;CN="Dushyanta Kawdikar":MAILTO:detectkd@gmail.com
END:VEVENT
END:VCALENDAR