BEGIN:VCALENDAR
VERSION:2.0
PRODID:-//ATI Vancouver - ECPv6.15.16//NONSGML v1.0//EN
CALSCALE:GREGORIAN
METHOD:PUBLISH
X-ORIGINAL-URL:https://ativancouver.ca
X-WR-CALDESC:Events for ATI Vancouver
REFRESH-INTERVAL;VALUE=DURATION:PT1H
X-Robots-Tag:noindex
X-PUBLISHED-TTL:PT1H
BEGIN:VTIMEZONE
TZID:America/Vancouver
BEGIN:DAYLIGHT
TZOFFSETFROM:-0800
TZOFFSETTO:-0700
TZNAME:PDT
DTSTART:20230312T100000
END:DAYLIGHT
BEGIN:STANDARD
TZOFFSETFROM:-0700
TZOFFSETTO:-0800
TZNAME:PST
DTSTART:20231105T090000
END:STANDARD
BEGIN:DAYLIGHT
TZOFFSETFROM:-0800
TZOFFSETTO:-0700
TZNAME:PDT
DTSTART:20240310T100000
END:DAYLIGHT
BEGIN:STANDARD
TZOFFSETFROM:-0700
TZOFFSETTO:-0800
TZNAME:PST
DTSTART:20241103T090000
END:STANDARD
BEGIN:DAYLIGHT
TZOFFSETFROM:-0800
TZOFFSETTO:-0700
TZNAME:PDT
DTSTART:20250309T100000
END:DAYLIGHT
BEGIN:STANDARD
TZOFFSETFROM:-0700
TZOFFSETTO:-0800
TZNAME:PST
DTSTART:20251102T090000
END:STANDARD
END:VTIMEZONE
BEGIN:VEVENT
DTSTART;TZID=America/Vancouver:20240511T140000
DTEND;TZID=America/Vancouver:20240511T200000
DTSTAMP:20260421T162250
CREATED:20240509T053535Z
LAST-MODIFIED:20240509T053535Z
UID:10000319-1715436000-1715457600@ativancouver.ca
SUMMARY:Bhakti Day Celebration | The Art Of Living\, Vancouver BC
DESCRIPTION:Gurudev’s Birthday Special Events on Saturday May 11th \nEveryone is invited to join us for these incredible events on May 11th in honor of Gurudev Sri Sri Ravi Shankar ji’s 68th Birthday \n1 Wellness Workshop Open to Friends\, Family\, and the Public RSVP\n2 Grand Satsang and Dinner Open to Friends Family\, and Public RSVP \nDate – Saturday May 11 2024\nWe look forward to seeing you there
URL:https://ativancouver.ca/event/bhakti-day-celebration-the-art-of-living-vancouver-bc/
LOCATION:Jewish Community Center 950 W 41st Ave\, Vancouver\, BC V5Z 2N7 On Oak & W 41st St\, near Oakridge Skytrain\, Jewish Community Center 950 W 41st Ave\, Vancouver\, BC On Oak & W 41st St\, near Oakridge Skytrain\, Vancouver\, BC\, V5Z 2N7\, Canada
CATEGORIES:Community
ATTACH;FMTTYPE=image/jpeg:https://ativancouver.ca/wp-content/uploads/2024/05/bhakthi-day.jpg
END:VEVENT
BEGIN:VEVENT
DTSTART;TZID=America/Vancouver:20240518T170000
DTEND;TZID=America/Vancouver:20240518T200000
DTSTAMP:20260421T162250
CREATED:20240202T005137Z
LAST-MODIFIED:20240501T063218Z
UID:10000293-1716051600-1716062400@ativancouver.ca
SUMMARY:DivaRang - A Bollywood Symphony of Strength & Grace
DESCRIPTION:Neeraja Aptikar Kalasadhana in association with ATI Vancouver invites you for a Bollywood musical evening to. It is going to be a family event\, come & enjoy a family oriented musical evening with local talented artists of Vancouver. Refreshments will be served. \nCome join us for an evening filled with the best of old and new Hindi melodies! \nThanks to our esteemed sponsors of this event: \n\nNeeraj Kumar Real Estate Team\nAroGill Auto\nTarun Bhatia\, CPA\nAnil Kumar Mortgages\nNaiya Gill Professional Law Corporation\nAziz Ladha Photography\nKurry Wala Indian Restaurant\, Burnaby\n\nDate & Time: May 18\, 2024; 5Pm-8PM\nVenue: BNH Community Hall\, 5024 Rumble Street\, Burnaby\nRegistration: This Event is Now Sold Out!!! \n\nPlease check out events page on our website for more Indian community events. You can add your event for free if you are an organizer.
URL:https://ativancouver.ca/event/divarang-a-bollywood-symphony-of-strength-grace/
LOCATION:Bunranby Neighborhood House (BHN)\, Rumble St.\, 5024 Rumble St\, Burnaby\, BC\, BC V5J 2B4\, Canada
CATEGORIES:Community,Performing & Visual Arts
ATTACH;FMTTYPE=image/jpeg:https://ativancouver.ca/wp-content/uploads/2024/04/updated-divarang-flyer.jpg
ORGANIZER;CN="Neeraja Aptikar Kalasadhana Vancouver":MAILTO:aptikarneeraja@gmail.com
END:VEVENT
BEGIN:VEVENT
DTSTART;TZID=America/Vancouver:20240519T180000
DTEND;TZID=America/Vancouver:20240519T200000
DTSTAMP:20260421T162250
CREATED:20240519T225859Z
LAST-MODIFIED:20240519T230036Z
UID:10000321-1716141600-1716148800@ativancouver.ca
SUMMARY:Bollywood Express - Retra Se Metro Ka Safar - A Dance Show Event by Inspire Dance Academy
DESCRIPTION:Get ready for an electrifying journey through the vibrant world of Bollywood as Inspire Dance Academy proudly presents its first-ever 2-hour dance extravaganza\, “Bollywood Express Event by Inspire Dance Academy.” The tagline\, “Retro se Metro ka Safar\,” promises a thrilling ride from the golden days of Bollywood to the current era. \nThis spectacular dance show features a diverse lineup\, showcasing the incredible talents of different age groups. The Bachha Party\, comprising kids aged 6 to 12\, will dazzle the audience with their youthful exuberance. Young Teens\, aged 13 to 17\, will bring a dynamic and fresh perspective to the stage. The Bollywood Fatakas\, a dance batch representing the 35+ age group\, will prove that age is no barrier to the magic of dance. \nDate: May 19th\, 2024\nTime: 6:00 pm – 8:00 pm\nVenue: York Theatre\, Vancouver\nTickets: Buy Tickets Online
URL:https://ativancouver.ca/event/bollywood-express-retra-se-metro-ka-safar-a-dance-show-event-by-inspire-dance-academy/
LOCATION:York Theatre\, The Clutch\, 639 Commercial Drive\, Vancouver\, BC\, V5L 3W3\, Canada
CATEGORIES:Community
ATTACH;FMTTYPE=image/jpeg:https://ativancouver.ca/wp-content/uploads/2024/05/bollywood-express-vancouver.jpg
ORGANIZER;CN="Inspire Dance Academy":MAILTO:inspiredanceacademy.vancouver@gmail.com
END:VEVENT
BEGIN:VEVENT
DTSTART;TZID=America/Vancouver:20240526T103000
DTEND;TZID=America/Vancouver:20240526T114500
DTSTAMP:20260421T162250
CREATED:20240410T050034Z
LAST-MODIFIED:20240501T063341Z
UID:10000314-1716719400-1716723900@ativancouver.ca
SUMMARY:Free Bolly Workout by Preeti
DESCRIPTION:Get ready to sweat\, smile\, and have a blast with a Bolly workout that will leave you feeling energized and empowered. Free class presented by Preeti of PT Dance Company with the support of ATI Vancouver & Eventival\, sponsored by Neeraj Kumar Real Estate. \nWhat to expect in the class:\n\nWarmup\nCardio routines level 1\, level 2\nToning routine for Arms & legs\nCool down & stretching\nLots of sweating and Fun\n\nDate: May 26th | Sunday\nTime: 10.30 am-11.45 am\nLocation: 2150 Wilson Ave\, Port Coquitlam Community Center\nRegistration: Free event but online registration required. Please fill this google form \nFree Bollywood Dance Workout Class\n\nPlease check out events page on our website for more Indian community events. You can add your event for free if you are an organizer.
URL:https://ativancouver.ca/event/free-bolly-workout/
LOCATION:Port Coquitlam Community Centre\, 2150 Wilson Avenue\, Port Coquitlam\, BC\, V3C 6J5\, Canada
CATEGORIES:Community
ATTACH;FMTTYPE=image/jpeg:https://ativancouver.ca/wp-content/uploads/2024/04/free-bollywood-dance-workout.jpg
ORGANIZER;CN="PT Dance Company%2C Port Coquitlam":MAILTO:ptdancecompany@gmail.com
END:VEVENT
BEGIN:VEVENT
DTSTART;TZID=America/Vancouver:20240528T180000
DTEND;TZID=America/Vancouver:20240528T203000
DTSTAMP:20260421T162250
CREATED:20240506T004923Z
LAST-MODIFIED:20240507T042221Z
UID:10000318-1716919200-1716928200@ativancouver.ca
SUMMARY:Business Networking Event for Desipreneurs in Vancouver\, BC
DESCRIPTION:Powered by Neeraj Kumar Real Estate Team & supported by ATI Vancouver & Eventival\, join this Business Networking Event for Vancouver Desipreneurs taking place at Coquitlam Centre Library\, Room# 137 on May 28\, 2024. \nThe purpose of this particular event is to provide a platform to Desi Business Owners in Burnaby & Tri-Cities area but all Desi Business Owners from Metro Vancouver are welcome to join. \nAgenda:\n6:00PM: Door Opens for Meet & Greet\n6:30PM: Speed Introduction by all attendees\n7:00PM: Presentation by Chinmaya Sadangi from Digii Ninja on “From Likes to Leads: Converting Social Engagement into Business Growth”\n7:30PM: Dinner & Open Networking\n8:30PM: Event Ends \nRegistration: Please Buy Tickets Online to reserve your spot \n\nPlease check out events page on our website for more Indian community events. You can add your event for free if you are an organizer.
URL:https://ativancouver.ca/event/business-networking-event-for-desipreneurs-in-vancouver-bc/
LOCATION:Coquitlam Centre Library\, Room 137\, 1169 Pinetree Way\, Coquitlam\, BC\, V3B 0Y1\, Canada
CATEGORIES:Business
ATTACH;FMTTYPE=image/jpeg:https://ativancouver.ca/wp-content/uploads/2024/05/multi-hat-business-networking-events-digiininja.jpg
ORGANIZER;CN="MultiHat Events":MAILTO:multihat.events@gmail.com
END:VEVENT
END:VCALENDAR