BEGIN:VCALENDAR
VERSION:2.0
PRODID:-//ATI Vancouver - ECPv6.15.16//NONSGML v1.0//EN
CALSCALE:GREGORIAN
METHOD:PUBLISH
X-ORIGINAL-URL:https://ativancouver.ca
X-WR-CALDESC:Events for ATI Vancouver
REFRESH-INTERVAL;VALUE=DURATION:PT1H
X-Robots-Tag:noindex
X-PUBLISHED-TTL:PT1H
BEGIN:VTIMEZONE
TZID:America/Vancouver
BEGIN:DAYLIGHT
TZOFFSETFROM:-0800
TZOFFSETTO:-0700
TZNAME:PDT
DTSTART:20230312T100000
END:DAYLIGHT
BEGIN:STANDARD
TZOFFSETFROM:-0700
TZOFFSETTO:-0800
TZNAME:PST
DTSTART:20231105T090000
END:STANDARD
BEGIN:DAYLIGHT
TZOFFSETFROM:-0800
TZOFFSETTO:-0700
TZNAME:PDT
DTSTART:20240310T100000
END:DAYLIGHT
BEGIN:STANDARD
TZOFFSETFROM:-0700
TZOFFSETTO:-0800
TZNAME:PST
DTSTART:20241103T090000
END:STANDARD
BEGIN:DAYLIGHT
TZOFFSETFROM:-0800
TZOFFSETTO:-0700
TZNAME:PDT
DTSTART:20250309T100000
END:DAYLIGHT
BEGIN:STANDARD
TZOFFSETFROM:-0700
TZOFFSETTO:-0800
TZNAME:PST
DTSTART:20251102T090000
END:STANDARD
END:VTIMEZONE
BEGIN:VEVENT
DTSTART;TZID=America/Vancouver:20240210T090000
DTEND;TZID=America/Vancouver:20240210T113000
DTSTAMP:20260421T202916
CREATED:20240108T195351Z
LAST-MODIFIED:20240108T195351Z
UID:10000288-1707555600-1707564600@ativancouver.ca
SUMMARY:The Level Up: Trailblazing Networking Breakouts
DESCRIPTION:The only networking experience wihin the lower mainland that fosters an environment of collaboration\, meaningful conversations and mindful career impact. Call it a mingler\, a business meeting or an informal chat between industry professionals – The Level Up is for everyone – new immigrants\, those with serious experience\, those with hiring power\, those looking to get hired\, serial hobbyists with side hustles as well as business owners and entrepreneurs. There will be a speaker panel with some amazing speakers from the community\, an industry masterclass (taxation this time)\, spotlight on a unique business idea and one hour of open floor networking.
URL:https://ativancouver.ca/event/the-level-up-trailblazing-networking-breakouts-2/
LOCATION:Port Coquitlam Community Centre\, 2150 Wilson Avenue\, Port Coquitlam\, BC\, V3C 6J5\, Canada
CATEGORIES:Business,Community
ATTACH;FMTTYPE=image/jpeg:https://ativancouver.ca/wp-content/uploads/2024/01/6550198a-3f31-402c-aa6e-78858c6252d4.jpeg
ORGANIZER;CN="Mithila Karnik":MAILTO:mithilak@gmail.com
END:VEVENT
BEGIN:VEVENT
DTSTART;TZID=America/Vancouver:20240210T100000
DTEND;TZID=America/Vancouver:20240210T120000
DTSTAMP:20260421T202916
CREATED:20240209T010538Z
LAST-MODIFIED:20240209T010538Z
UID:10000299-1707559200-1707566400@ativancouver.ca
SUMMARY:Introducing New Dance Courses | Learn Bollywood Dancing in Burnaby
DESCRIPTION:Dance into a world of rhythm at Inspire Dance Academy! \nExciting news – we’re launching 3 new batches at 4690 Hazel Street\, Burnaby: \n1. Baccha Party: 9 am to 10 am (6 to 12 years)\n2. Bollywood Fatakas: 10 am to 11 am (35+ age group)\n3. Young Teens: 11 am to 12 pm (13 to 17 years) \nRegister by Feb 10 with code ‘Earlybird’ for a 10% discount on the $270 registration fee. There will be 15+ classes which will start from Feb 10 and run until May 18\, concluding with a spectacular performance at York Theatre on May 19! \nAll students will be provided with costumes. Don’t miss this chance to dance and shine with Inspire Dance Academy!
URL:https://ativancouver.ca/event/introducing-new-dance-courses-learn-bollywood-dancing-in-burnaby/
LOCATION:4690 Hazel Street\, Burnaby\, 4690 Hazel Street\,\, Burnaby\, B.C.\, V5H 1S5\, Canada
CATEGORIES:Hobbies,Music,Performing & Visual Arts,Sports & Fitness
ATTACH;FMTTYPE=image/png:https://ativancouver.ca/wp-content/uploads/2024/02/starts-september-15-3.png
ORGANIZER;CN="Inspire Dance Academy":MAILTO:inspiredanceacademy.vancouver@gmail.com
END:VEVENT
BEGIN:VEVENT
DTSTART;TZID=America/Vancouver:20240210T190000
DTEND;TZID=America/Vancouver:20240210T213000
DTSTAMP:20260421T202916
CREATED:20240104T041426Z
LAST-MODIFIED:20240104T042339Z
UID:10000286-1707591600-1707600600@ativancouver.ca
SUMMARY:Kishor Kaka (Smit Pandya) Show in Vancouver
DESCRIPTION:FIRST TIME IN WESTERN CANADA. Join us for the most Hilarious Family Comedy Show. This Winter\, Famous as KISHOR KAKA Smit Pandya is coming to Vancouver. \nGet ready to roll with laughter as the renowned Gujarati comedian\, Kishore Kaka is all set to bring his rib-tickling humor to the Vancouver Area! You do not want to miss this opportunity to spend some laugh time with your loved ones. \n*************************************** \nTICKETS ARE LIVE NOW!!!! \nBook your Seat with our Early bird seats available at All Events \nKishor Kaka – Canada Tour\nFebruary 10\,2024 – Vancouver\,BC\nUnder 8 free entry \n***************************************** \nLIMITED TICKETS AVAILABLE!!! Book your spot before we are SOLD OUT. \nReach out to us for any sponsorship\, food stalls and banners. \nContacts:\nAkshay Patel +1 (905) 516 2512\nBhumi Patel +1 (647) 242 9248 \nStart following us on Facebook/Instagram for live updates
URL:https://ativancouver.ca/event/kishor-kaka-smit-pandya-show-vancouver/
LOCATION:Lord Byng Secondary School\, Vancouver\, 3939 W 16th Ave\, Vancouver\, BC\, V6R 2C9\, Canada
CATEGORIES:Standup Comedy
ATTACH;FMTTYPE=image/jpeg:https://ativancouver.ca/wp-content/uploads/2024/01/kishor-kaka-comedian-in-vancouver.jpeg
ORGANIZER;CN="AkshDeep Entertainment":MAILTO:entertainment.akshdeep@gmail.com
END:VEVENT
BEGIN:VEVENT
DTSTART;TZID=America/Vancouver:20240217T090000
DTEND;TZID=America/Vancouver:20240217T180000
DTSTAMP:20260421T202916
CREATED:20240206T040436Z
LAST-MODIFIED:20240206T163124Z
UID:10000296-1708160400-1708192800@ativancouver.ca
SUMMARY:Basanta Utsav 2024 by LMBCS
DESCRIPTION:Saraswati Puja\, also known as Vasant Panchami or Shree Panchami\, is a prominent festival celebrated in Bengal and other parts of India. It marks the arrival of the spring season. On this day\, devotees\, especially students\, adorn themselves in traditional attire\, offer prayers\, and seek blessings from Goddess Saraswati\, the deity of knowledge\, wisdom\, and arts. \n\n\nFeb 17th \, 2024 : Schedule of the Day\n\n\n8 AM – 9 AM: Puja preparation \n\n\n\n9 AM – 10 AM: Puja Anusthan \n\n\n\n10 AM – 11 AM: Pushpanjali followed by Haate Khori \n\n\n\n12 :30 PM: – 2 PM Lunch \n\n\n\n1 PM -6 PM: Cultural Programs and Fun Interactive Games \n\n\n\n6 PM: Dinner Packet Distribution \n\n\n\n\n\n\nFood Menu On Offer\n\n\n\n\n\n\n\nLunch \n\nKhichuri\nLabra\nJhuri Alu Bhaja\, beguni\nchatni\nPapad\nSweets\n\n\nDinner (Served in take-away pack) \n\nRadhaballavi\nAlu-Matar Tarkari\nBegun Bhaja\n\n\n\n\n\n\n\n\n\nBuy Tickets Online\n\n\nEmail exec@lmbc.org for more details or any questions.
URL:https://ativancouver.ca/event/basanta-utsav-2024-by-lmbcs/
LOCATION:Westfield Banquet Hall\, 7778 152 St\, Surrey\, BC\, V3S 3M4\, Canada
CATEGORIES:Community
ATTACH;FMTTYPE=image/jpeg:https://ativancouver.ca/wp-content/uploads/2024/02/basanta-utsab-bengali-cultural-society-bc.jpg
END:VEVENT
BEGIN:VEVENT
DTSTART;TZID=America/Vancouver:20240218T103000
DTEND;TZID=America/Vancouver:20240218T133000
DTSTAMP:20260421T202916
CREATED:20240201T192154Z
LAST-MODIFIED:20240206T184359Z
UID:10000292-1708252200-1708263000@ativancouver.ca
SUMMARY:Tax Savings Strategies 2024 - Free Information Session
DESCRIPTION:Here is an opportunity to learn from experts about Tax Savings Strategies. The Agenda will be to cover the basics of the following: \n\nNeed for Retirement Planning and its tools\nTax Saving Strategies\nTax Free Saving Accounts\nRegistered Education Savings Plan\nFirst-Time Home Buyer Savings Account (FHSA)\nInsurance and its types\nImportant information about changes in the tax regulations for year 2024\nTax tips and important reminders\nPrudent financial planning and decision making\n\nThere is no obligations involved and it is absolutely FREE. The session will be presented by: \nAnkur Merwaha\, CPA\, CA\n604-626-6043 \nAmit Sipani\, Financial Consultant\n604-715-6716 \nDate & Time: Feb 18\, 2024; 10:30am-1pm\nVenue: Surrey Centre Library\, Room#405\, 10350 University Dr\, Surrey.\nRegistration: Free event but prior register required. Please sign-up and attend this session for free. \nRefreshments with tea/coffee will also be served.
URL:https://ativancouver.ca/event/tax-savings-strategies-2024-free-information-session/
LOCATION:Surrey Centre Library\, 10350 University Drive\, Surrey\, British Columbia\, V3T 4B8\, Canada
CATEGORIES:Business
ATTACH;FMTTYPE=image/jpeg:https://ativancouver.ca/wp-content/uploads/2024/02/amit-sipani-free-information-session-indians-in-vancouver-event.jpg
END:VEVENT
BEGIN:VEVENT
DTSTART;TZID=America/Vancouver:20240218T190000
DTEND;TZID=America/Vancouver:20240218T233000
DTSTAMP:20260421T202916
CREATED:20240205T054439Z
LAST-MODIFIED:20240205T054439Z
UID:10000295-1708282800-1708299000@ativancouver.ca
SUMMARY:Dinner & Entertaining Bollywood Music on Family Day Long Weekend
DESCRIPTION:Join us for an unforgettable evening of culinary delights and captivating Bollywood music entertainment this Family Day long weekend at Surrey’s renowned Restaurant Spice Kings Bistro. Indulge your senses with an exquisite dinner experience featuring authentic Indian cuisine prepared by skilled chefs. \nAs you savor each delicious dish\, immerse yourself in the soulful melodies and rhythmic beats of live karaoke Bollywood songs performed by talented artists. \nGather your loved ones and join us for an enchanting evening filled with delicious food\, lively music\, and cherished moments. Book your table now for an unforgettable celebration of togetherness and cultural richness. \nFor Bookings\, please call: 778-855-0344
URL:https://ativancouver.ca/event/dinner-entertaining-bollywood-music-on-family-day-long-weekend/
LOCATION:SPICE KIGS BISTRO\, 15325 56 Ave #102\, SURREY\, BRITISH COLUMBIA\, V3S 0X9\, Canada
CATEGORIES:Community,Food & Drink,Music
ATTACH;FMTTYPE=image/jpeg:https://ativancouver.ca/wp-content/uploads/2024/02/family-day-weekend-event.jpeg
ORGANIZER;CN="AMIT KUMAR":MAILTO:ameetskumar@outlook.com
END:VEVENT
BEGIN:VEVENT
DTSTART;TZID=America/Vancouver:20240222T170000
DTEND;TZID=America/Vancouver:20240222T190000
DTSTAMP:20260421T202916
CREATED:20240203T060113Z
LAST-MODIFIED:20240206T184343Z
UID:10000294-1708621200-1708628400@ativancouver.ca
SUMMARY:Leveraging LinkedIn for Business & Networking Event For Small Business Owners
DESCRIPTION:Calling all local business owners! \nJoin Digii Ninja for an electrifying event where I’ll unveil the secrets to leveraging LinkedIn for unprecedented business growth. I will be talking about: \n\nUtilizing LinkedIn Company Page and profile\nGenerating Leads and Driving Sales\nMeasuring Success\, Case Studies\, and Success Stories\nBest Practices and Tips\nNetworking Opportunity with other Small Business Owners from the Indian Community\n\nLet’s turn connections into conversions! \nAfter the presentation\, we will head to the Social Tavern (across the street) for a networking session (self-paid). \nLimited availability\, register now to secure your spot.
URL:https://ativancouver.ca/event/leveraging-linkedin-for-business-networking-event-for-small-business-owners/
LOCATION:Fleetwood Public Library\, 15996 84 Ave\, Surrey\, British Columbia\, V4N 0W1\, Canada
CATEGORIES:Business
ATTACH;FMTTYPE=image/png:https://ativancouver.ca/wp-content/uploads/2024/02/6.png
ORGANIZER;CN="Chinmaya Sadangi":MAILTO:digiininja@gmail.com
END:VEVENT
END:VCALENDAR