BEGIN:VCALENDAR
VERSION:2.0
PRODID:-//ATI Vancouver - ECPv6.15.16//NONSGML v1.0//EN
CALSCALE:GREGORIAN
METHOD:PUBLISH
X-WR-CALNAME:ATI Vancouver
X-ORIGINAL-URL:https://ativancouver.ca
X-WR-CALDESC:Events for ATI Vancouver
REFRESH-INTERVAL;VALUE=DURATION:PT1H
X-Robots-Tag:noindex
X-PUBLISHED-TTL:PT1H
BEGIN:VTIMEZONE
TZID:America/Vancouver
BEGIN:DAYLIGHT
TZOFFSETFROM:-0800
TZOFFSETTO:-0700
TZNAME:PDT
DTSTART:20220313T100000
END:DAYLIGHT
BEGIN:STANDARD
TZOFFSETFROM:-0700
TZOFFSETTO:-0800
TZNAME:PST
DTSTART:20221106T090000
END:STANDARD
BEGIN:DAYLIGHT
TZOFFSETFROM:-0800
TZOFFSETTO:-0700
TZNAME:PDT
DTSTART:20230312T100000
END:DAYLIGHT
BEGIN:STANDARD
TZOFFSETFROM:-0700
TZOFFSETTO:-0800
TZNAME:PST
DTSTART:20231105T090000
END:STANDARD
BEGIN:DAYLIGHT
TZOFFSETFROM:-0800
TZOFFSETTO:-0700
TZNAME:PDT
DTSTART:20240310T100000
END:DAYLIGHT
BEGIN:STANDARD
TZOFFSETFROM:-0700
TZOFFSETTO:-0800
TZNAME:PST
DTSTART:20241103T090000
END:STANDARD
END:VTIMEZONE
BEGIN:VEVENT
DTSTART;TZID=America/Vancouver:20231104T100000
DTEND;TZID=America/Vancouver:20231104T180000
DTSTAMP:20260422T004102
CREATED:20230814T184824Z
LAST-MODIFIED:20230814T184824Z
UID:10000255-1699092000-1699120800@ativancouver.ca
SUMMARY:Diwali 2023 Celebrations at City of Port Coquitlam (PoCo)
DESCRIPTION:City of Port Coquitlam (PoCo) having its first culturally focused and inclusive Diwali Celebration on November 4\, 2023. \nIt is a day long traditionally representative extravaganza of activities for KIDS & SENIORS\, dance workshops for everybody and beautiful musical\, instrumental and cultural performances\, standing exhibits on Indian history and saree parades. The organizers want to show Port Coquitlam how rich and vibrant our celebrations are have an event which will allow ALL members of the community to come and experience the beauty and wonder of a traditional Indian Diwali. \nIt is going to be a free event for the public at the superb new PoCo Community Centre with three spaces dedicated to the event – the gym court\, Mabbett Hall and the Wilson Lounge.
URL:https://ativancouver.ca/event/diwali-2023-celebrations-at-city-of-port-coquitlam-poco/
LOCATION:City of Port Coquitlam\, 2580 Shaughnessy St\, Port Coquitlam\, British Columbia\, V3C 3G3\, Canada
CATEGORIES:Community,Food & Drink,Music,Performing & Visual Arts
ATTACH;FMTTYPE=image/jpeg:https://ativancouver.ca/wp-content/uploads/2023/08/diwali-in-poco.jpg
ORGANIZER;CN="Mithila Karnik":MAILTO:mithilak@gmail.com
END:VEVENT
BEGIN:VEVENT
DTSTART;TZID=America/Vancouver:20231104T183000
DTEND;TZID=America/Vancouver:20231104T210000
DTSTAMP:20260422T004102
CREATED:20231101T004137Z
LAST-MODIFIED:20231101T004230Z
UID:10000270-1699122600-1699131600@ativancouver.ca
SUMMARY:Divine Echoes: A Kirtan Concert Presented by Arts of Living\, Vancouver
DESCRIPTION:In this auspicious season of Navaratri\, Dushera and Diwali\, we invite you to: Divine Echoes: A Kirtan Concert & Satsang put on by the Art of Living Foundation (a non-profit centered around yoga\, meditation and music) \nTreat yourself to a one-of-a-kind kirtan concert and live album recording of original music composed by an ensemble of Vancouver’s finest Art of Living kirtan artists. \nLocation: The Terry Fox Theatre in Port Coquitlam\, Saturday\, November 4th\, 6:30PM\nTickets now on sale at $12/person \nBook your tickets online\nSee you there for an enchanting night of soulful chants and mantra compositions that will leave you in utter bliss!
URL:https://ativancouver.ca/event/divine-echoes-a-kirtan-concert/
LOCATION:Terry Fox Theatre\, 1260 Riverwood Gate\, Port Coquitlam\, BC\, V3B 7Z5\, Canada
CATEGORIES:Community,Music,Performing & Visual Arts
ATTACH;FMTTYPE=image/jpeg:https://ativancouver.ca/wp-content/uploads/2023/10/whatsapp-image-2023-10-31-at-3.48.03-pm.jpeg
END:VEVENT
BEGIN:VEVENT
DTSTART;TZID=America/Vancouver:20231105T130000
DTEND;TZID=America/Vancouver:20231105T170000
DTSTAMP:20260422T004102
CREATED:20231019T163854Z
LAST-MODIFIED:20231027T053252Z
UID:10000266-1699189200-1699203600@ativancouver.ca
SUMMARY:Deepavali Utsava 2023 in Burnaby by Vancouver Kannada Koota
DESCRIPTION:Celebrate Diwali in Burnaby! Join Vancouver Kannada Koota for an evening brimming with delicious food and captivating performances that promise to delight & mesmerize. \nClick here to register for the event
URL:https://ativancouver.ca/event/deepavali-utsava-2023-in-burnaby-by-vancouver-kannada-koota/
LOCATION:Michael J Fox Theatre\, 7373 MacPherson Avenue\, Burnaby\, BC\, V5J 0B2\, Canada
CATEGORIES:Community,Food & Drink,Music,Performing & Visual Arts
ATTACH;FMTTYPE=image/jpeg:https://ativancouver.ca/wp-content/uploads/2023/10/deepavali-utsava-2023.jpeg
END:VEVENT
BEGIN:VEVENT
DTSTART;TZID=America/Vancouver:20231112T100000
DTEND;TZID=America/Vancouver:20231112T190000
DTSTAMP:20260422T004102
CREATED:20231109T201330Z
LAST-MODIFIED:20231109T201330Z
UID:10000271-1699783200-1699815600@ativancouver.ca
SUMMARY:Diwali Mela in Burnaby
DESCRIPTION:Diwali pooja\, Preeti bhojan and Diwali Mela at Hindu temple in Burnaby. It is a free event\, entire community is invited.
URL:https://ativancouver.ca/event/diwali-mela-in-burnaby/
LOCATION:Hindu Temple Burnaby\, 5420 Marine Dr\,\, Burnaby\, BC\, V5J 3G8\, Canada
ATTACH;FMTTYPE=image/jpeg:https://ativancouver.ca/wp-content/uploads/2023/11/img_0660.jpeg
END:VEVENT
BEGIN:VEVENT
DTSTART;TZID=America/Vancouver:20231118T180000
DTEND;TZID=America/Vancouver:20231118T230000
DTSTAMP:20260422T004102
CREATED:20230915T003357Z
LAST-MODIFIED:20230915T003656Z
UID:10000264-1700330400-1700348400@ativancouver.ca
SUMMARY:Diwali Gala 2023 in Tricities by Eventival
DESCRIPTION:Join us for a dazzling Diwali Gala on November 18th\, Saturday\, starting at 6 PM at the enchanting Heritage Hall in Pitt Meadows!\nFor tickets please click on the link below \nBuy Tickets Online at Eventbrite \nWhat to Expect: \nGrand Buffet ️\nCash Bar\nExciting Games & Prizes\nKids Art & Craft Corner\nCultural Performances\n360° Photo Booth\nBollywood Beats by DJ Raytrix \nTicket Prices: \nEarly Bird Tickets – limited quantity!! Grab yours now….\nAdults: $55\nKids (age 5-12yrs): $35\nKids below 5yrs: Free \nBuy Your Tickets Online at Eventbrite \nDon’t miss this vibrant celebration of light and culture. See you there! \nFor sponsorship enquiries please contact us at 7789515172 / 7787892143 / 7782460929
URL:https://ativancouver.ca/event/diwali-gala-2023-in-tricities-by-eventival/
LOCATION:Pitt Meadows Heritage Hall\, 12460 Harris Road\, Pitt Medows\, BC\, V3Y 2J5\, Canada
CATEGORIES:Community,Food & Drink
ATTACH;FMTTYPE=image/jpeg:https://ativancouver.ca/wp-content/uploads/2023/09/diwali-gala-2023-by-eventival-in-tricities.jpg
ORGANIZER;CN="Eventival":MAILTO:eventivalholdings@gmail.com
END:VEVENT
BEGIN:VEVENT
DTSTART;TZID=America/Vancouver:20231126T120000
DTEND;TZID=America/Vancouver:20231126T130000
DTSTAMP:20260422T004102
CREATED:20231122T180333Z
LAST-MODIFIED:20231122T180333Z
UID:10000276-1701000000-1701003600@ativancouver.ca
SUMMARY:FREE Trial Yoga Class - Online
DESCRIPTION:– Trial Yoga class led by Deepa\, a Certified Yoga instructor\, with over 15 years of expertise. \n– Deepa is Certified Iyengar Yoga Teacher and also Govt. Of India Certified Teacher. \n– Join us for alignment\, precision\, and balance\, right from the comfort of your home. \n– All levels are welcome\, whether you’re a beginner or a yoga practitioner. \n– It’s free\, simple\, and open to everyone. \n– Class will be held on ZOOM. Registration is a must. Once you register the Zoom link will be emailed to you. \n– Secure your spot by registering to this link – https://yogdeepam.bio.link/
URL:https://ativancouver.ca/event/free-trial-yoga-class-online/
LOCATION:Online Via Zoom\, Canada
CATEGORIES:Health
ATTACH;FMTTYPE=image/jpeg:https://ativancouver.ca/wp-content/uploads/2023/11/img_2087.jpeg
ORGANIZER;CN="Deepa Mukherji":MAILTO:deepa@yogdeepam.ca
END:VEVENT
BEGIN:VEVENT
DTSTART;TZID=America/Vancouver:20231130T160000
DTEND;TZID=America/Vancouver:20231130T170000
DTSTAMP:20260422T004102
CREATED:20231129T035601Z
LAST-MODIFIED:20231129T035725Z
UID:10000277-1701360000-1701363600@ativancouver.ca
SUMMARY:FREE Online Trial Yoga Session by Deepa Mukherji
DESCRIPTION:Deepa Mukherji is a certified Iyengar Yoga teacher practicing for more than 15 years. \nShe is conducting a 5-week Iyengar Yoga Fundamentals Course starting from 3rd Dec. This course is suitable for absolute beginners and people who have never experienced Yoga before. \nThe aim of this course is to help develop strength\, improve flexibility\, mobility and general well-being of the participants. \nTo give people a taste of her yoga classes\, Deepa has arranged a FREE Online Trial Yoga session on Zoom. Join in on Thursday\, November 30th\, at 4:00 PM PST. For further details and registration\, check out the link: https://yogdeepam.bio.link/. \nLooking forward to having you there!
URL:https://ativancouver.ca/event/free-online-trial-yoga-session-by-deepa-mukherji/
LOCATION:Online Via Zoom\, Canada
CATEGORIES:Health
ATTACH;FMTTYPE=image/jpeg:https://ativancouver.ca/wp-content/uploads/2023/11/abcf058f-c156-4629-bbb0-43441d5368ab-1.jpeg
ORGANIZER;CN="Deepa Mukherji":MAILTO:deepa@yogdeepam.ca
END:VEVENT
END:VCALENDAR