BEGIN:VCALENDAR
VERSION:2.0
PRODID:-//ATI Vancouver - ECPv6.15.16//NONSGML v1.0//EN
CALSCALE:GREGORIAN
METHOD:PUBLISH
X-WR-CALNAME:ATI Vancouver
X-ORIGINAL-URL:https://ativancouver.ca
X-WR-CALDESC:Events for ATI Vancouver
REFRESH-INTERVAL;VALUE=DURATION:PT1H
X-Robots-Tag:noindex
X-PUBLISHED-TTL:PT1H
BEGIN:VTIMEZONE
TZID:America/Vancouver
BEGIN:DAYLIGHT
TZOFFSETFROM:-0800
TZOFFSETTO:-0700
TZNAME:PDT
DTSTART:20220313T100000
END:DAYLIGHT
BEGIN:STANDARD
TZOFFSETFROM:-0700
TZOFFSETTO:-0800
TZNAME:PST
DTSTART:20221106T090000
END:STANDARD
BEGIN:DAYLIGHT
TZOFFSETFROM:-0800
TZOFFSETTO:-0700
TZNAME:PDT
DTSTART:20230312T100000
END:DAYLIGHT
BEGIN:STANDARD
TZOFFSETFROM:-0700
TZOFFSETTO:-0800
TZNAME:PST
DTSTART:20231105T090000
END:STANDARD
BEGIN:DAYLIGHT
TZOFFSETFROM:-0800
TZOFFSETTO:-0700
TZNAME:PDT
DTSTART:20240310T100000
END:DAYLIGHT
BEGIN:STANDARD
TZOFFSETFROM:-0700
TZOFFSETTO:-0800
TZNAME:PST
DTSTART:20241103T090000
END:STANDARD
END:VTIMEZONE
BEGIN:VEVENT
DTSTART;TZID=America/Vancouver:20230902T100000
DTEND;TZID=America/Vancouver:20230902T183000
DTSTAMP:20260422T033457
CREATED:20230529T190843Z
LAST-MODIFIED:20230820T015305Z
UID:10000247-1693648800-1693679400@ativancouver.ca
SUMMARY:Namaste Canada 2023
DESCRIPTION:Let’s gear up for the next edition of Namaste Canada 2023. \nConsulate General of India\, Vancouver is glad to announce that we will be celebrating our flagship event NAMASTE CANADA this year at the Bell Performing Arts Centre in Surrey with the support of Indian Community associations and cultural organizations based in Vancouver\, BC. \nWhat: Namaste Canada 2023\nWhere: Bell Performing Arts Centre\, Surrey\nWhen: Saturday\, September 2\, 2023\nTickets: Free event\, prior registration required. Visit this link.
URL:https://ativancouver.ca/event/namaste-canada-2023/
LOCATION:Bell Performing Arts Centre\, 6250 144 St\, Surrey\, British Columbia\, V3X 1A2\, Canada
CATEGORIES:Community,Music,Performing & Visual Arts
ATTACH;FMTTYPE=image/jpeg:https://ativancouver.ca/wp-content/uploads/2023/05/namaste-canada-2023-event-header.jpg
END:VEVENT
BEGIN:VEVENT
DTSTART;TZID=America/Vancouver:20230909T100000
DTEND;TZID=America/Vancouver:20230909T123000
DTSTAMP:20260422T033457
CREATED:20230820T212557Z
LAST-MODIFIED:20230820T212557Z
UID:10000256-1694253600-1694262600@ativancouver.ca
SUMMARY:The Level Up: Trailblazing Networking Breakouts
DESCRIPTION:A unique networking experience is coming to the lower mainland where business owners\, entrepreneurs\, serial hobbyists and those with a pitch or a passion project will get to access and collaborate with notable members of the community. The Level Up aims to go beyond a traditional business card exchange and business presentation to bridge gaps between ideas and execution and building a networking that is really beneficial to everybody\, with no hidden catch! This is where you get to understand mentorship\, asks questions in a safe space and level up in your current professional status. \nPurchase Tickets Online
URL:https://ativancouver.ca/event/the-level-up-trailblazing-networking-breakouts/
LOCATION:Port Coquitlam Community Centre\, 2150 Wilson Avenue\, Port Coquitlam\, BC\, V3C 6J5\, Canada
CATEGORIES:Business,Community,Information Session
ATTACH;FMTTYPE=image/png:https://ativancouver.ca/wp-content/uploads/2023/08/boost-modern-abstract-gradient-music-festival-event-poster-e1692566832477.png
ORGANIZER;CN="Mithila Karnik":MAILTO:mithilak@gmail.com
END:VEVENT
BEGIN:VEVENT
DTSTART;TZID=America/Vancouver:20230910T120000
DTEND;TZID=America/Vancouver:20230910T180000
DTSTAMP:20260422T033457
CREATED:20230808T181702Z
LAST-MODIFIED:20230808T181833Z
UID:10000254-1694347200-1694368800@ativancouver.ca
SUMMARY:Indian Bazaar
DESCRIPTION:Lalittah Event Planner & South Hall Banquet Hall present Indian Bazaar. Save the date for: \n\nShopping\nMusic\nFood\nEntertainment\n\nTime: 12pm-6pm\nDate: Sunday\, September 10\, 2023\nLocation: South Hall Banquet Hall\, Vancouver\nTicket Price: $10
URL:https://ativancouver.ca/event/indian-bazaar/
LOCATION:South Hall Banquet & Wedding Palace Ltd\, 8273 Ross St\, Vancouver\, British Columbia\, V5X 4W1\, Canada
CATEGORIES:Business,Community,Food & Drink,Music
ATTACH;FMTTYPE=image/jpeg:https://ativancouver.ca/wp-content/uploads/2023/08/indian-bazaar.jpg
ORGANIZER;CN="Lalittah Event Planner":MAILTO:lalittaheventplanner@gmail.com
END:VEVENT
BEGIN:VEVENT
DTSTART;TZID=America/Vancouver:20230922T160000
DTEND;TZID=America/Vancouver:20230922T170000
DTSTAMP:20260422T033457
CREATED:20230911T230149Z
LAST-MODIFIED:20230911T230149Z
UID:10000262-1695398400-1695402000@ativancouver.ca
SUMMARY:IYENGAR YOGA CLASSES FOR BEGINNERS IN BURNABY
DESCRIPTION:IYENGAR YOGA CLASSES FOR BEGINNERS \nLearn the foundations of Yoga in a structured systematic way\, laying the groundwork for a lifelong journey of health\, mindfulness\, and self-discovery. \nAs a teacher\, Deepa offers a systematic\, progressive and challenging approach to yoga\, ensuring it’s safe and accessible to everyone. \nLOCATION:\nChristine Sinclair Community Centre (CSC)\, Burnaby \nSESSION 1:\nRegistration Code 16349\nSeptember 22\, 2023 to October 20\, 2023\nFri 4:00 PM – 5:00 PM \nSESSION 2:\nRegistration Code 16350\nOctober 27\, 2023 to November 24\, 2023\nFri 4:00 PM – 5:00 PM \nREGISTRATION:\nWebsite – Burnaby.ca/WebReg\nPhone +1 (604) 294-7944 \nRegistration started…. Limited seats.
URL:https://ativancouver.ca/event/iyengar-yoga-classes-for-beginners-in-burnaby/
LOCATION:christine sinclair community centre\, 3713\, Kensington Avenue\, Burnaby\, British Columbia\, V5B 0A7\, Canada
CATEGORIES:Sports & Fitness
ATTACH;FMTTYPE=image/jpeg:https://ativancouver.ca/wp-content/uploads/2023/09/img_1210.jpeg
END:VEVENT
BEGIN:VEVENT
DTSTART;TZID=America/Vancouver:20230922T180000
DTEND;TZID=America/Vancouver:20230922T210000
DTSTAMP:20260422T033457
CREATED:20230808T051607Z
LAST-MODIFIED:20230808T051607Z
UID:10000252-1695405600-1695416400@ativancouver.ca
SUMMARY:Divine Trio: An Indian Classical Concert by Chinmaya Mission Vancouver
DESCRIPTION:CHINMAYA MISSION VANCOUVER PRESENTS: \nDivine Trio: An Indian Classical Concert \nChinmaya Mission Vancouver is pleased to announce Divine Trio\, a concert and fundraiser for the Mission. Join us for a magical evening of Indian classical music delivered by renowned artists Janab Hassan Haider Khan\, Vidushi Mita Nag\, and Pt. Subhen Chatterjee. By attending\, you will support the Mission’s spiritual and educational activities\, and delight your ears with bandishes\, raga-based songs\, and bhajans. It will be an evening to remember! \nGet Tickets: \nTickets are $30 (plus tax and fees) and may be purchased through the Shadbolt Centre box-office.\nTo purchase tickets online\, please visit tickets.shadboltcentre.com and select Divine Trio.\nTo purchase tickets on the phone\, please call 604-205-3000 between 9AM and 6PM\, Monday to Sunday.\nTickets may also be purchased in person at the box-office\, located at 6450 Deer Lake Ave. \nEvent Details: \nThe Shadbolt Centre is located at 6450 Deer Lake Ave in Burnaby.  Parking is available for free at the venue. Doors open at 6:00 PM. Concert starts at 6:30 PM and ends at 9:00 PM. \nAbout the Artists: \nDivine Trio features the stylings of sensational\, young Shehnai player JANAB  HASSAN  HAIDER KHAN\, son of Shehnai maestro Ustad Ali Ahmed Hussain Khan and grandson of Bharat Ratna Ustad Bismillah Khan; VIDUSHI MITA NAG\, one of the best known female Sitar players in India\, and daughter of legendary Sitar maestro Pt. Manilal Nag of the famous Vishnupur Gharana of Bengal; and finally\, PT. SUBHEN CHATTERJEE on tabla. You can hear a sample of their performance here. \nBuy Tickets Now
URL:https://ativancouver.ca/event/divine-trio-an-indian-classical-concert-by-chinmaya-mission-vancouver/
LOCATION:Shadbolt Centre For The Arts\, 6450 Deer Lake Ave\, Burnaby\, British Columbia\, V5G 2J3\, Canada
CATEGORIES:Music,Performing & Visual Arts
ATTACH;FMTTYPE=image/jpeg:https://ativancouver.ca/wp-content/uploads/2023/08/divine-trio-indian-classical-concert-burnaby-1.jpg
ORGANIZER;CN="Chinmaya Mission - Vancouver":MAILTO:info@chinmayavancouver.org
END:VEVENT
BEGIN:VEVENT
DTSTART;TZID=America/Vancouver:20230928T120000
DTEND;TZID=America/Vancouver:20230928T130000
DTSTAMP:20260422T033457
CREATED:20230915T001755Z
LAST-MODIFIED:20230915T001755Z
UID:10000263-1695902400-1695906000@ativancouver.ca
SUMMARY:Classical Indian Dances in Focus
DESCRIPTION:The Dance Centre’s Discover Dance! noon hour series begins a new season with Classical Indian Dances in Focus. Kathak artist Fiana Kawane\, Bharata Natyam dancer Shilpa Shankar\, and special guests illustrate the range\, complexity and musicality of their constantly evolving art forms. There will be a post-show artist talkback. \nTickets $15/$13 students\, seniors and children.
URL:https://ativancouver.ca/event/classical-indian-dances-in-focus/
LOCATION:Scotiabank Dance Centre\, 677 Davie St\, Vancouver\, British Columbia\, V6B 2G6\, Canada
CATEGORIES:Performing & Visual Arts
ATTACH;FMTTYPE=image/jpeg:https://ativancouver.ca/wp-content/uploads/2023/09/shilpa-shankar-photo-chris-randle-3.jpg
ORGANIZER;CN="The Dance Centre":MAILTO:info@thedancecentre.ca
END:VEVENT
END:VCALENDAR