BEGIN:VCALENDAR
VERSION:2.0
PRODID:-//ATI Vancouver - ECPv6.15.16//NONSGML v1.0//EN
CALSCALE:GREGORIAN
METHOD:PUBLISH
X-ORIGINAL-URL:https://ativancouver.ca
X-WR-CALDESC:Events for ATI Vancouver
REFRESH-INTERVAL;VALUE=DURATION:PT1H
X-Robots-Tag:noindex
X-PUBLISHED-TTL:PT1H
BEGIN:VTIMEZONE
TZID:America/Vancouver
BEGIN:DAYLIGHT
TZOFFSETFROM:-0800
TZOFFSETTO:-0700
TZNAME:PDT
DTSTART:20220313T100000
END:DAYLIGHT
BEGIN:STANDARD
TZOFFSETFROM:-0700
TZOFFSETTO:-0800
TZNAME:PST
DTSTART:20221106T090000
END:STANDARD
BEGIN:DAYLIGHT
TZOFFSETFROM:-0800
TZOFFSETTO:-0700
TZNAME:PDT
DTSTART:20230312T100000
END:DAYLIGHT
BEGIN:STANDARD
TZOFFSETFROM:-0700
TZOFFSETTO:-0800
TZNAME:PST
DTSTART:20231105T090000
END:STANDARD
BEGIN:DAYLIGHT
TZOFFSETFROM:-0800
TZOFFSETTO:-0700
TZNAME:PDT
DTSTART:20240310T100000
END:DAYLIGHT
BEGIN:STANDARD
TZOFFSETFROM:-0700
TZOFFSETTO:-0800
TZNAME:PST
DTSTART:20241103T090000
END:STANDARD
END:VTIMEZONE
BEGIN:VEVENT
DTSTART;TZID=America/Vancouver:20230322T090000
DTEND;TZID=America/Vancouver:20230401T200000
DTSTAMP:20260422T111347
CREATED:20230322T012059Z
LAST-MODIFIED:20230322T012400Z
UID:10000226-1679475600-1680379200@ativancouver.ca
SUMMARY:Ugadi\, Gudi Padwa\, Sri RamaNavami Celebrations 2023 by Sri Yoga Hanuman Temple\, Surrey
DESCRIPTION:Sri Yoga Hanuman Temple cordially invites you and your family to join us in Ugadi\, Gudi Padwa & Sri Ramanavami Celebrations and get divine blessings! May this new year bring all the happiness\, good health and prosperity to you and your family!   Wishing you all a Happy Ugadi\, Gudi Padwa and Sree Rama Navami!!  Jai Shree Ram !! \nPlease watch the video below for some more details:
URL:https://ativancouver.ca/event/ugadi-gudi-padwa-sri-ramanavami-celebrations-2023-by-sri-yoga-hanuman-temple-surrey/
LOCATION:Sri Yoga Hanuman Temple\, Surrey\, 13415 Comber Way #4\, Surrey\, British Columbia\, V3W 5V8\, Canada
CATEGORIES:Community
END:VEVENT
BEGIN:VEVENT
DTSTART;TZID=America/Vancouver:20230401T183000
DTEND;TZID=America/Vancouver:20230401T213000
DTSTAMP:20260422T111347
CREATED:20230322T220158Z
LAST-MODIFIED:20230324T051652Z
UID:10000227-1680373800-1680384600@ativancouver.ca
SUMMARY:Hindi/punjabi standup comedy show
DESCRIPTION:Nothing could beat having some good LAUGHTER in heart of surrey on APRIL FOOLS day! 3 desi comedians from 3 different provinces of Canada going to perform in Surrey on April 1st\, 2023 at Guildford Golf & Country Club located at 7929 152 Street Surrey\, BC V3S 3M5. \nOur most awaited comedy show with Hindi/Punjabi Indo Canadian artists from all over Canada. We are bringing THE BEST from every province! \nBuy Tickets Online
URL:https://ativancouver.ca/event/hindi-punjabi-standup-comedy-show/
LOCATION:BC
ATTACH;FMTTYPE=image/jpeg:https://ativancouver.ca/wp-content/uploads/2023/03/fb_img_1679344865242.jpg
END:VEVENT
BEGIN:VEVENT
DTSTART;TZID=America/Vancouver:20230421T180000
DTEND;TZID=America/Vancouver:20230421T230000
DTSTAMP:20260422T111347
CREATED:20230323T203656Z
LAST-MODIFIED:20230405T154841Z
UID:10000228-1682100000-1682118000@ativancouver.ca
SUMMARY:Desi Business Networking Dinner Event - April 21\, 2023
DESCRIPTION:CDACC Business Network presents a Business Networking Event for Business owners in lower mainland with Desi (Indian) roots. \nThe event is organized to bring the Vancouver Indian Business Community together. The organizer of this event Ajay Rana said “This objective of the event is to provide a platform to all desi business owners to gather at one place and mingle in a supportive environment with some exciting team building games”. \nBring your colleagues\, business owner friends\, family members who are open to meet & network with like minded people to grow together. \nDate & Location: April\, 21\, 2023; 6pm onwards @ Empire Banquet Hall\, Surrey \nTickets: Spots are limited\, please e-transfer to info@cdacc.ca or buy tickets online at Eventbrite. Contact Ajay Rana at 600-300-0425 for more information.
URL:https://ativancouver.ca/event/desi-business-networking-dinner-event-april-21-2023/
LOCATION:Empire Banquet Hall\, Surrey\, 12888 80 Avenue\, Surrey\, British Columbia\, V3W 3A8\, Canada
CATEGORIES:Business
ATTACH;FMTTYPE=image/jpeg:https://ativancouver.ca/wp-content/uploads/2023/03/desi-business-networking-04-21-2023.jpg
ORGANIZER;CN="CDACC Business Network":MAILTO:info@cdacc.ca
END:VEVENT
BEGIN:VEVENT
DTSTART;TZID=America/Vancouver:20230422T080000
DTEND;TZID=America/Vancouver:20230422T200000
DTSTAMP:20260422T111347
CREATED:20230419T040833Z
LAST-MODIFIED:20230419T040833Z
UID:10000234-1682150400-1682193600@ativancouver.ca
SUMMARY:Sri Yoga Hanuman Temple - Akshaya Thritiya Celebrations - 2023
DESCRIPTION:Join us on Saturday\, April 22\, 2023\, for the Akshaya Trithiya Pooja at the Sri Yoga Hanuman Temple.
URL:https://ativancouver.ca/event/sri-yoga-hanuman-temple-akshaya-thritiya-celebrations-2023/
LOCATION:Sri Yoga Hanuman Temple\, Surrey\, 13415 Comber Way #4\, Surrey\, British Columbia\, V3W 5V8\, Canada
CATEGORIES:Community
ATTACH;FMTTYPE=image/jpeg:https://ativancouver.ca/wp-content/uploads/2023/04/final-akshay-trithiyainstagram-reel-instagram-post-square.jpg
ORGANIZER;CN="sri yoga hanuman cultural society":MAILTO:info@yogahanuman.org
END:VEVENT
BEGIN:VEVENT
DTSTART;TZID=America/Vancouver:20230429T150000
DTEND;TZID=America/Vancouver:20230429T170000
DTSTAMP:20260422T111347
CREATED:20230426T191624Z
LAST-MODIFIED:20230426T191624Z
UID:10000236-1682780400-1682787600@ativancouver.ca
SUMMARY:"Bloom like a flower\, Blossom like a painting"
DESCRIPTION:“Bloom like a flower and Blossom like a painting”- a spring painting workshop at LA JJV in Coquitlam on Apr 29th. \n@lajjv2022 @vishakhap10 @vividjj @09shilpakalra @reflections.books \nWhat do you need to bring: An eager attitude willing to step into a creative mode with each other. Let’s get along with the amazing time of the season and create some refreshing connections. \nRegistration: $35 per person\, including supplies. Get a second ticket for a friend/partner for only $25 Waitlist for our next event is available. \nFollow us on Instagram: lajjv2022 Email address: lajjv2022@gmail.com Oasis Wellness1111 Austin Ave\, Coquitlam \nFree Parking available. \nCome meet new friends while painting your heart out! Thank you for sharing this event with those you feel would appreciate it! \nInstructor \nARTIST VISHAKHA PATIL \n(Professional Artist and Visual Art Instructor)
URL:https://ativancouver.ca/event/bloom-like-a-flower-blossom-like-a-painting/
LOCATION:BC
CATEGORIES:Community,Hobbies
ATTACH;FMTTYPE=image/png:https://ativancouver.ca/wp-content/uploads/2023/04/inbound4396198578478057827.png
END:VEVENT
BEGIN:VEVENT
DTSTART;TZID=America/Vancouver:20230429T160000
DTEND;TZID=America/Vancouver:20230429T190000
DTSTAMP:20260422T111347
CREATED:20230331T054043Z
LAST-MODIFIED:20230427T164032Z
UID:10000231-1682784000-1682794800@ativancouver.ca
SUMMARY:First Time Home Buyer Seminar - April 29\, 2023
DESCRIPTION:Come and learn what it takes to buy your first home in BC\, Canada.\nWe will cover the following in this seminar:\n\nA to Z of home buying process in British Columbia\nHow and when to prepare for your mortgage and financing\nThe most common mistakes made by first time home buyers\nBasics of Financing/Mortgage\nRole of a lawyer in Real Estate transactions\nAnswer to your questions related to Real Estate & Financing\nDiscuss changes in Regulations\n\nRegister to reserve your spot. Real Estate Seminars are a great way to enhance your knowledge. \n \nAbout the presenters:\nNeeraj Kumar – Real Estate Agent \nNeeraj from eXp Realty & Neeraj Kumar Real Estate Team is a dedicated & trustworthy real estate advisor operating in Metro Vancouver. He is a good listener and listens to his clients needs very carefully and provides friendly and professional real estate services. His goal is “Make Real Estate Experience Easier”. \nAnil Kumar – Mortgage Expert \nAnil Kumar is ‘your friendly mortgage expert’. Whether you are new to Canada\, newly self employed or have a bruised credit. Looking for mortgage for your first home\, renewal or refinance\, you can rely on him for an expert solution. Please visit https://www.anilkumarmortgages.com to know more about him. \nTickets: $10 \nThe nominal ticket price includes Tea & Snacks and Light Dinner after the information session. \nPurchase Tickets Online:\n 
URL:https://ativancouver.ca/event/first-time-home-buyer-seminar-april-29-2023/
LOCATION:Room 202 – Edmonds Community Center\, 7433 Edmonds Street\, Burnaby\, BC\, V3N 1B1
CATEGORIES:Business
ATTACH;FMTTYPE=image/jpeg:https://ativancouver.ca/wp-content/uploads/2023/03/first-time-home-buyers-1200x630-1.jpg
END:VEVENT
END:VCALENDAR