BEGIN:VCALENDAR
VERSION:2.0
PRODID:-//ATI Vancouver - ECPv6.15.16//NONSGML v1.0//EN
CALSCALE:GREGORIAN
METHOD:PUBLISH
X-WR-CALNAME:ATI Vancouver
X-ORIGINAL-URL:https://ativancouver.ca
X-WR-CALDESC:Events for ATI Vancouver
REFRESH-INTERVAL;VALUE=DURATION:PT1H
X-Robots-Tag:noindex
X-PUBLISHED-TTL:PT1H
BEGIN:VTIMEZONE
TZID:America/Vancouver
BEGIN:DAYLIGHT
TZOFFSETFROM:-0800
TZOFFSETTO:-0700
TZNAME:PDT
DTSTART:20250309T100000
END:DAYLIGHT
BEGIN:STANDARD
TZOFFSETFROM:-0700
TZOFFSETTO:-0800
TZNAME:PST
DTSTART:20251102T090000
END:STANDARD
BEGIN:DAYLIGHT
TZOFFSETFROM:-0800
TZOFFSETTO:-0700
TZNAME:PDT
DTSTART:20260308T100000
END:DAYLIGHT
BEGIN:STANDARD
TZOFFSETFROM:-0700
TZOFFSETTO:-0800
TZNAME:PST
DTSTART:20261101T090000
END:STANDARD
BEGIN:DAYLIGHT
TZOFFSETFROM:-0800
TZOFFSETTO:-0700
TZNAME:PDT
DTSTART:20270314T100000
END:DAYLIGHT
BEGIN:STANDARD
TZOFFSETFROM:-0700
TZOFFSETTO:-0800
TZNAME:PST
DTSTART:20271107T090000
END:STANDARD
END:VTIMEZONE
BEGIN:VEVENT
DTSTART;TZID=America/Vancouver:20260322T160000
DTEND;TZID=America/Vancouver:20260322T190000
DTSTAMP:20260424T172627
CREATED:20260305T035447Z
LAST-MODIFIED:20260305T055750Z
UID:10000865-1774195200-1774206000@ativancouver.ca
SUMMARY:Unique You Bhajan Clubbing in Surrey\, BC\, Canada
DESCRIPTION:Unique You BHAJAN CLUBBING\nfeaturing BHAKTI CREW  -(Youth Professional &Passionate singers crew ) \n🔥 First time in the Canada BC & in the history of HWCS🔥 Get Ready \nUNIQUE YOU 2026\nCelebrating SHAKTI supported by HWCS (non Profit) \nA powerful fusion of devotion\, rhythm & modern beats all generations together Vibing spiritually \, singing dancing and feeling divine don’t miss hurry limited spots left \n 22 MARCH 2026\n⏰ 4:00 PM – 7:00 PM\n📍 Kennedy Recreation Centre Hall\, 11760 88 Avenue\, Delta\, BC \n🚗 Unlimited Parking Available \n🎟 Tickets only on Eventbrite\nBhajans meet Beats music 🎵 \nGet $5 Discount with promo code U5 until March 8th. 
URL:https://ativancouver.ca/event/unique-you-bhajan-clubbing-in-surrey-bc-canada/
LOCATION:kennedy recreation centre\, 11760 88 avenue\, Delta\, BC\, V4C 3C5\, Canada
CATEGORIES:Community,Music,Performing & Visual Arts
ATTACH;FMTTYPE=image/jpeg:https://ativancouver.ca/wp-content/uploads/2026/03/bhajan-clubbing-surrey.jpg
ORGANIZER;CN="Happyness Wellness Community Resources Society":MAILTO:Happynesswellnesscrs@gmail.com
END:VEVENT
BEGIN:VEVENT
DTSTART;TZID=America/Vancouver:20260328T170000
DTEND;TZID=America/Vancouver:20260328T200000
DTSTAMP:20260424T172627
CREATED:20260320T034137Z
LAST-MODIFIED:20260320T034137Z
UID:10000869-1774717200-1774728000@ativancouver.ca
SUMMARY:Roohdariyan by Priya Nijher-Dhillon
DESCRIPTION:Priya Nijher-Dhillon is an accomplished Indian Singer and Actress whose soulful performances have captivated audiences across the globe\, including India\, Canada\, the United States\, England\, Spain\, and the Middle East. \nShe began her professional singing career in 1992 in Punjab with her debut album “Mehndi Wale Pair” and went on to release many songs thereafter\, performing alongside numerous renowned singers across India and abroad. In 1993\, she embarked on her first North American tour alongside the late Surjit Bindrakhia and Dilshad Akhtar. \nOver the years\, Priya has shared the stage with legendary artists such as Hans Raj Hans\, Gurdas Maan\, Debi Makhsoospuri\, Sabar Koti\, Harbhajan Mann\, Balwinder Safri\, Ranjit Kaur\, and Mohammad Sadiq\, among many others in the Punjabi music industry. \nShe has also lent her melodious voice to Punjabi films as a playback singer and acted in lead roles in several movies. Priya is known for her versatile and unique style\, performing ghazals\, Sufi kalams\, and Punjabi folk with equal mastery. Her natural talent is supported by a strong academic foundation\, including a Master’s and Master of Philosophy in Indian Classical vocal music\, for which she was awarded a gold medal in India\, a Master of Teaching Science degree from the United States\, and advanced training in classical music under Ustad Prof. L. D. Pardesi of the Agra Gharana. \nPriya maintains an active presence on YouTube\, Instagram\, and Facebook\, where she has cultivated a dedicated following that appreciates her timeless voice and soulful performances. She will be performing her comeback show\, “Priya Nijher’s Roohdariyan”\, at the Delta Arts Centre on March 28. Tickets are available on Eventbrite for an evening of enchanting ghazals\, Sufi kalams\, and Punjabi folk music.
URL:https://ativancouver.ca/event/roohdariyan-by-priya-nijher-dhillon/
LOCATION:North Delta Recreation Centre\, 11415 84 Ave\, Delta\, BC\, V4C2L9\, Canada
CATEGORIES:Community,Music,Performing & Visual Arts
ATTACH;FMTTYPE=image/jpeg:https://ativancouver.ca/wp-content/uploads/2026/03/priya-nijhers-roohdariyan-live-concert-poster.jpeg
ORGANIZER;CN="RoohdariyanEntertainment":MAILTO:Roohdariyanofficial@gmail.com
END:VEVENT
END:VCALENDAR