BEGIN:VCALENDAR
VERSION:2.0
PRODID:-//ATI Vancouver - ECPv6.15.16//NONSGML v1.0//EN
CALSCALE:GREGORIAN
METHOD:PUBLISH
X-ORIGINAL-URL:https://ativancouver.ca
X-WR-CALDESC:Events for ATI Vancouver
REFRESH-INTERVAL;VALUE=DURATION:PT1H
X-Robots-Tag:noindex
X-PUBLISHED-TTL:PT1H
BEGIN:VTIMEZONE
TZID:America/Vancouver
BEGIN:DAYLIGHT
TZOFFSETFROM:-0800
TZOFFSETTO:-0700
TZNAME:PDT
DTSTART:20230312T100000
END:DAYLIGHT
BEGIN:STANDARD
TZOFFSETFROM:-0700
TZOFFSETTO:-0800
TZNAME:PST
DTSTART:20231105T090000
END:STANDARD
BEGIN:DAYLIGHT
TZOFFSETFROM:-0800
TZOFFSETTO:-0700
TZNAME:PDT
DTSTART:20240310T100000
END:DAYLIGHT
BEGIN:STANDARD
TZOFFSETFROM:-0700
TZOFFSETTO:-0800
TZNAME:PST
DTSTART:20241103T090000
END:STANDARD
BEGIN:DAYLIGHT
TZOFFSETFROM:-0800
TZOFFSETTO:-0700
TZNAME:PDT
DTSTART:20250309T100000
END:DAYLIGHT
BEGIN:STANDARD
TZOFFSETFROM:-0700
TZOFFSETTO:-0800
TZNAME:PST
DTSTART:20251102T090000
END:STANDARD
END:VTIMEZONE
BEGIN:VEVENT
DTSTART;TZID=America/Vancouver:20241222T170000
DTEND;TZID=America/Vancouver:20241222T220000
DTSTAMP:20260425T135806
CREATED:20241206T053400Z
LAST-MODIFIED:20241206T053400Z
UID:10000375-1734886800-1734904800@ativancouver.ca
SUMMARY:Raj Kapoor & Mohemmed Rafi Film Songs | Centenary Celebration by KVP Entertainers & KVP Heritage
DESCRIPTION:Join KVP Entertainers & KVP Heritage on December 22\, 2204 at Taj Park Convention Centre in Surrey for an evening of celebration and remembrance of the Indian Hindi Film Legends\, Raj Kapoor and Mohammed Rafi. \nEnjoy singing and music as we honor their memories for the first time in BC.\n  \nTickets: $25 with Dinner\, Registration to sing $10. Contact Kamal Sharma at 604-833-1977 or kvp_kamal@msn.com for more information. \n 
URL:https://ativancouver.ca/event/raj-kapoor-mohemmed-rafi-film-songs-centenary-celebration-by-kvp-entertainers-kvp-heritage/
LOCATION:Taj Park Convention Centre\, 8580 132st\, Surrey\, Bc\, Canada
CATEGORIES:Community,Food & Drink,Music
ATTACH;FMTTYPE=image/jpeg:https://ativancouver.ca/wp-content/uploads/2024/12/raj_kapoor_mohammed_raffi_kvp_heritage.jpg
ORGANIZER;CN="KVP Entertainers":MAILTO:kvp_kamal@msn.com
END:VEVENT
END:VCALENDAR