BEGIN:VCALENDAR
VERSION:2.0
PRODID:-//ATI Vancouver - ECPv6.15.16//NONSGML v1.0//EN
CALSCALE:GREGORIAN
METHOD:PUBLISH
X-WR-CALNAME:ATI Vancouver
X-ORIGINAL-URL:https://ativancouver.ca
X-WR-CALDESC:Events for ATI Vancouver
REFRESH-INTERVAL;VALUE=DURATION:PT1H
X-Robots-Tag:noindex
X-PUBLISHED-TTL:PT1H
BEGIN:VTIMEZONE
TZID:America/Vancouver
BEGIN:DAYLIGHT
TZOFFSETFROM:-0800
TZOFFSETTO:-0700
TZNAME:PDT
DTSTART:20230312T100000
END:DAYLIGHT
BEGIN:STANDARD
TZOFFSETFROM:-0700
TZOFFSETTO:-0800
TZNAME:PST
DTSTART:20231105T090000
END:STANDARD
BEGIN:DAYLIGHT
TZOFFSETFROM:-0800
TZOFFSETTO:-0700
TZNAME:PDT
DTSTART:20240310T100000
END:DAYLIGHT
BEGIN:STANDARD
TZOFFSETFROM:-0700
TZOFFSETTO:-0800
TZNAME:PST
DTSTART:20241103T090000
END:STANDARD
BEGIN:DAYLIGHT
TZOFFSETFROM:-0800
TZOFFSETTO:-0700
TZNAME:PDT
DTSTART:20250309T100000
END:DAYLIGHT
BEGIN:STANDARD
TZOFFSETFROM:-0700
TZOFFSETTO:-0800
TZNAME:PST
DTSTART:20251102T090000
END:STANDARD
END:VTIMEZONE
BEGIN:VEVENT
DTSTART;TZID=America/Vancouver:20240921T140000
DTEND;TZID=America/Vancouver:20240921T190000
DTSTAMP:20260425T173613
CREATED:20240714T041902Z
LAST-MODIFIED:20240801T051239Z
UID:10000332-1726927200-1726945200@ativancouver.ca
SUMMARY:Namaste Canada 2024
DESCRIPTION:Save the date for the 7th edition of this Mega Indian Cultural Event. Namaste Canada is organized by Consulate General of India (CGI)\, Vancouver\, BC\, Canada. Namaste Canada 2024 is going to take place this year on September 21\, 2024. It is a Free Community Event for all!! \nNamaste Canada is an annual event organized with the support of local Indian community organizations and groups from Metro Vancouver region to showcase the rich & diverse culture of India. The event typically includes a range of Indian cultural activities including music & dance. \nThis year\, unlike the past six editions\, the organizers have planned a 4–5-hour continuous evening show. \n 
URL:https://ativancouver.ca/event/namaste-canada-2024/
LOCATION:Vancouver Art Gallery North Plaza\, 750 Hornby Street\, Vancouver\, BC\, V6Z 2H7\, Canada
CATEGORIES:Community,Music,Performing & Visual Arts
ATTACH;FMTTYPE=image/jpeg:https://ativancouver.ca/wp-content/uploads/2024/07/namaste-canada-logo-2024.jpg
END:VEVENT
END:VCALENDAR