BEGIN:VCALENDAR
VERSION:2.0
PRODID:-//ATI Vancouver - ECPv6.15.16//NONSGML v1.0//EN
CALSCALE:GREGORIAN
METHOD:PUBLISH
X-ORIGINAL-URL:https://ativancouver.ca
X-WR-CALDESC:Events for ATI Vancouver
REFRESH-INTERVAL;VALUE=DURATION:PT1H
X-Robots-Tag:noindex
X-PUBLISHED-TTL:PT1H
BEGIN:VTIMEZONE
TZID:America/Vancouver
BEGIN:DAYLIGHT
TZOFFSETFROM:-0800
TZOFFSETTO:-0700
TZNAME:PDT
DTSTART:20250309T100000
END:DAYLIGHT
BEGIN:STANDARD
TZOFFSETFROM:-0700
TZOFFSETTO:-0800
TZNAME:PST
DTSTART:20251102T090000
END:STANDARD
BEGIN:DAYLIGHT
TZOFFSETFROM:-0800
TZOFFSETTO:-0700
TZNAME:PDT
DTSTART:20260308T100000
END:DAYLIGHT
BEGIN:STANDARD
TZOFFSETFROM:-0700
TZOFFSETTO:-0800
TZNAME:PST
DTSTART:20261101T090000
END:STANDARD
BEGIN:DAYLIGHT
TZOFFSETFROM:-0800
TZOFFSETTO:-0700
TZNAME:PDT
DTSTART:20270314T100000
END:DAYLIGHT
BEGIN:STANDARD
TZOFFSETFROM:-0700
TZOFFSETTO:-0800
TZNAME:PST
DTSTART:20271107T090000
END:STANDARD
END:VTIMEZONE
BEGIN:VEVENT
DTSTART;TZID=America/Vancouver:20260321T180000
DTEND;TZID=America/Vancouver:20260322T000000
DTSTAMP:20260424T134256
CREATED:20260203T213333Z
LAST-MODIFIED:20260203T213333Z
UID:10000852-1774116000-1774137600@ativancouver.ca
SUMMARY:Undo Fundo "Play & Win Canada"
DESCRIPTION:Get ready for an awesome in-person experience at Undo Fundo “Play & Win Canada”. It’s the perfect spot where fun blends seamlessly with entertainment. Come hang out\, enjoy great vibes\, and make some unforgettable memories. The evening is thoughtfully curated to deliver a seamless blend of captivating performances\, immersive audience experiences\, and refined entertainment. Guests will enjoy an exceptional collection of gifts and surprises\, including laptops\, tablets\, fine jewellery\, cash prizes\, and many more—woven throughout interactive activities designed to elevate every moment of the celebration. \nWhat guests step into:\n• A beautiful\, well-curated luxury environment\n• Wine on every table\n• Dinner and appetizers with thoughtful hospitality\n• High-energy entertainment and interactive moments\n• Two complimentary drinks (select tickets)\n• A gift with every ticket\n• Chances to win laptops\, tablets\, diamond rings\, cash\, and more
URL:https://ativancouver.ca/event/undo-fundo-play-win-canada/
LOCATION:EMPRESS PALACE BALLROOM  #210 8166 128 ST\, SURREY
CATEGORIES:Community,Food & Drink,Performing & Visual Arts
ATTACH;FMTTYPE=image/jpeg:https://ativancouver.ca/wp-content/uploads/2026/01/play-win-poster-1.jpg
ORGANIZER;CN="Undo Fundo Entettainment":MAILTO:connect@undofundo.net
END:VEVENT
END:VCALENDAR