BEGIN:VCALENDAR
VERSION:2.0
PRODID:-//ATI Vancouver - ECPv6.15.16//NONSGML v1.0//EN
CALSCALE:GREGORIAN
METHOD:PUBLISH
X-WR-CALNAME:ATI Vancouver
X-ORIGINAL-URL:https://ativancouver.ca
X-WR-CALDESC:Events for ATI Vancouver
REFRESH-INTERVAL;VALUE=DURATION:PT1H
X-Robots-Tag:noindex
X-PUBLISHED-TTL:PT1H
BEGIN:VTIMEZONE
TZID:America/Vancouver
BEGIN:DAYLIGHT
TZOFFSETFROM:-0800
TZOFFSETTO:-0700
TZNAME:PDT
DTSTART:20250309T100000
END:DAYLIGHT
BEGIN:STANDARD
TZOFFSETFROM:-0700
TZOFFSETTO:-0800
TZNAME:PST
DTSTART:20251102T090000
END:STANDARD
BEGIN:DAYLIGHT
TZOFFSETFROM:-0800
TZOFFSETTO:-0700
TZNAME:PDT
DTSTART:20260308T100000
END:DAYLIGHT
BEGIN:STANDARD
TZOFFSETFROM:-0700
TZOFFSETTO:-0800
TZNAME:PST
DTSTART:20261101T090000
END:STANDARD
BEGIN:DAYLIGHT
TZOFFSETFROM:-0800
TZOFFSETTO:-0700
TZNAME:PDT
DTSTART:20270314T100000
END:DAYLIGHT
BEGIN:STANDARD
TZOFFSETFROM:-0700
TZOFFSETTO:-0800
TZNAME:PST
DTSTART:20271107T090000
END:STANDARD
END:VTIMEZONE
BEGIN:VEVENT
DTSTART;TZID=America/Vancouver:20260214T210000
DTEND;TZID=America/Vancouver:20260215T020000
DTSTAMP:20260424T150956
CREATED:20260122T170305Z
LAST-MODIFIED:20260122T170914Z
UID:10000851-1771102800-1771120800@ativancouver.ca
SUMMARY:PREMALU NIGHT - Valentine’s Day Special DJ Party
DESCRIPTION:🔥 THE BIGGEST DJ EXPERIENCE IN BC \n💖 PREMALU NIGHT – Valentine’s Day Special DJ Party 💖Proudly presented by South Culture Entertainment* \n🗓 February 14 (Saturday)\n⏰ 9:00 PM – 2:00 AM\n📍200 -12500 Vickers Way\, Richmond BC\n🎟 Entry Tickets:\n$15 – Entry Only\n$25 – Entry + Delicious Food 🍽️\nBuy tickets-https://sce.mallucanada.ca/etn/premalu-night/ \n🎶 High-energy Valentine’s Day DJ beats\n💃 Celebrate love\, music & vibes\n👗 Valentine’s Dress Code – Match with your Valentine ❤️\n🔥 Don’t miss it — it’s going to be ADIPOLI!💃🕺 See you on the dance floor!
URL:https://ativancouver.ca/event/premalu-night/
LOCATION:200-1250 vickers way Richmond\, 300-12500 vickers way Richmond Bc\, Richmond\, British Columbia
CATEGORIES:Food & Drink,Music
ATTACH;FMTTYPE=image/jpeg:https://ativancouver.ca/wp-content/uploads/2026/01/inbound9040889353327566449.jpg
ORGANIZER;CN="south culture entertainment":MAILTO:southcultureentertainment@gmail.com
END:VEVENT
END:VCALENDAR