BEGIN:VCALENDAR
VERSION:2.0
PRODID:-//ATI Vancouver - ECPv6.15.16//NONSGML v1.0//EN
CALSCALE:GREGORIAN
METHOD:PUBLISH
X-WR-CALNAME:ATI Vancouver
X-ORIGINAL-URL:https://ativancouver.ca
X-WR-CALDESC:Events for ATI Vancouver
REFRESH-INTERVAL;VALUE=DURATION:PT1H
X-Robots-Tag:noindex
X-PUBLISHED-TTL:PT1H
BEGIN:VTIMEZONE
TZID:America/Vancouver
BEGIN:DAYLIGHT
TZOFFSETFROM:-0800
TZOFFSETTO:-0700
TZNAME:PDT
DTSTART:20210314T100000
END:DAYLIGHT
BEGIN:STANDARD
TZOFFSETFROM:-0700
TZOFFSETTO:-0800
TZNAME:PST
DTSTART:20211107T090000
END:STANDARD
BEGIN:DAYLIGHT
TZOFFSETFROM:-0800
TZOFFSETTO:-0700
TZNAME:PDT
DTSTART:20220313T100000
END:DAYLIGHT
BEGIN:STANDARD
TZOFFSETFROM:-0700
TZOFFSETTO:-0800
TZNAME:PST
DTSTART:20221106T090000
END:STANDARD
BEGIN:DAYLIGHT
TZOFFSETFROM:-0800
TZOFFSETTO:-0700
TZNAME:PDT
DTSTART:20230312T100000
END:DAYLIGHT
BEGIN:STANDARD
TZOFFSETFROM:-0700
TZOFFSETTO:-0800
TZNAME:PST
DTSTART:20231105T090000
END:STANDARD
END:VTIMEZONE
BEGIN:VEVENT
DTSTART;TZID=America/Vancouver:20221209T183000
DTEND;TZID=America/Vancouver:20221209T235900
DTSTAMP:20260425T084742
CREATED:20221026T050825Z
LAST-MODIFIED:20230103T072041Z
UID:10000070-1670610600-1670630340@ativancouver.ca
SUMMARY:Annual Christmas Fundraiser
DESCRIPTION:Touching Lives Foundation’s fifth annual Christmas Fundraiser is being held on Friday\, Dec 9\, 2022. \nThis year’s party will benefit Moving Forward Family Services. Moving Forward offers free short-term and affordable long-term counselling options to underserved communities across Canada via in-person\, telephone\, and online platforms. They welcome everyone to their judgment-free environment where one can get the help they need regardless of ones age\, race\, identified gender\, financial situation\, or location. \nTickets are $65 per person if purchased before Nov 25. For Tickets\, Group Reservations\, or more information Call Josie @ 778-892-7388 or Neera @ 604-603-4684
URL:https://ativancouver.ca/event/annual-christmas-fundraiser/
LOCATION:royal palace banquet hall\, 7845 Edmonds Street\, Burnaby\, British Columbia\, V3N 1B9\, Canada
CATEGORIES:Community,Food & Drink
ATTACH;FMTTYPE=image/jpeg:https://ativancouver.ca/wp-content/uploads/2022/10/A6E63449-521C-4A92-B886-33CFA517051D.jpeg
ORGANIZER;CN="Touching Lives Foundation":MAILTO:touchinglivesfdn@gmail.com
END:VEVENT
BEGIN:VEVENT
DTSTART;TZID=America/Vancouver:20221204T080000
DTEND;TZID=America/Vancouver:20221204T123000
DTSTAMP:20260425T084742
CREATED:20221130T192502Z
LAST-MODIFIED:20221130T192643Z
UID:10000190-1670140800-1670157000@ativancouver.ca
SUMMARY:Gita Conference Dec 3 & 4\, 2022
DESCRIPTION:Schedule for Gita Conference Dec 3 & 4\, 2022:\nSaturday Dec 3\, 2022 : \n2 pm to 3 pm Gita Chanting\n3 pm to 7 pm – Presentations\, Q & A\, Discussions\nSnacks & Bhojan Dinner served \nSunday December 4\, 2022:\n9 am to 12 : 15 pm\nSummary & Explanations of all Chapters\nPreeti Bhojan – Snacks & Lunch served
URL:https://ativancouver.ca/event/gita-conference-dec-3-4-2022/2022-12-04/
LOCATION:Hindu Temple Burnaby\, 5420 Marine Dr\,\, Burnaby\, BC\, V5J 3G8\, Canada
CATEGORIES:Community,Food & Drink,Health
ATTACH;FMTTYPE=image/jpeg:https://ativancouver.ca/wp-content/uploads/2022/11/whatsapp-image-2022-11-30-at-1.56.39-am.jpeg
END:VEVENT
BEGIN:VEVENT
DTSTART;TZID=America/Vancouver:20221119T143000
DTEND;TZID=America/Vancouver:20221119T170000
DTSTAMP:20260425T084742
CREATED:20221101T031833Z
LAST-MODIFIED:20221101T051959Z
UID:10000075-1668868200-1668877200@ativancouver.ca
SUMMARY:काव्य मंच - कविता\, गीत\, ग़ज़ल (Kavya Manch - Kavita\, Geet\, Ghazal)
DESCRIPTION:काव्य मंच – कविता\, गीत\, ग़ज़ल – कविता स्वरचित हो सकती है अथवा किसी अन्य कवि द्वारा लिखित हो सकती हैं । \nIt’s a Free event by Hindi Literary Society of Canada\, BC. Please join us and enjoy poems\, songs\, and Ghazals with tea and snacks. \nPlease email hindiliterary.bc@gmail.com or call Acharya Dwivedi: 604-507-3099 or Reshma Misra: 604-351-5142 for participation or for more information .
URL:https://ativancouver.ca/event/kavya-manch-kavita-geet-ghazal/
LOCATION:BC
CATEGORIES:Community
ATTACH;FMTTYPE=image/png:https://ativancouver.ca/wp-content/uploads/2022/10/Kaavya-Manch.png
END:VEVENT
BEGIN:VEVENT
DTSTART;TZID=America/Vancouver:20221112T110000
DTEND;TZID=America/Vancouver:20221112T140000
DTSTAMP:20260425T084742
CREATED:20221101T052135Z
LAST-MODIFIED:20221101T052135Z
UID:10000076-1668250800-1668261600@ativancouver.ca
SUMMARY:Poetry Bash | Kavi Darbaar
DESCRIPTION:This is a poetry reading event celebrating all types of poetry\, in all Indian languages\, by established as well as emerging Indian poets residing in Greater Vancouver area. One of the chief purposes of the event is to bring the Indian community together and encourage people to share their poetic talents. The event is organized under the auspices of Lakshmi Narayan Mandir\, Surrey\, BC.
URL:https://ativancouver.ca/event/poetry-bash-kavi-darbaar/
LOCATION:Laxmi Narayan Mandir\, 8321 140 Street\, Surrey\, British Columbia\, V3W5K9\, Canada
CATEGORIES:Community
ATTACH;FMTTYPE=image/jpeg:https://ativancouver.ca/wp-content/uploads/2022/10/312430212_1097710650949376_1847118748110298974_n.jpg
END:VEVENT
BEGIN:VEVENT
DTSTART;TZID=America/Vancouver:20221109T233000
DTEND;TZID=America/Vancouver:20221109T233000
DTSTAMP:20260425T084742
CREATED:20221108T232915Z
LAST-MODIFIED:20221108T233030Z
UID:10000080-1668036600-1668036600@ativancouver.ca
SUMMARY:Watch Cricket with Indian Food @ Desi Turka
DESCRIPTION:Come Watch Live ICC T20 World Cup Semi Final Match between India and England. \nCheer up your favorite Team while watching together at Desi Turka Restaurant @ 7807 6th Street\, Burnaby. \nLimited Seats Only. \nCall @ 604-553-4511 for advanced booking \nCost $25 includes Indian Masala Tea\, Veggie Pakora and Biryani
URL:https://ativancouver.ca/event/watch-live-cricket-with-indian-food-desi-turka/
LOCATION:BC
CATEGORIES:Community,Food & Drink
ATTACH;FMTTYPE=image/png:https://ativancouver.ca/wp-content/uploads/2022/11/cricket-match-flyer-2.png
END:VEVENT
BEGIN:VEVENT
DTSTART;TZID=America/Vancouver:20221104T174500
DTEND;TZID=America/Vancouver:20221104T194500
DTSTAMP:20260425T084742
CREATED:20221027T153012Z
LAST-MODIFIED:20221027T160800Z
UID:10000072-1667583900-1667591100@ativancouver.ca
SUMMARY:Gigglez Club Open Mic (StandUp Comedy\, Poetry\, Storytelling and More)
DESCRIPTION:Gigglez Club is hosting an Open Mic event on Nov 4th \nStandup Comedy! Poetry! Storytelling! Singing! Music Instrument! Hindi\, English\, Punjabi\, Marathi…..All languages welcome! \nPerformers – Register Here: https://forms.gle/AdKjVWAdRBpqgpFW8\nAudience – RSVP here (Free Event): gigglezclubvan@gmail.com \nDate & Location: Nov 4th 2022 @ 5.45pm PST\, Punjab Bhawan\, 15453 Fraser Hwy\, Surrey\, BC V3R 3P6
URL:https://ativancouver.ca/event/gigglez-club-open-mic-standup-comedy-poetry-storytelling-and-more/
LOCATION:Punjab Bhawan\, 15453 Fraser Hwy\, Surrey\, BC V3R 3P6\, Surrey\, BC\, V3R 3P6\, Canada
CATEGORIES:Community,Hobbies,Performing & Visual Arts
ATTACH;FMTTYPE=image/jpeg:https://ativancouver.ca/wp-content/uploads/2022/10/To-Participate-httpst.lyt4qW.jpg
ORGANIZER;CN="Gigglez Club":MAILTO:gigglezclubvan@gmail.com
END:VEVENT
BEGIN:VEVENT
DTSTART;TZID=America/Vancouver:20221030T163000
DTEND;TZID=America/Vancouver:20221030T230000
DTSTAMP:20260425T084742
CREATED:20221018T201422Z
LAST-MODIFIED:20221020T023548Z
UID:10000066-1667147400-1667170800@ativancouver.ca
SUMMARY:Diwali Celebrations | Dinner with Entertainment
DESCRIPTION:Looking for Family Oriented Children Friendly Diwali Event? Join the Patel Community Association of British Columbia for Diwali Celebrations. Come and join with your family & friends to celebrate Diwali 2022 at the most affordable price. \n \nContacts for Tickets:\nPrinjal Patel – For Surrey / Langley / Delta – Contact : 6049926823 \nKetu Patel – for Burnaby \, Coquitlam and Port Coquitlam – Contact : 6042183729 \nAnish Patel – For Vancouver and North Vancouver – Contact : 7788281702
URL:https://ativancouver.ca/event/diwali-celebrations-dinner-with-entertainment/
LOCATION:Empire Banquet Hall\, Surrey\, 12888 80 Avenue\, Surrey\, British Columbia\, V3W 3A8\, Canada
CATEGORIES:Community
ATTACH;FMTTYPE=image/jpeg:https://ativancouver.ca/wp-content/uploads/2022/10/Diwali-Celebrations-by-Patel-Society-BC.jpg
ORGANIZER;CN="Patel Community Association of BC":MAILTO:kanpatel@shaw.ca
END:VEVENT
BEGIN:VEVENT
DTSTART;TZID=America/Vancouver:20221030T160000
DTEND;TZID=America/Vancouver:20221030T203000
DTSTAMP:20260425T084742
CREATED:20221019T231020Z
LAST-MODIFIED:20221019T231944Z
UID:10000067-1667145600-1667161800@ativancouver.ca
SUMMARY:Shubh Deepavali
DESCRIPTION:Diwali event organized by the Canadian Hindu Foundation in partnership with Manasvini\nGathering for Seniors and all Manasvini Members
URL:https://ativancouver.ca/event/shubh-deepavali/
LOCATION:BC
CATEGORIES:Community
ATTACH;FMTTYPE=image/jpeg:https://ativancouver.ca/wp-content/uploads/2022/10/Shubh-Deepavaliv2.jpg
ORGANIZER;CN="Manasvini Hindi Cultural Society":MAILTO:manasviniof2021@gmail.com
END:VEVENT
BEGIN:VEVENT
DTSTART;TZID=America/Vancouver:20221029T183000
DTEND;TZID=America/Vancouver:20221029T233000
DTSTAMP:20260425T084742
CREATED:20221026T163552Z
LAST-MODIFIED:20221026T163552Z
UID:10000071-1667068200-1667086200@ativancouver.ca
SUMMARY:Diwali 2022 Celebrations with UBC IGSA
DESCRIPTION:UBC Indian Graduate Students Association (IGSA) invites you to the most awaited event of the year. We welcome one and all to celebrate Diwali with an evening of music\, dinner\, games/activities and cultural performances. Be a part of the excitement\, feel the tradition and experience the flavour of India. Dance the night away to desi tunes from the DJ! \n************************************************************\nHIGHLIGHTS OF THE NIGHT:\n★ Games/activities\n★ Cultural performances\n★ Dance floor and DJ\n★ Gifts/Giveaways\n★A delicious Indian meal \nDATE & TIME: Saturday\, October 29th 2022 at 6:30 PM to 11 PM\n************************************************************\nPLACE:\nThea’s Lounge\n6371 Crescent Road\, GSS UBC\n************************************************************\nTICKETS:\nhttps://forms.gle/FASh2rNiGGotgUNW7 \nTickets are priced at:\n$20 for UBC graduate students\n$25 for others\n************************************************************ \n*The tickets are non-refundable and non-transferable*\n*This is a strictly no-alcohol event. We reserve the right to admission*\nMore details about the payment methods are in the form.\n************************************************************\n*Partially subsidized by GSS*
URL:https://ativancouver.ca/event/diwali-2022-celebrations-with-ubc-igsa/
LOCATION:Thea’s Lounge\, 6371 Crescent Road\, GSS\, UBC\, Vancouver\, British Columbia\, V6T 1Z2\, Canada
CATEGORIES:Community
ATTACH;FMTTYPE=image/jpeg:https://ativancouver.ca/wp-content/uploads/2022/10/Diwali-UBC-IGSA-2022.jpg
END:VEVENT
BEGIN:VEVENT
DTSTART;TZID=America/Vancouver:20221028T180000
DTEND;TZID=America/Vancouver:20221028T230000
DTSTAMP:20260425T084742
CREATED:20221008T030602Z
LAST-MODIFIED:20221020T011426Z
UID:10000062-1666980000-1666998000@ativancouver.ca
SUMMARY:Bharat Utsav by BKSP
DESCRIPTION:Mithas Aur Umang Bharat Utsav Ke Sang.. ‘Bharat Utsav’ a culmination of Bharatiya art\, culture\, civilization\, and literature presented by Bharatiya Kala Evam Sahitya Parishad (BKSP). \nAs per BKSP team\, all the profit from this event will go for the education of unprivileged and aadivaasee children who are been taught Indian culture and values. This time BKSP will be supporting Bal Vikas Vidyalaya\, Moradabad. \nOther Attractions:\n\nCultural Performances\nIndian Dance\nBharat Jano Quiz\nStreet Play\nDoor Prizes\nRaffle Draw\nDJ & Dance\nJewelry Stall\nDinner & Much more\n\n \n  \nDate & Time: Friday\, October 28th\, 2022; 6PM\nVenue: Khanna Banquet Hall\, Surrey\nTicket: Adult $40\, Kids (5-10 yrs) $30\, Below 5 yrs Free\nContact: E-transfer bkspcanada@gmail.com or call Dr Ajay Garg 604-362-2095\, Rachna Arora 604-657-9797\, Sonia Garcha 778-709-8084
URL:https://ativancouver.ca/event/bharat-utsav-by-bksp/
LOCATION:Khanna Banquet Hall\, Surrey\, 11267 125a St #201\, Surrey\, British Columbia\, V3V 8C5\, Canada
CATEGORIES:Community
ATTACH;FMTTYPE=image/jpeg:https://ativancouver.ca/wp-content/uploads/2022/10/Bharat_Utsav_BKSP_2022.jpg
ORGANIZER;CN="BKSP - Bharatiya Kala Evam Sahitya Parishad":MAILTO:bkspcanada@gmail.com
END:VEVENT
BEGIN:VEVENT
DTSTART;TZID=America/Vancouver:20221023T140000
DTEND;TZID=America/Vancouver:20221023T170000
DTSTAMP:20260425T084742
CREATED:20221011T184358Z
LAST-MODIFIED:20221011T184358Z
UID:10000063-1666533600-1666544400@ativancouver.ca
SUMMARY:Diwali Crafts for Children by CultureChats at the Diwalifest
DESCRIPTION:Free Community Event: Oct 16 and Oct 23 \nCulture Chats brings unique Diwali crafts for children on October 23rd as part of DiwaliFest. This is a free family event and all are welcome to join at the Roundhouse Community Arts and Recreation Center\, 181 Roundhouse Mews (Downtown)\, Vancouver.\nFounded as a community association celebrating multicultural arts\, Culture Chats BC Association also organizes free community dance workshops every year. \nThis year\, the dance workshop participants are also presenting their performance at the DiwaliFest celebrations on October 16th at the Surrey City Hall. \nPlease join Culture Chats at Surrey City Hall on October 16 at 2:00 pm PT and Oct 23 at 2:00 pm PT at the Roundhouse Community Arts and Recreation Centre\, Vancouver to enjoy the DiwaliFest with live performances and fun activities for the kids!\nDiwali Fest is an annual South Asian arts & culture festival\, produced by the Diwali Celebration Society \nContact: culturechats@gmail.com
URL:https://ativancouver.ca/event/diwali-crafts-for-children-by-culturechats-at-the-diwalifest/
LOCATION:BC
CATEGORIES:Community
ATTACH;FMTTYPE=image/jpeg:https://ativancouver.ca/wp-content/uploads/2022/10/DiwaliFest-CultureChats-scaled.jpg
END:VEVENT
BEGIN:VEVENT
DTSTART;TZID=America/Vancouver:20221023T100000
DTEND;TZID=America/Vancouver:20221023T140000
DTSTAMP:20260425T084742
CREATED:20221017T000532Z
LAST-MODIFIED:20221017T004254Z
UID:10000065-1666519200-1666533600@ativancouver.ca
SUMMARY:Diwali Mela at Hindu Temple Burnaby
DESCRIPTION:Diwali Mela at the Burnaby Hindu Temple on October 23\, 2022; 10 am-2 pm. Join with friends and family to enjoy the festivities.  There will be Food\, Sweets\, Stalls\, and much more.
URL:https://ativancouver.ca/event/diwali-mela-at-hindu-temple-burnaby/
LOCATION:Hindu Temple Burnaby\, 5420 Marine Dr\,\, Burnaby\, BC\, V5J 3G8\, Canada
CATEGORIES:Community
ATTACH;FMTTYPE=image/png:https://ativancouver.ca/wp-content/uploads/2022/10/Untitled-design.png
END:VEVENT
BEGIN:VEVENT
DTSTART;TZID=America/Vancouver:20221022T180000
DTEND;TZID=America/Vancouver:20221022T210000
DTSTAMP:20260425T084742
CREATED:20220928T200350Z
LAST-MODIFIED:20220928T200806Z
UID:10000056-1666461600-1666472400@ativancouver.ca
SUMMARY:Bhakthi Thiruvizha - Season-2
DESCRIPTION:Join us for Bhakti Thiruvizha on October 22\, 2022 at Michael J Fox Theatre in Burnaby. Thiruvizha is a Tamil word which means Festival or Carnival in English. This event consists of Song\, Dance and Live Music performances by local Vancouver artists. \nMany local dance schools & artists are going to participate in this event. Please join and support the local talent. \nPrice: $25 which includes food. Please visit https://bit.ly/3JSFPzy to purchase your tickets online or e-transfer $25 per person to aarabhi14@gmail.com
URL:https://ativancouver.ca/event/bhakthi-thiruvizha-season-2/
LOCATION:Michael J Fox Theatre\, 7373 MacPherson Avenue\, Burnaby\, BC\, V5J 0B2\, Canada
CATEGORIES:Community
ATTACH;FMTTYPE=image/jpeg:https://ativancouver.ca/wp-content/uploads/2022/09/Bhakthi-Thiruvizha-Season-2.jpeg
END:VEVENT
BEGIN:VEVENT
DTSTART;TZID=America/Vancouver:20221021T180000
DTEND;TZID=America/Vancouver:20221021T210000
DTSTAMP:20260425T084742
CREATED:20221006T224551Z
LAST-MODIFIED:20221006T224910Z
UID:10000061-1666375200-1666386000@ativancouver.ca
SUMMARY:Sewa Diwali Milan - Musical & Cultural Program with Dinner
DESCRIPTION:Sewa Diwali: Let’s celebrate this Diwali together with Friends and Families to re-live the blessing of togetherness. Let’s hold hands and light up Diyas to experience how the glow enlarges when celebration merges. We are celebrating mega Sewa Diwali in surrey\, BC with an aim to bring this diverse Hindu Community together and strengthen our mutual bond. Per Person charges $45 and anyone 7 years old and below has no fee to cover food\, cultural arrangements and venue expenses. So please come join us on Friday October 21st at Reflection Banquet & Convention Centre\, 6638\, 152A St. Surrey and become a part of this big family. \nSpecial note; This event is a no-alcohol and no-meat event. Also onion/garlic free food is available upon request. \nUtsav Timeline: \n6:00 PM to 7:00 PM – Socialization with chatapata Snacks- Meet and Greet\n7:00 PM to 9:00 PM – Cultural performances/games/Quiz\n9:00 PM to 10:00 PM – Dinner with a variety of Indian cuisine\n\nHow to pay & signup-up?: Please send the e-transfer amount to nahabccanada@gmail.com and complete the google form below.\n\nEvent Address:  Reflections Banquet & Convention center\, 6638 152A St\, Surrey\, BC V3S 5X5\n\nContact us at: 604) 442 5514 or write us to nahabccanada@gmail.com
URL:https://ativancouver.ca/event/sewa-diwali-milan-musical-cultural-program-with-dinner/
LOCATION:Reflections Banquet & Convention Center\, Surrey\, BC\, 6638 152A St\, Surrey\, British Columbia\, V3S 5X5\, Canada
CATEGORIES:Community
ATTACH;FMTTYPE=image/jpeg:https://ativancouver.ca/wp-content/uploads/2022/10/Sewa_Diwali_2022.jpg
END:VEVENT
BEGIN:VEVENT
DTSTART;TZID=America/Vancouver:20221014T193000
DTEND;TZID=America/Vancouver:20221014T230000
DTSTAMP:20260425T084742
CREATED:20221004T173412Z
LAST-MODIFIED:20221004T175502Z
UID:10000059-1665775800-1665788400@ativancouver.ca
SUMMARY:Hindi Standup Comedy | Laughter Therapy with Harmeet Singh
DESCRIPTION:Yuva Event Management brings to you the funniest Hindi/Punjabi Stand up Comedy artist Harmeet Singh Kohli for all Indians in Vancouver\, BC\n\nAbout this event:\n\n\n\n\nLive Stand Up Comedy act by none other than Harmeet Singh Kohli who knows how to tickle your funny bone. He has been favorite in Delhi and is now in Vancouver\, BC. \nShow time: 8.00 to 9.30 pm \nOpening act by: Rajnish Dhawan \nMain act by: Harmeet Kohli \nHosted by: Garima Sharma \nDJ for music and dance \nDoors open at 7.00 pm \nVenue: Eclipse Lounge at Hastings Racecourse\, Vancouver BC \n(Parking available at sight) \nAge: 19+ event \nFood and Drinks available for purchase at the venue. \nTicket Price: $20 per person. Purchase Tickets Online \nFor inquiries – Call 604-780-5192
URL:https://ativancouver.ca/event/hindi-standup-comedy-laughter-therapy-with-harmeet-singh/
LOCATION:Hastings Racecourse Lounge\, 188 N. Renfrew St.\, Vancouver\, British Columbia\, V5K 3N8\, Canada
CATEGORIES:Community
ATTACH;FMTTYPE=image/jpeg:https://ativancouver.ca/wp-content/uploads/2022/10/Hindi_Standup_Comedy_Event_Vancouver.jpg
END:VEVENT
BEGIN:VEVENT
DTSTART;TZID=America/Vancouver:20221009T200000
DTEND;TZID=America/Vancouver:20221009T233000
DTSTAMP:20260425T084742
CREATED:20220919T201229Z
LAST-MODIFIED:20221008T233524Z
UID:10000053-1665345600-1665358200@ativancouver.ca
SUMMARY:Raas Garba Ramzat 2022 by CDACC @ Bollywood Banquet Hall\, Surrey
DESCRIPTION:3 Day Raas Garba Ramzat Event. \nFirst Day on 7th October\,2022 @ Mirage Banquet Hall\, Surrey \nSecond Day on 8th October\,2022 @ Bollywood Banquet Hall\, Surrey \nThird Day on 9th October\, 2022 @ Bollywood Banquet Hall\, Surrey \nKids under 10 years – Free Entry. \nLimited Early Bird Tickets @ $15 \n(Door Price @ $20 ..Subject to availability). \nFood and Snacks will be available for purchase at nominal cost. \nComplementary Snacks also available from Various Food Supporters.
URL:https://ativancouver.ca/event/raas-garba-ramzat-2022-by-cdacc-bollywood-banquet-hall-surrey/
LOCATION:Bollywood Banquet Hall & Convention Centre Ltd\, 8166 128 St #201\, Surrey\, British Columbia\, V3W 1R1
CATEGORIES:Community
ATTACH;FMTTYPE=image/png:https://ativancouver.ca/wp-content/uploads/2022/09/Navratri-Garba-2022.png
END:VEVENT
BEGIN:VEVENT
DTSTART;TZID=America/Vancouver:20221007T200000
DTEND;TZID=America/Vancouver:20221007T233000
DTSTAMP:20260425T084742
CREATED:20220919T200807Z
LAST-MODIFIED:20220929T165714Z
UID:10000051-1665172800-1665185400@ativancouver.ca
SUMMARY:Raas Garba Ramzat 2022 by CDACC @ Mirage Banquet Hall\, Surrey
DESCRIPTION:3 Day Raas Garba Ramzat Event. \nFirst Day on 7th October\,2022 @ Mirage Banquet Hall\, Surrey \nSecond Day on 8th October\,2022 @ Bollywood Banquet Hall\, Surrey \nThird Day on 9th October\, 2022 @ Bollywood Banquet Hall\, Surrey \nKids under 10 years – Free Entry. \nLimited Early Bird Tickets @ $15 \n(Door Price @ $20 ..Subject to availability). \nFood and Snacks will be available for purchase at nominal cost. \nComplementary Snacks also available from Various Food Supporters.
URL:https://ativancouver.ca/event/raas-garba-ramzat-2022-by-cdacc/
LOCATION:Mirage Banquet Hall\, 17767 64 Ave\, Surrey\, British Columbia\, V3S 1Z2\, Canada
CATEGORIES:Community
ATTACH;FMTTYPE=image/png:https://ativancouver.ca/wp-content/uploads/2022/09/Navratri-Garba-2022.png
END:VEVENT
BEGIN:VEVENT
DTSTART;TZID=America/Vancouver:20221001T080000
DTEND;TZID=America/Vancouver:20221001T170000
DTSTAMP:20260425T084742
CREATED:20220925T010426Z
LAST-MODIFIED:20221008T233752Z
UID:10000003-1664611200-1664643600@ativancouver.ca
SUMMARY:Youth Employment Support for Canadian Newcomers
DESCRIPTION:New to Canada and looking for work?\nProgressive Intercultural Community Services (PICS) Society is offering free employment services for youth Canadian newcomers ages 15 – 30. \nWhat we offer: \n\nOne-on-one employment counselling\nJob search support and interview training\nResume and cover letter writing\nWorkshops on job search related topics\nEmployment program referrals\n\nEligibility \n\nPermanent Resident (PR) of Canada\nForeign citizen who has been selected to become a PR\nRefugee or Refugee Claimant\nProtected Person as defined in section 95 of the Immigration and Refugee Protection Act (IRPA)\n\n  \nRead more: https://pics.bc.ca/youth-employment-support-for-newcommers/
URL:https://ativancouver.ca/event/youth-employment-support-for-canadian-newcomers-2/
LOCATION:Online or in-person at PICS Surrey Head Office\, #205 - 12725 80 Avenue\, Surrey\, British Columbia\, V3W 3A6\, Canada
CATEGORIES:Community
ATTACH;FMTTYPE=image/jpeg:https://ativancouver.ca/wp-content/uploads/2022/09/Youth-Employment-Support-For-Canadian-Newcomers-ENG-scaled-1.jpg
END:VEVENT
BEGIN:VEVENT
DTSTART;TZID=America/Vancouver:20220930T200000
DTEND;TZID=America/Vancouver:20220930T230000
DTSTAMP:20260425T084742
CREATED:20220928T042637Z
LAST-MODIFIED:20220928T045034Z
UID:10000054-1664568000-1664578800@ativancouver.ca
SUMMARY:Garba Night in Metrotown\, Burnaby | Navratri 2022
DESCRIPTION:Plus91 Events presents the biggest Garba night in Metrotown\, Burnaby. The event is taking place at Bonsor Recreational Complex in Burnaby. Indian traditional wear is expected from all the attendees at this event. Come in ethnic wears and make this Navratri Festival\, a memorable one. \nEvent Highlights: Enjoy Live Orchestra | Lip-smacking refreshments |  Footsteps away from Metrotown Skytrain station | Exhibition stalls and so much more. \n \n\nAbout The Indian Festival Navratri:\n\n\nWe celebrate Navratri as an ode to Maa Durga – Her battle and win over the Asur Mahishasur is celebrated for 9 nights. We dance\, we sing and worship the divine power. It’s a win of good over evil\, light over darkness and marks a new beginning.
URL:https://ativancouver.ca/event/garba-night-in-metrotown-burnaby-navratri-2022/
LOCATION:BC
CATEGORIES:Community
ATTACH;FMTTYPE=image/png:https://ativancouver.ca/wp-content/uploads/2022/09/Garba-Night-in-Burnaby-BC.png
END:VEVENT
END:VCALENDAR