BEGIN:VCALENDAR
VERSION:2.0
PRODID:-//ATI Vancouver - ECPv6.15.16//NONSGML v1.0//EN
CALSCALE:GREGORIAN
METHOD:PUBLISH
X-WR-CALNAME:ATI Vancouver
X-ORIGINAL-URL:https://ativancouver.ca
X-WR-CALDESC:Events for ATI Vancouver
REFRESH-INTERVAL;VALUE=DURATION:PT1H
X-Robots-Tag:noindex
X-PUBLISHED-TTL:PT1H
BEGIN:VTIMEZONE
TZID:America/Vancouver
BEGIN:DAYLIGHT
TZOFFSETFROM:-0800
TZOFFSETTO:-0700
TZNAME:PDT
DTSTART:20220313T100000
END:DAYLIGHT
BEGIN:STANDARD
TZOFFSETFROM:-0700
TZOFFSETTO:-0800
TZNAME:PST
DTSTART:20221106T090000
END:STANDARD
BEGIN:DAYLIGHT
TZOFFSETFROM:-0800
TZOFFSETTO:-0700
TZNAME:PDT
DTSTART:20230312T100000
END:DAYLIGHT
BEGIN:STANDARD
TZOFFSETFROM:-0700
TZOFFSETTO:-0800
TZNAME:PST
DTSTART:20231105T090000
END:STANDARD
BEGIN:DAYLIGHT
TZOFFSETFROM:-0800
TZOFFSETTO:-0700
TZNAME:PDT
DTSTART:20240310T100000
END:DAYLIGHT
BEGIN:STANDARD
TZOFFSETFROM:-0700
TZOFFSETTO:-0800
TZNAME:PST
DTSTART:20241103T090000
END:STANDARD
END:VTIMEZONE
BEGIN:VEVENT
DTSTART;TZID=America/Vancouver:20230222T190000
DTEND;TZID=America/Vancouver:20230222T200000
DTSTAMP:20260419T153349
CREATED:20230208T081540Z
LAST-MODIFIED:20230208T081627Z
UID:3607-1677092400-1677096000@ativancouver.ca
SUMMARY:Workshop on Depression Awareness and Management organised by ' I for Peace a social Initiative
DESCRIPTION:**I for Peace** \, a social Initiative and a cause work towards Mental health\, holistic wellness for a peaceful life!! \nUnder the initiative\,\npresenting online free workshop on\n‘Depression Awareness and management’ \nDate- 22nd February\, 7-8 pm \nOn zoom \nPlease contact at 236-867-5216 to register for the workshop \nThank you\nPriya Seetharaman\nFounder\n+1 236-867-5216
URL:https://ativancouver.ca/event/workshop-on-depression-awareness-and-management-organised-by-i-for-peace-a-social-initiative-2/
LOCATION:Online Via Zoom\, Canada
CATEGORIES:Health
ATTACH;FMTTYPE=image/png:https://ativancouver.ca/wp-content/uploads/2023/02/20230207_091452_0000.png
END:VEVENT
END:VCALENDAR