BEGIN:VCALENDAR
VERSION:2.0
PRODID:-//ATI Vancouver - ECPv6.15.16//NONSGML v1.0//EN
CALSCALE:GREGORIAN
METHOD:PUBLISH
X-WR-CALNAME:ATI Vancouver
X-ORIGINAL-URL:https://ativancouver.ca
X-WR-CALDESC:Events for ATI Vancouver
REFRESH-INTERVAL;VALUE=DURATION:PT1H
X-Robots-Tag:noindex
X-PUBLISHED-TTL:PT1H
BEGIN:VTIMEZONE
TZID:America/Vancouver
BEGIN:DAYLIGHT
TZOFFSETFROM:-0800
TZOFFSETTO:-0700
TZNAME:PDT
DTSTART:20250309T100000
END:DAYLIGHT
BEGIN:STANDARD
TZOFFSETFROM:-0700
TZOFFSETTO:-0800
TZNAME:PST
DTSTART:20251102T090000
END:STANDARD
BEGIN:DAYLIGHT
TZOFFSETFROM:-0800
TZOFFSETTO:-0700
TZNAME:PDT
DTSTART:20260308T100000
END:DAYLIGHT
BEGIN:STANDARD
TZOFFSETFROM:-0700
TZOFFSETTO:-0800
TZNAME:PST
DTSTART:20261101T090000
END:STANDARD
BEGIN:DAYLIGHT
TZOFFSETFROM:-0800
TZOFFSETTO:-0700
TZNAME:PDT
DTSTART:20270314T100000
END:DAYLIGHT
BEGIN:STANDARD
TZOFFSETFROM:-0700
TZOFFSETTO:-0800
TZNAME:PST
DTSTART:20271107T090000
END:STANDARD
END:VTIMEZONE
BEGIN:VEVENT
DTSTART;TZID=America/Vancouver:20260307T173000
DTEND;TZID=America/Vancouver:20260307T220000
DTSTAMP:20260421T012442
CREATED:20260218T185822Z
LAST-MODIFIED:20260302T051742Z
UID:12603-1772904600-1772920800@ativancouver.ca
SUMMARY:Vasant Utsav 2026 by Vivek Canada
DESCRIPTION:Vasant Utsav is going to be a celebration of community by Vivek Canada this March\, and this year is extra special as they joyfully celebrate their 20th anniversary! \n🎟️ Tickets available at vivekcanada.org\n📅 Saturday\, March 7\n📍 Empire Banquet Hall\, Surrey \nJoin Vivek Canada in welcoming the vibrant season of spring with music\, culture\, community\, and heartfelt connection. \nVasant Utsav where tradition meets transformation. The event brings together dance\, music\, art\, storytelling\, and inspiring voices to reflect on two decades of impact in education\, rural development\, and sustainability. The vibrant evening will feature appetizers\, dinner and live music. Buy your tickets online \nAbout Vivek Canada:\nVivek Canada\, a registered charity since 2006\, provides free primary education to children living in the Pilibhit Tiger Reserve area of Uttar Pradesh\, India. The organization operates schools in remote villages lacking electricity and proper roads\, aiming to improve the standard of living for these children and their families. Please visit their website to know more.
URL:https://ativancouver.ca/event/vasant-utsav-2026-by-vivek-canada/
LOCATION:Empire Banquet Hall\, Surrey\, 12888 80 Avenue\, Surrey\, British Columbia\, V3W 3A8\, Canada
CATEGORIES:Community
ATTACH;FMTTYPE=image/jpeg:https://ativancouver.ca/wp-content/uploads/2026/02/vivek-canada-vasant-utsav-2026.jpeg
END:VEVENT
END:VCALENDAR