BEGIN:VCALENDAR
VERSION:2.0
PRODID:-//ATI Vancouver - ECPv6.15.16//NONSGML v1.0//EN
CALSCALE:GREGORIAN
METHOD:PUBLISH
X-WR-CALNAME:ATI Vancouver
X-ORIGINAL-URL:https://ativancouver.ca
X-WR-CALDESC:Events for ATI Vancouver
REFRESH-INTERVAL;VALUE=DURATION:PT1H
X-Robots-Tag:noindex
X-PUBLISHED-TTL:PT1H
BEGIN:VTIMEZONE
TZID:America/Vancouver
BEGIN:DAYLIGHT
TZOFFSETFROM:-0800
TZOFFSETTO:-0700
TZNAME:PDT
DTSTART:20230312T100000
END:DAYLIGHT
BEGIN:STANDARD
TZOFFSETFROM:-0700
TZOFFSETTO:-0800
TZNAME:PST
DTSTART:20231105T090000
END:STANDARD
BEGIN:DAYLIGHT
TZOFFSETFROM:-0800
TZOFFSETTO:-0700
TZNAME:PDT
DTSTART:20240310T100000
END:DAYLIGHT
BEGIN:STANDARD
TZOFFSETFROM:-0700
TZOFFSETTO:-0800
TZNAME:PST
DTSTART:20241103T090000
END:STANDARD
BEGIN:DAYLIGHT
TZOFFSETFROM:-0800
TZOFFSETTO:-0700
TZNAME:PDT
DTSTART:20250309T100000
END:DAYLIGHT
BEGIN:STANDARD
TZOFFSETFROM:-0700
TZOFFSETTO:-0800
TZNAME:PST
DTSTART:20251102T090000
END:STANDARD
END:VTIMEZONE
BEGIN:VEVENT
DTSTART;TZID=America/Vancouver:20240323T103000
DTEND;TZID=America/Vancouver:20240323T140000
DTSTAMP:20260424T123911
CREATED:20240228T222739Z
LAST-MODIFIED:20240228T222739Z
UID:6561-1711189800-1711202400@ativancouver.ca
SUMMARY:Tri Cities Holi Get Together
DESCRIPTION:Eventival is organizing a community Holi get-together on 23rd March 2024 at Picnic Shelter\, Lions Park\, Port Coquitlam from 10.30 AM to 2 PM. \nTickets – 25 CAD for 10 years & above\nBelow 10 yrs old – Free\nIncludes – Lunch ( 2 Veg Appetizers\, 1 Veg Main\, Yummy\, Gujiya and Masala Chai) and Colors \nFor tickets and sponsorship enquires pls contact @ 7789515172\, 7782460929 \nPlease note we have limited capacity.
URL:https://ativancouver.ca/event/tri-cities-holi-get-together/
LOCATION:2300 Lions Way\, Port Coquitlam\, BC V3C 2A8\, 2300 Lions Way\, Port Coquitlam\, BC\, V3C 2A8
CATEGORIES:Community
ATTACH;FMTTYPE=image/jpeg:https://ativancouver.ca/wp-content/uploads/2024/02/holi.jpg
ORGANIZER;CN="Eventival":MAILTO:eventivalholdings@gmail.com
END:VEVENT
END:VCALENDAR