BEGIN:VCALENDAR
VERSION:2.0
PRODID:-//ATI Vancouver - ECPv6.15.16//NONSGML v1.0//EN
CALSCALE:GREGORIAN
METHOD:PUBLISH
X-WR-CALNAME:ATI Vancouver
X-ORIGINAL-URL:https://ativancouver.ca
X-WR-CALDESC:Events for ATI Vancouver
REFRESH-INTERVAL;VALUE=DURATION:PT1H
X-Robots-Tag:noindex
X-PUBLISHED-TTL:PT1H
BEGIN:VTIMEZONE
TZID:America/Vancouver
BEGIN:DAYLIGHT
TZOFFSETFROM:-0800
TZOFFSETTO:-0700
TZNAME:PDT
DTSTART:20220313T100000
END:DAYLIGHT
BEGIN:STANDARD
TZOFFSETFROM:-0700
TZOFFSETTO:-0800
TZNAME:PST
DTSTART:20221106T090000
END:STANDARD
BEGIN:DAYLIGHT
TZOFFSETFROM:-0800
TZOFFSETTO:-0700
TZNAME:PDT
DTSTART:20230312T100000
END:DAYLIGHT
BEGIN:STANDARD
TZOFFSETFROM:-0700
TZOFFSETTO:-0800
TZNAME:PST
DTSTART:20231105T090000
END:STANDARD
BEGIN:DAYLIGHT
TZOFFSETFROM:-0800
TZOFFSETTO:-0700
TZNAME:PDT
DTSTART:20240310T100000
END:DAYLIGHT
BEGIN:STANDARD
TZOFFSETFROM:-0700
TZOFFSETTO:-0800
TZNAME:PST
DTSTART:20241103T090000
END:STANDARD
END:VTIMEZONE
BEGIN:VEVENT
DTSTART;TZID=America/Vancouver:20230312T180000
DTEND;TZID=America/Vancouver:20230312T230000
DTSTAMP:20260419T172757
CREATED:20230117T220646Z
LAST-MODIFIED:20230208T071448Z
UID:3335-1678644000-1678662000@ativancouver.ca
SUMMARY:The Legends in Vancouver
DESCRIPTION:KVP Entertainers presents The Legends – A Musical Tribute to Shammi Kapoor\, Dev Anand & Rajendra Kumar\nSIXTIES was the ‘ Golden Era Of Hindi Film Music ‘ and Shammi Kapoor \, Dev Anand & Rajendra Kumar were the most popular film stars with almost every song picturized on them still playing and appreciated even today . Be it Mohammed Rafi \, Kishore Kumar \, Lata Mangeshkar \, Asha Bhosle \, Mukesh or Hemant Kumar \, all songs sung by them are still the choice of generations and that’s why KVP ENTERTAINERS first offering of 2023 is a tribute to THE LEGENDS \, whose music will come alive on SUNDAY \, MARCH 12th\,2023 at 6 PM at the MASSEY THEATRE \, NEW WESTMINSTER for what promises to be the ‘ First Bollywood Concert of 2023 ‘ . The much respected and highly talented Singer \, Composer & Arranger JOLLY MUKHERJEE is bringing some of the finest Bollywood singers like SARRIKA SINGH \, SHRIKANT NARAYAN & P.GANESH \, along with the very well known musicians to take you back to the memories of the favourite stars and recreate those evergreen songs which will make you sing \, cry and dance during the three hour long concert. \nThe Legends in Vancouver\nTickets at $ 22\,32 \, 42 \, 52 & VIP are now available at KVP Entertainers ( #207-8268-120 St.\, Surrey ) or call Kamal Sharma at (604)833-1977 and can be bought online from www.ticketsnw.ca or call (604)521-5050 \nTHE LEGENDS IN VANCOUVER\nMassey Theatre\n735-8th Ave.\, New Westminster\nV3M 2R2 (604)521-5050 \n 
URL:https://ativancouver.ca/event/the-legends-in-vancouver/
LOCATION:Massey Theatre New Westminster\, 735 8th Ave\, New Westminster\, British Columbia\, V3M 2R2\, Canada
CATEGORIES:Community,Music,Performing & Visual Arts
ATTACH;FMTTYPE=image/jpeg:https://ativancouver.ca/wp-content/uploads/2023/01/the_legends_in_vancouver_cover.jpg
ORGANIZER;CN="KVP Entertainers":MAILTO:kvp_kamal@msn.com
END:VEVENT
END:VCALENDAR