BEGIN:VCALENDAR
VERSION:2.0
PRODID:-//ATI Vancouver - ECPv6.15.16//NONSGML v1.0//EN
CALSCALE:GREGORIAN
METHOD:PUBLISH
X-WR-CALNAME:ATI Vancouver
X-ORIGINAL-URL:https://ativancouver.ca
X-WR-CALDESC:Events for ATI Vancouver
REFRESH-INTERVAL;VALUE=DURATION:PT1H
X-Robots-Tag:noindex
X-PUBLISHED-TTL:PT1H
BEGIN:VTIMEZONE
TZID:America/Vancouver
BEGIN:DAYLIGHT
TZOFFSETFROM:-0800
TZOFFSETTO:-0700
TZNAME:PDT
DTSTART:20240310T100000
END:DAYLIGHT
BEGIN:STANDARD
TZOFFSETFROM:-0700
TZOFFSETTO:-0800
TZNAME:PST
DTSTART:20241103T090000
END:STANDARD
BEGIN:DAYLIGHT
TZOFFSETFROM:-0800
TZOFFSETTO:-0700
TZNAME:PDT
DTSTART:20250309T100000
END:DAYLIGHT
BEGIN:STANDARD
TZOFFSETFROM:-0700
TZOFFSETTO:-0800
TZNAME:PST
DTSTART:20251102T090000
END:STANDARD
BEGIN:DAYLIGHT
TZOFFSETFROM:-0800
TZOFFSETTO:-0700
TZNAME:PDT
DTSTART:20260308T100000
END:DAYLIGHT
BEGIN:STANDARD
TZOFFSETFROM:-0700
TZOFFSETTO:-0800
TZNAME:PST
DTSTART:20261101T090000
END:STANDARD
END:VTIMEZONE
BEGIN:VEVENT
DTSTART;TZID=America/Vancouver:20251018T170000
DTEND;TZID=America/Vancouver:20251018T190000
DTSTAMP:20260424T124037
CREATED:20250915T191740Z
LAST-MODIFIED:20250915T191740Z
UID:11535-1760806800-1760814000@ativancouver.ca
SUMMARY:The Journey Within | Sri Sri Guru Ravi Shankar in Vancouver\, Canada
DESCRIPTION:Meet Gurudev in Vancouver for a Journey Within \nTICKETS NOW OPEN – Exclusive Early Access \nDate: October 18 | 5:00 – 7:00 PM\nVenue: Vancouver Convention Centre\nTickets: Buy Now \nMore About The Journey Within\nAs one of the world’s most respected voices in meditation and mindfulness\, Gurudev Sri Sri Ravi Shankar is known for his warmth\, humour\, and practical wisdom. This special evening will be a one-of-a-kind experience that combines meditation\, life wisdom\, and much more with Gurudev. \nThe experience will leave you inspired\, uplifted\, and forever changed. \nBuy Tickets Now
URL:https://ativancouver.ca/event/the-journey-within-sri-sri-guru-ravi-shankar-in-vancouver-canada/
LOCATION:Vancouver Convention Centre\, Canada
CATEGORIES:Community
ATTACH;FMTTYPE=image/jpeg:https://ativancouver.ca/wp-content/uploads/2025/09/849636d2-243e-4723-87e5-410d6774925f.jpg
END:VEVENT
END:VCALENDAR