BEGIN:VCALENDAR
VERSION:2.0
PRODID:-//ATI Vancouver - ECPv6.15.16//NONSGML v1.0//EN
CALSCALE:GREGORIAN
METHOD:PUBLISH
X-WR-CALNAME:ATI Vancouver
X-ORIGINAL-URL:https://ativancouver.ca
X-WR-CALDESC:Events for ATI Vancouver
REFRESH-INTERVAL;VALUE=DURATION:PT1H
X-Robots-Tag:noindex
X-PUBLISHED-TTL:PT1H
BEGIN:VTIMEZONE
TZID:America/Vancouver
BEGIN:DAYLIGHT
TZOFFSETFROM:-0800
TZOFFSETTO:-0700
TZNAME:PDT
DTSTART:20230312T100000
END:DAYLIGHT
BEGIN:STANDARD
TZOFFSETFROM:-0700
TZOFFSETTO:-0800
TZNAME:PST
DTSTART:20231105T090000
END:STANDARD
BEGIN:DAYLIGHT
TZOFFSETFROM:-0800
TZOFFSETTO:-0700
TZNAME:PDT
DTSTART:20240310T100000
END:DAYLIGHT
BEGIN:STANDARD
TZOFFSETFROM:-0700
TZOFFSETTO:-0800
TZNAME:PST
DTSTART:20241103T090000
END:STANDARD
BEGIN:DAYLIGHT
TZOFFSETFROM:-0800
TZOFFSETTO:-0700
TZNAME:PDT
DTSTART:20250309T100000
END:DAYLIGHT
BEGIN:STANDARD
TZOFFSETFROM:-0700
TZOFFSETTO:-0800
TZNAME:PST
DTSTART:20251102T090000
END:STANDARD
END:VTIMEZONE
BEGIN:VEVENT
DTSTART;TZID=America/Vancouver:20241122T190000
DTEND;TZID=America/Vancouver:20241122T210000
DTSTAMP:20260424T145104
CREATED:20241113T013522Z
LAST-MODIFIED:20241113T013522Z
UID:8815-1732302000-1732309200@ativancouver.ca
SUMMARY:Sunny Matharu Trio
DESCRIPTION:PoMoArts and the Vancouver Intercultural Orchestra are proud to present the Sunny Matharu Trio as part of the PoMoArts Concert Series. \nGrowing up in a musical family\, Sunny began his training in Tabla at a very young age. To this day\, he continues to learn under the guidance of Tabla maestro Pandit Yogesh Samsi\, one of the foremost tabla players of the Punjab Gharana. Over the last 20 years\, Sunny has accompanied numerous musicians from around the world including many world-renowned musicians from the Indian Classical music tradition. For this concert Sunny will be joined by Sharanjeet Mand on Sitar and Nirmal Nair on Bansari Flute. This will be an evening not to be missed! \nTickets include one glass of wine from Peller Estates and light appetizers
URL:https://ativancouver.ca/event/sunny-matharu-trio-2/
LOCATION:PoMoArts\, 2425 St.John's Street\, Port Moody\, BC\, V3H 2B2\, Canada
CATEGORIES:Music,Performing & Visual Arts
ATTACH;FMTTYPE=image/png:https://ativancouver.ca/wp-content/uploads/2024/11/sunny-matharu-trio-instagram.png
ORGANIZER;CN="PoMoArts":MAILTO:info@pomoarts.ca
END:VEVENT
END:VCALENDAR