BEGIN:VCALENDAR
VERSION:2.0
PRODID:-//ATI Vancouver - ECPv6.15.16//NONSGML v1.0//EN
CALSCALE:GREGORIAN
METHOD:PUBLISH
X-WR-CALNAME:ATI Vancouver
X-ORIGINAL-URL:https://ativancouver.ca
X-WR-CALDESC:Events for ATI Vancouver
REFRESH-INTERVAL;VALUE=DURATION:PT1H
X-Robots-Tag:noindex
X-PUBLISHED-TTL:PT1H
BEGIN:VTIMEZONE
TZID:America/Vancouver
BEGIN:DAYLIGHT
TZOFFSETFROM:-0800
TZOFFSETTO:-0700
TZNAME:PDT
DTSTART:20240310T100000
END:DAYLIGHT
BEGIN:STANDARD
TZOFFSETFROM:-0700
TZOFFSETTO:-0800
TZNAME:PST
DTSTART:20241103T090000
END:STANDARD
BEGIN:DAYLIGHT
TZOFFSETFROM:-0800
TZOFFSETTO:-0700
TZNAME:PDT
DTSTART:20250309T100000
END:DAYLIGHT
BEGIN:STANDARD
TZOFFSETFROM:-0700
TZOFFSETTO:-0800
TZNAME:PST
DTSTART:20251102T090000
END:STANDARD
BEGIN:DAYLIGHT
TZOFFSETFROM:-0800
TZOFFSETTO:-0700
TZNAME:PDT
DTSTART:20260308T100000
END:DAYLIGHT
BEGIN:STANDARD
TZOFFSETFROM:-0700
TZOFFSETTO:-0800
TZNAME:PST
DTSTART:20261101T090000
END:STANDARD
END:VTIMEZONE
BEGIN:VEVENT
DTSTART;TZID=America/Vancouver:20251123T170000
DTEND;TZID=America/Vancouver:20251123T200000
DTSTAMP:20260424T202831
CREATED:20250727T183015Z
LAST-MODIFIED:20251113T040932Z
UID:10051-1763917200-1763928000@ativancouver.ca
SUMMARY:'Shubham Bhavatu' - Dance as Blessing
DESCRIPTION:A mesmerizing confluence of three dancing rivers\, rooted in tradition yet flowing with innovation\, ‘Shubham Bhavatu’ brings together the distinct styles of Kathak through the artistry of Puneet Singh\, Akshaya Surve\, and Fiana Kawane\, a poetic journey of movement\, color\, and expression. \nSet against captivating art projections\, this performance celebrates\, weaving of Rasa (emotion)\, Kala (art)\, and Bhava (expression) into a rich visual and sensory experience. “Shubham Bhavatu” celebrates Kathak as a sacred\, living artform flourishing across Canada. Classical Indian Arts championed by Spice Radio\, KVP Heritage\, ATI Vancouver\, ICA Vancouver and The Bandish Network. \nBuy Your Tickets
URL:https://ativancouver.ca/event/shubham-bhavatu-dance-as-blessing/
LOCATION:Evergreen Cultural Centre\, 1205 Pinetree Way\, Coquitlam BC\, V3B 7Y3\, Coquitlam\, BC\, V3B 7Z4\, Canada
CATEGORIES:Community,Music,Performing & Visual Arts
ATTACH;FMTTYPE=image/jpeg:https://ativancouver.ca/wp-content/uploads/2025/07/shubham-bhavatu-ati-vancouver.jpg
ORGANIZER;CN="The Bandish Network":MAILTO:buddhdevnina@gmail.com
END:VEVENT
END:VCALENDAR