BEGIN:VCALENDAR
VERSION:2.0
PRODID:-//ATI Vancouver - ECPv6.15.16//NONSGML v1.0//EN
CALSCALE:GREGORIAN
METHOD:PUBLISH
X-WR-CALNAME:ATI Vancouver
X-ORIGINAL-URL:https://ativancouver.ca
X-WR-CALDESC:Events for ATI Vancouver
REFRESH-INTERVAL;VALUE=DURATION:PT1H
X-Robots-Tag:noindex
X-PUBLISHED-TTL:PT1H
BEGIN:VTIMEZONE
TZID:America/Vancouver
BEGIN:DAYLIGHT
TZOFFSETFROM:-0800
TZOFFSETTO:-0700
TZNAME:PDT
DTSTART:20250309T100000
END:DAYLIGHT
BEGIN:STANDARD
TZOFFSETFROM:-0700
TZOFFSETTO:-0800
TZNAME:PST
DTSTART:20251102T090000
END:STANDARD
BEGIN:DAYLIGHT
TZOFFSETFROM:-0800
TZOFFSETTO:-0700
TZNAME:PDT
DTSTART:20260308T100000
END:DAYLIGHT
BEGIN:STANDARD
TZOFFSETFROM:-0700
TZOFFSETTO:-0800
TZNAME:PST
DTSTART:20261101T090000
END:STANDARD
BEGIN:DAYLIGHT
TZOFFSETFROM:-0800
TZOFFSETTO:-0700
TZNAME:PDT
DTSTART:20270314T100000
END:DAYLIGHT
BEGIN:STANDARD
TZOFFSETFROM:-0700
TZOFFSETTO:-0800
TZNAME:PST
DTSTART:20271107T090000
END:STANDARD
END:VTIMEZONE
BEGIN:VEVENT
DTSTART;TZID=America/Vancouver:20260322T120000
DTEND;TZID=America/Vancouver:20260322T140000
DTSTAMP:20260424T185924
CREATED:20260318T171254Z
LAST-MODIFIED:20260318T171254Z
UID:12731-1774180800-1774188000@ativancouver.ca
SUMMARY:Sexual Health Education Workshop for Migrant Parents/Caregivers/Guardians
DESCRIPTION:This workshop is for parents and guardians who want to feel more comfortable talking with their children about sexual health and understand what youth are learning in schools. We’ll cover consent\, healthy relationships\, gender and identity\, sex and the law\, and rights and protections. Sessions are interactive with plenty of time for questions\, and anonymous questions are also welcome. Interpreter services are available upon request\, and participants may complete a short feedback survey for a $20 honorarium. Our educator is a certified sexual health educator from Options for Sexual Health in BC\, and these workshops are offered across Canada.
URL:https://ativancouver.ca/event/sexual-health-education-workshop-for-migrant-parents-caregivers-guardians/
LOCATION:Online Via Zoom\, Canada
CATEGORIES:Health,Information Session
ATTACH;FMTTYPE=image/jpeg:https://ativancouver.ca/wp-content/uploads/2026/03/mar-22_hms_hindi_parent_recruitment_poster_2025_oct-2-2025-v2.pdf.jpg
ORGANIZER;CN="Hindu Mahila Cultural Society of BC":MAILTO:hmahila.society@gmail.com
END:VEVENT
END:VCALENDAR