BEGIN:VCALENDAR
VERSION:2.0
PRODID:-//ATI Vancouver - ECPv6.15.16//NONSGML v1.0//EN
CALSCALE:GREGORIAN
METHOD:PUBLISH
X-WR-CALNAME:ATI Vancouver
X-ORIGINAL-URL:https://ativancouver.ca
X-WR-CALDESC:Events for ATI Vancouver
REFRESH-INTERVAL;VALUE=DURATION:PT1H
X-Robots-Tag:noindex
X-PUBLISHED-TTL:PT1H
BEGIN:VTIMEZONE
TZID:America/Vancouver
BEGIN:DAYLIGHT
TZOFFSETFROM:-0800
TZOFFSETTO:-0700
TZNAME:PDT
DTSTART:20220313T100000
END:DAYLIGHT
BEGIN:STANDARD
TZOFFSETFROM:-0700
TZOFFSETTO:-0800
TZNAME:PST
DTSTART:20221106T090000
END:STANDARD
BEGIN:DAYLIGHT
TZOFFSETFROM:-0800
TZOFFSETTO:-0700
TZNAME:PDT
DTSTART:20230312T100000
END:DAYLIGHT
BEGIN:STANDARD
TZOFFSETFROM:-0700
TZOFFSETTO:-0800
TZNAME:PST
DTSTART:20231105T090000
END:STANDARD
BEGIN:DAYLIGHT
TZOFFSETFROM:-0800
TZOFFSETTO:-0700
TZNAME:PDT
DTSTART:20240310T100000
END:DAYLIGHT
BEGIN:STANDARD
TZOFFSETFROM:-0700
TZOFFSETTO:-0800
TZNAME:PST
DTSTART:20241103T090000
END:STANDARD
END:VTIMEZONE
BEGIN:VEVENT
DTSTART;TZID=America/Vancouver:20230129T170000
DTEND;TZID=America/Vancouver:20230129T213000
DTSTAMP:20260421T070157
CREATED:20230127T185627Z
LAST-MODIFIED:20230127T234317Z
UID:3446-1675011600-1675027800@ativancouver.ca
SUMMARY:Seniors Event: An Evening of Poetry\, Singing\, & Games
DESCRIPTION:Join our Seniors to celebrate an evening of poetry\, singing and games presented by members of Manasvini \nThis event is organized by Canadian Hindu Foundation (CHF) \nThe event is free but registration is required. \nPlease check the flyer for details
URL:https://ativancouver.ca/event/seniors-event-an-evening-of-poetry-singing-games/
CATEGORIES:Community
ATTACH;FMTTYPE=image/jpeg:https://ativancouver.ca/wp-content/uploads/2023/01/flyer-senors-event-2023-03-03-2-scaled.jpg
ORGANIZER;CN="Manasvini Hindi Cultural Society":MAILTO:manasviniof2021@gmail.com
END:VEVENT
END:VCALENDAR